BEGIN:VCALENDAR
VERSION:2.0
PRODID:-//Niedersächsische LandNews - ECPv6.15.20//NONSGML v1.0//EN
CALSCALE:GREGORIAN
METHOD:PUBLISH
X-WR-CALNAME:Niedersächsische LandNews
X-ORIGINAL-URL:https://niedersachsen.stadtlandnews.com
X-WR-CALDESC:Veranstaltungen für Niedersächsische LandNews
REFRESH-INTERVAL;VALUE=DURATION:PT1H
X-Robots-Tag:noindex
X-PUBLISHED-TTL:PT1H
BEGIN:VTIMEZONE
TZID:Europe/Berlin
BEGIN:DAYLIGHT
TZOFFSETFROM:+0100
TZOFFSETTO:+0200
TZNAME:CEST
DTSTART:20250330T010000
END:DAYLIGHT
BEGIN:STANDARD
TZOFFSETFROM:+0200
TZOFFSETTO:+0100
TZNAME:CET
DTSTART:20251026T010000
END:STANDARD
BEGIN:DAYLIGHT
TZOFFSETFROM:+0100
TZOFFSETTO:+0200
TZNAME:CEST
DTSTART:20260329T010000
END:DAYLIGHT
BEGIN:STANDARD
TZOFFSETFROM:+0200
TZOFFSETTO:+0100
TZNAME:CET
DTSTART:20261025T010000
END:STANDARD
BEGIN:DAYLIGHT
TZOFFSETFROM:+0100
TZOFFSETTO:+0200
TZNAME:CEST
DTSTART:20270328T010000
END:DAYLIGHT
BEGIN:STANDARD
TZOFFSETFROM:+0200
TZOFFSETTO:+0100
TZNAME:CET
DTSTART:20271031T010000
END:STANDARD
END:VTIMEZONE
BEGIN:VEVENT
DTSTART;TZID=Europe/Berlin:20260101T000100
DTEND;TZID=Europe/Berlin:20261231T235900
DTSTAMP:20260420T020039
CREATED:20260107T101608Z
LAST-MODIFIED:20260107T102204Z
UID:61741-1767225660-1798761540@niedersachsen.stadtlandnews.com
SUMMARY:ACHTUNG: VERANSTALTUNGEN NUR TAGEWEISE EINSTELLEN!
DESCRIPTION:Guten Tag aus Zetel\, Bockhorn\, Varel. \nWir beobachten\, dass immer wieder Veranstaltungen\, die an einzelnen Tagen stattfinden\, über einen gesamten\, längeren Zeitraum eingestellt werden\, innerhalb dessen diese Veranstaltungen stattfinden. \nDamit wir StadtLand-Funk weiterhin in gewohnter und nützlicher Form zur Verfügung stellen zu können und um den Nutzwert hoch zu halten\, bitten wir darum\, nur einzelne Veranstaltungstage/-zeiträume einzustellen\, wenn die Veranstaltung nicht durchgängig stattfindet! Wir müssen die Beiträge ansonsten löschen (lassen). \nExemplarische Beispiele:  \nEin Zeteler Markt wird nicht vom 7. bis 11. November eingetragen\, sondern die einzelnen Tage sind einzutragen. \nAcht Yoga-Sitzungen im Monat sind an den einzelnen Tagen einzustellen und nicht der gesamte Monat vom 1. bis 31. \nRegelmäßige Skat-Termine im Zwei-Wochen-Takt in 2026 sind nicht vom 1. Januar bis 31. Dezember einzustellen\, sondern an den jeweiligen Terminen inkl. Uhrzeiten\, an denen die Skatrunden stattfinden. \nUnd so weiter. \nDanke für die Berücksichtigung an alle Bockhorner/Zeteler/Vareler. \nDieser Hinweis bleibt als Veranstaltung nur eine begrenzte Zeit eingestellt\, um auf dieses Thema hinzuweisen.
URL:https://niedersachsen.stadtlandnews.com/event/achtung-veranstaltungen-nur-tageweise-einstellen/
LOCATION:Rathaus Zetel\, Ohrbült 1\, Zetel\, 26340
CATEGORIES:Allgemeines,Gemeindeleben,Veranstaltungen
ATTACH;FMTTYPE=image/png:https://niedersachsen.stadtlandnews.com/wp-content/uploads/sites/6/2026/01/dorffunkzuslf_zetelbockhornvarel_zetel-screen_jetztdownloaden.png
ORGANIZER;CN="Gemeinde Zetel":MAILTO:gemeinde@zetel.de
END:VEVENT
BEGIN:VEVENT
DTSTART;TZID=Europe/Berlin:20260420T160000
DTEND;TZID=Europe/Berlin:20260420T163000
DTSTAMP:20260420T020039
CREATED:20260213T131506Z
LAST-MODIFIED:20260416T091558Z
UID:62880-1776700800-1776702600@niedersachsen.stadtlandnews.com
SUMMARY:Minigottesdienst für Kindergartenkinder
DESCRIPTION:Besonders für Kindergartenkinder ist der Minigottesdienst am Montag gedacht. Um 16.00 Uhr treffen sich Kinder mit Eltern oder Großeltern. 
URL:https://niedersachsen.stadtlandnews.com/event/minigottesdienst-fuer-kindergartenkinder/
LOCATION:Kirche Rhade\, Hauptstraße 12\, Rhade\, Niedersachsen\, 27404\, Deutschland
CATEGORIES:Kinder & Jugend,Veranstaltungen
ATTACH;FMTTYPE=image/jpeg:https://niedersachsen.stadtlandnews.com/wp-content/uploads/sites/6/2026/02/Minigottesdienst-Familie-3-D.jpg
END:VEVENT
BEGIN:VEVENT
DTSTART;TZID=Europe/Berlin:20260420T190000
DTEND;TZID=Europe/Berlin:20260420T210000
DTSTAMP:20260420T020039
CREATED:20260413T084029Z
LAST-MODIFIED:20260413T084701Z
UID:64346-1776711600-1776718800@niedersachsen.stadtlandnews.com
SUMMARY:Sitzung des Ortsrates Hermannsburg am 20.04.2026
DESCRIPTION:Es findet eine Sitzung des Ortsrates Hermannsburg am Montag\, 20.04.2026 um 19:00 Uhr\, im Sitzungssaal im Rathaus Hermannsburg\, Am Markt 3\, 29320 Südheide\, OT Hermannsburg statt. \n  \nTagesordnung: \nÖffentlicher Teil \n\nEröffnung der Sitzung\nFeststellung der ordnungsgemäßen Ladung und der Beschlussfähigkeit\nFeststellung der Tagesordnung\nBericht des Ortsbürgermeisters\nBericht der Bürgermeisterin\nUnterbrechung der Sitzung für die Einwohnerfragestunde (bei Bedarf)\nAnpassung der Budgetvereinbarungen mit den Ortsräten\nNeubau eines Regionalen Versorgungszentrum (RVZ)\nhier: Freigabe des Planungsentwurfes\nWidmung und Benennung von öffentlichen Straßen und sonstigen öffentlichen Verkehrsanlagen in der Gemeinde Südheide hier: Örtzebrücke (Trift) sowie Zuwegung zur Straße „Olendorp“\nUnterbrechung der Sitzung für die Einwohnerfragestunde (bei Bedarf)\nMündliche Anfragen und Anregungen der Ortsratsmitglieder\nSchließung der Sitzung\n\n  \n  \nSüdheide\, den 10.04.2026 \nGemeinde Südheide \n  \nKatharina Ebeling\nDie Bürgermeisterin \n 
URL:https://niedersachsen.stadtlandnews.com/event/sitzung-des-ortsrates-hermannsburg-am-20-04-2026/
LOCATION:Rathaus Hermannsburg\, Am Markt 3\, Südheide\, 29320\, Deutschland
CATEGORIES:Allgemeines
ATTACH;FMTTYPE=image/png:https://niedersachsen.stadtlandnews.com/wp-content/uploads/sites/6/2026/04/Sitzung-20.04.2026-1.png
ORGANIZER;CN="Gemeinde S%C3%BCdheide":MAILTO:info@gemeinde-suedheide.de
END:VEVENT
END:VCALENDAR