BEGIN:VCALENDAR
VERSION:2.0
PRODID:-//Niedersächsische LandNews - ECPv6.15.20//NONSGML v1.0//EN
CALSCALE:GREGORIAN
METHOD:PUBLISH
X-ORIGINAL-URL:https://niedersachsen.stadtlandnews.com
X-WR-CALDESC:Veranstaltungen für Niedersächsische LandNews
REFRESH-INTERVAL;VALUE=DURATION:PT1H
X-Robots-Tag:noindex
X-PUBLISHED-TTL:PT1H
BEGIN:VTIMEZONE
TZID:Europe/Berlin
BEGIN:DAYLIGHT
TZOFFSETFROM:+0100
TZOFFSETTO:+0200
TZNAME:CEST
DTSTART:20210328T010000
END:DAYLIGHT
BEGIN:STANDARD
TZOFFSETFROM:+0200
TZOFFSETTO:+0100
TZNAME:CET
DTSTART:20211031T010000
END:STANDARD
BEGIN:DAYLIGHT
TZOFFSETFROM:+0100
TZOFFSETTO:+0200
TZNAME:CEST
DTSTART:20220327T010000
END:DAYLIGHT
BEGIN:STANDARD
TZOFFSETFROM:+0200
TZOFFSETTO:+0100
TZNAME:CET
DTSTART:20221030T010000
END:STANDARD
BEGIN:DAYLIGHT
TZOFFSETFROM:+0100
TZOFFSETTO:+0200
TZNAME:CEST
DTSTART:20230326T010000
END:DAYLIGHT
BEGIN:STANDARD
TZOFFSETFROM:+0200
TZOFFSETTO:+0100
TZNAME:CET
DTSTART:20231029T010000
END:STANDARD
END:VTIMEZONE
BEGIN:VEVENT
DTSTART;TZID=Europe/Berlin:20221010T170000
DTEND;TZID=Europe/Berlin:20221010T190000
DTSTAMP:20260420T184111
CREATED:20220915T101604Z
LAST-MODIFIED:20220915T101604Z
UID:20406-1665421200-1665428400@niedersachsen.stadtlandnews.com
SUMMARY:Netzwerkveranstaltung "Digitale Teilhabe stärken – den digitalen Einstieg sicher begleiten"
DESCRIPTION:Immer mehr Bereiche des alltäglichen Lebens verlagern sich in den digitalen Raum. Dadurch wird es für eine zunehmende Zahl von Menschen notwendig\, Smartphones\, Tablets oder PCs zu nutzen. Wie können digitale Einsteiger*innen auf diesem Weg begleitet werden? Wie ermöglichen wir allen Menschen die digitale Teilhabe? Wie schaffen wir gute Unterstützungsangebote für Ältere und auch junge Menschen? \n\n\nDie Servicestelle Bürgerschaftliches Engagement des Landkreises Göttingen lädt Sie herzlich zu der Netzwerkveranstaltung „Digitale Teilhabe stärken“ am 10. Oktober 2022 ein. Von 17 bis 19 Uhr blicken wir gemeinsam auf Projektbeispiele und tauschen in Diskussionsrunden Erfahrungen zu diesem Thema aus. \nDie Veranstaltung richtet sich an alle Personen\, die in den Bereichen Digitalisierung\, digitale Teilhabe\, Beratung oder Ähnlichem aktiv sind oder sich dafür interessieren. Sie sind als ehrenamtlich oder hauptamtlich tätige Person herzlich willkommen. \nDie Teilnahme ist kostenlos. Die Veranstaltung findet online über Zoom statt. \nWir bitten um Anmeldung per E-Mail an GIVE@landkreisgoettingen.de. \nHier finden Sie weitere Informationen zum Programm der Netzwerkveranstaltung „Digitale Teilhabe stärken“. 
URL:https://niedersachsen.stadtlandnews.com/event/netzwerkveranstaltung-digitale-teilhabe-staerken-den-digitalen-einstieg-sicher-begleiten/
LOCATION:digitale Veranstaltung
ATTACH;FMTTYPE=image/png:https://niedersachsen.stadtlandnews.com/wp-content/uploads/sites/6/2022/09/netzwerkveranstaltung_digitale_teilhabe_news.png
END:VEVENT
BEGIN:VEVENT
DTSTART;TZID=Europe/Berlin:20221027T170000
DTEND;TZID=Europe/Berlin:20221027T190000
DTSTAMP:20260420T184111
CREATED:20221005T115522Z
LAST-MODIFIED:20221005T115522Z
UID:20596-1666890000-1666897200@niedersachsen.stadtlandnews.com
SUMMARY:Ideen-Werkstatt für Vereine und Initiativen
DESCRIPTION:Sie suchen neue Ideen für Ihren Verein? Sie wollen Ihre Initiative weiterentwickeln? Die Ideen-Werkstatt bietet einen offenen Raum für Ihre Fragen rund um das Ehrenamt und Engagement. Gemeinsam nach Lösungen suchen. \nDie Ideen-Werkstatt für Vereine und Initiativen steht unter dem Motto: „Gemeinsam nach Lösungen suchen“. Das Besondere der Veranstaltung ist das offene Format. Die Teilnehmenden bringen Ihre Themen und Fragen mit. Die Ideen-Werkstatt bietet den Rahmen\, also passende Räumlichkeiten\, eine anleitende Moderation und Verpflegung. Die Inhalte sind nicht vorgegeben\, sondern werden durch die Teilnehmenden gestaltet. \nZiel der Ideen-Werkstatt ist es\, in den Austausch zu kommen\, vom Wissen aller Teilnehmenden zu profitieren\, neue Kontakte zu knüpfen und Ideen für die Zukunft zu entwickeln. \nAm 27.10.2022 von 17:00-19:00 Uhr können Interessierte in der VHS Geschäftsstelle Osterode am Harz an der Ideen-Werkstatt teilnehmen. \nAnmeldung bis zum 20.10.2022 per E-Mail an udo.kuester@osterode.de. \nDie Räumlichkeiten sind barrierefrei. Weitere Informationen erhalten Sie unter www.engagiert-im-landkreisgoettingen.de/ideenwerkstatt. \nVeranstaltet wird die Ideen-Werkstatt von der Regionalen Koordinationsstelle für Vereine und Verbände (Osterode am Harz und Bad Grund) in Kooperation mit der Servicestelle Bürgerschaftliches Engagement im Landkreis Göttingen (Projekt GIVE) und der Freiwilligenagentur OHA des Paritätischen. \nWir freuen uns auf Sie und stehen für Rückfragen per Telefon 05522 5028558 oder E-Mail udo.kuester@osterode.de zur Verfügung.
URL:https://niedersachsen.stadtlandnews.com/event/ideen-werkstatt-fuer-vereine-und-initiativen/
ATTACH;FMTTYPE=image/png:https://niedersachsen.stadtlandnews.com/wp-content/uploads/sites/6/2022/10/Ideenwerkstatt_fuer_Vereine_und_Initiativen_2022.png
ORGANIZER;CN="Regionale Koordinationsstelle f%C3%BCr Vereine und Verb%C3%A4nde (Osterode am Harz und Bad Grund)":MAILTO:udo.kuester@osterode.de
END:VEVENT
END:VCALENDAR