BEGIN:VCALENDAR
VERSION:2.0
PRODID:-//Niedersächsische LandNews - ECPv6.15.20//NONSGML v1.0//EN
CALSCALE:GREGORIAN
METHOD:PUBLISH
X-WR-CALNAME:Niedersächsische LandNews
X-ORIGINAL-URL:https://niedersachsen.stadtlandnews.com
X-WR-CALDESC:Veranstaltungen für Niedersächsische LandNews
REFRESH-INTERVAL;VALUE=DURATION:PT1H
X-Robots-Tag:noindex
X-PUBLISHED-TTL:PT1H
BEGIN:VTIMEZONE
TZID:Europe/Berlin
BEGIN:DAYLIGHT
TZOFFSETFROM:+0100
TZOFFSETTO:+0200
TZNAME:CEST
DTSTART:20210328T010000
END:DAYLIGHT
BEGIN:STANDARD
TZOFFSETFROM:+0200
TZOFFSETTO:+0100
TZNAME:CET
DTSTART:20211031T010000
END:STANDARD
BEGIN:DAYLIGHT
TZOFFSETFROM:+0100
TZOFFSETTO:+0200
TZNAME:CEST
DTSTART:20220327T010000
END:DAYLIGHT
BEGIN:STANDARD
TZOFFSETFROM:+0200
TZOFFSETTO:+0100
TZNAME:CET
DTSTART:20221030T010000
END:STANDARD
BEGIN:DAYLIGHT
TZOFFSETFROM:+0100
TZOFFSETTO:+0200
TZNAME:CEST
DTSTART:20230326T010000
END:DAYLIGHT
BEGIN:STANDARD
TZOFFSETFROM:+0200
TZOFFSETTO:+0100
TZNAME:CET
DTSTART:20231029T010000
END:STANDARD
END:VTIMEZONE
BEGIN:VEVENT
DTSTART;TZID=Europe/Berlin:20221204T140000
DTEND;TZID=Europe/Berlin:20221204T180000
DTSTAMP:20260420T150941
CREATED:20221130T155648Z
LAST-MODIFIED:20221130T155648Z
UID:21459-1670162400-1670176800@niedersachsen.stadtlandnews.com
SUMMARY:Rhader Weihnachtsbasar
DESCRIPTION:Die Rhader Landbühne lädt zum Weihnachtsbasar am 04.12.2022 in der Zeit von 14:00 Uhr bis 18:00 Uhr ein.\nDie Aussteller werden in und vor der Schule ihre Angebote zum Verkauf anbieten. \nIn der Turnhalle wird "gezaubert" und der Weihnachtsmann kommt auch zu Besuch.\nDie junge Band der Kirchengemeinde Rhade singt für uns Weihnachtslieder. Die Organisatoren Thomas Brunckhorst und Jörg Kruse Schalm freuen sich auf Euren Besuch\, wünschen Euch viel Spaß und eine schöne Adventszeit.\nPlakat Weihnachtsbasar 2022
URL:https://niedersachsen.stadtlandnews.com/event/rhader-weihnachtsbasar/
LOCATION:Grundschule Rhade\, Am Sportplatz 2\, Rhade\, Niedersachsen\, 27404\, Deutschland
END:VEVENT
BEGIN:VEVENT
DTSTART;TZID=Europe/Berlin:20221207T190000
DTEND;TZID=Europe/Berlin:20221207T210000
DTSTAMP:20260420T150941
CREATED:20221201T070916Z
LAST-MODIFIED:20221201T070916Z
UID:21469-1670439600-1670446800@niedersachsen.stadtlandnews.com
SUMMARY:Motivation im Ehrenamt
DESCRIPTION:Am 7.12.2022 von 19.00 bis 21.00 Uhr im Gemeindehaus\, Hauptstraße 10\, Rhade findet eine Veranstaltung statt zu der ich herzlich einlade: \nWie motiviere ich (neue) Ehrenamtliche?\n– Ein Kurz-Workshop für (zukünftige) Vorstandsmitglieder in Vereinen \nDie Aufgaben nehmen zu\, das freiwillige Engagement nimmt ab und nun soll ich auch noch Freiwillige motivieren?\nWie soll das gehen? Und woher nehme ich die Zeit dafür? \nIm freiwilligen Engagement blühen wir auf und leisten viel für unseren Verein. Doch ein Problem gibt es: uns fehlen Freiwillige und Ehrenamtliche. Wie können wir das ändern? Was können wir tun\, um andere für unsere Sache zu gewinnen? \nIch lade Sie ein zu einem kurzweiligen Abend\, an dem wir miteinander über Motivation und Engagement sprechen und einige Erkenntnisse sammeln wollen. \nReferentin: Sandra Pragmann\, Koordinierungsstelle für ehrenamtliche Arbeit beim Landkreis Rotenburg (Wümme) \nBitte bei Olaf Wendelken anmelden unter 01735745382 oder zu***********@*eb.de.
URL:https://niedersachsen.stadtlandnews.com/event/motivation-im-ehrenamt/
LOCATION:Gemeindehaus Rhade\, Hauptstrasse 10\, Hauptstraße 10\, 27404 Rhade\, Niedersachsen\, 27404\, Deutschland
ATTACH;FMTTYPE=image/png:https://niedersachsen.stadtlandnews.com/wp-content/uploads/sites/6/2022/12/A050CFF5-F8B6-4691-A74E-3B0ED1816BB3.png
END:VEVENT
BEGIN:VEVENT
DTSTART;TZID=Europe/Berlin:20221211T190000
DTEND;TZID=Europe/Berlin:20221211T203000
DTSTAMP:20260420T150941
CREATED:20221212T075336Z
LAST-MODIFIED:20221212T075336Z
UID:21707-1670785200-1670790600@niedersachsen.stadtlandnews.com
SUMMARY:Adventssingen
DESCRIPTION:Lieder und kurze Geschichten zur Einstimmung auf Weihnachten.
URL:https://niedersachsen.stadtlandnews.com/event/adventssingen/
LOCATION:St.-Gallus Kirche Rhade\, Schulstrasse 2\, 27404 Rhade\, Niedersachsen\, 27404\, Deutschland
ATTACH;FMTTYPE=image/jpeg:https://niedersachsen.stadtlandnews.com/wp-content/uploads/sites/6/2022/12/0584A449-FF75-45D5-9BA2-06F9FE99EF6D.jpeg
END:VEVENT
BEGIN:VEVENT
DTSTART;TZID=Europe/Berlin:20221221T170000
DTEND;TZID=Europe/Berlin:20221221T200000
DTSTAMP:20260420T150941
CREATED:20221215T133134Z
LAST-MODIFIED:20221215T133134Z
UID:21828-1671642000-1671652800@niedersachsen.stadtlandnews.com
SUMMARY:Blutspenden
DESCRIPTION:Veranstaltet vom DRK Ortsverband Rhade
URL:https://niedersachsen.stadtlandnews.com/event/blutspenden/
LOCATION:Haus am Löh\, Rockstedt\, 27404\, Deutschland
END:VEVENT
BEGIN:VEVENT
DTSTART;TZID=Europe/Berlin:20221224T150000
DTEND;TZID=Europe/Berlin:20221224T160000
DTSTAMP:20260420T150941
CREATED:20221215T133028Z
LAST-MODIFIED:20221215T133028Z
UID:21834-1671894000-1671897600@niedersachsen.stadtlandnews.com
SUMMARY:Minigottesdienst für Vorschulkinder
DESCRIPTION:
URL:https://niedersachsen.stadtlandnews.com/event/minigottesdienst-fuer-vorschulkinder/
LOCATION:St.-Gallus Kirche Rhade\, Schulstrasse 2\, 27404 Rhade\, Niedersachsen\, 27404\, Deutschland
END:VEVENT
BEGIN:VEVENT
DTSTART;TZID=Europe/Berlin:20221224T160000
DTEND;TZID=Europe/Berlin:20221224T170000
DTSTAMP:20260420T150941
CREATED:20221214T194502Z
LAST-MODIFIED:20221215T132930Z
UID:21839-1671897600-1671901200@niedersachsen.stadtlandnews.com
SUMMARY:Krippenspiel "to go"
DESCRIPTION:
URL:https://niedersachsen.stadtlandnews.com/event/krippenspiel-to-go/
LOCATION:Dorfgemeinschaftshaus Hanstedt\, Löhweg 2\, Breddorf-Hanstedt\, Niedersachsen\, 27412\, Deutschland
ATTACH;FMTTYPE=image/png:https://niedersachsen.stadtlandnews.com/wp-content/uploads/sites/6/2022/12/067CBB06-0DB1-4515-92D5-A6B251805BC5.png
END:VEVENT
BEGIN:VEVENT
DTSTART;TZID=Europe/Berlin:20221224T180000
DTEND;TZID=Europe/Berlin:20221224T190000
DTSTAMP:20260420T150941
CREATED:20221215T132829Z
LAST-MODIFIED:20221215T132829Z
UID:21848-1671904800-1671908400@niedersachsen.stadtlandnews.com
SUMMARY:Weihnachtsanspiel von jungen Leuten
DESCRIPTION:
URL:https://niedersachsen.stadtlandnews.com/event/weihnachtsanspiel-von-jungen-leuten/
LOCATION:St.-Gallus Kirche Rhade\, Schulstrasse 2\, 27404 Rhade\, Niedersachsen\, 27404\, Deutschland
ATTACH;FMTTYPE=image/png:https://niedersachsen.stadtlandnews.com/wp-content/uploads/sites/6/2022/12/66E3371F-6D68-4581-87D4-1279D582A446.png
END:VEVENT
BEGIN:VEVENT
DTSTART;TZID=Europe/Berlin:20221224T223000
DTEND;TZID=Europe/Berlin:20221224T233000
DTSTAMP:20260420T150941
CREATED:20221214T200135Z
LAST-MODIFIED:20221215T131744Z
UID:21853-1671921000-1671924600@niedersachsen.stadtlandnews.com
SUMMARY:Weihnachts-Spät-Gottesdienst
DESCRIPTION:
URL:https://niedersachsen.stadtlandnews.com/event/weihnachts-spaet-gottesdienst/
LOCATION:St.-Gallus Kirche Rhade\, Schulstrasse 2\, 27404 Rhade\, Niedersachsen\, 27404\, Deutschland
ATTACH;FMTTYPE=image/png:https://niedersachsen.stadtlandnews.com/wp-content/uploads/sites/6/2022/12/E8CBAFF8-8E15-4889-93B5-BE9225739B42.png
END:VEVENT
END:VCALENDAR