BEGIN:VCALENDAR
VERSION:2.0
PRODID:-//Niedersächsische LandNews - ECPv6.15.20//NONSGML v1.0//EN
CALSCALE:GREGORIAN
METHOD:PUBLISH
X-ORIGINAL-URL:https://niedersachsen.stadtlandnews.com
X-WR-CALDESC:Veranstaltungen für Niedersächsische LandNews
REFRESH-INTERVAL;VALUE=DURATION:PT1H
X-Robots-Tag:noindex
X-PUBLISHED-TTL:PT1H
BEGIN:VTIMEZONE
TZID:Europe/Berlin
BEGIN:DAYLIGHT
TZOFFSETFROM:+0100
TZOFFSETTO:+0200
TZNAME:CEST
DTSTART:20220327T010000
END:DAYLIGHT
BEGIN:STANDARD
TZOFFSETFROM:+0200
TZOFFSETTO:+0100
TZNAME:CET
DTSTART:20221030T010000
END:STANDARD
BEGIN:DAYLIGHT
TZOFFSETFROM:+0100
TZOFFSETTO:+0200
TZNAME:CEST
DTSTART:20230326T010000
END:DAYLIGHT
BEGIN:STANDARD
TZOFFSETFROM:+0200
TZOFFSETTO:+0100
TZNAME:CET
DTSTART:20231029T010000
END:STANDARD
BEGIN:DAYLIGHT
TZOFFSETFROM:+0100
TZOFFSETTO:+0200
TZNAME:CEST
DTSTART:20240331T010000
END:DAYLIGHT
BEGIN:STANDARD
TZOFFSETFROM:+0200
TZOFFSETTO:+0100
TZNAME:CET
DTSTART:20241027T010000
END:STANDARD
END:VTIMEZONE
BEGIN:VEVENT
DTSTART;TZID=Europe/Berlin:20231121T180000
DTEND;TZID=Europe/Berlin:20231121T203000
DTSTAMP:20260420T044923
CREATED:20230419T134621Z
LAST-MODIFIED:20230419T134621Z
UID:27355-1700589600-1700598600@niedersachsen.stadtlandnews.com
SUMMARY:Workshop: Vereinsrecht
DESCRIPTION:Logo Freiwilligenagentur Varel\n\nNeben der Mitgliederversammlung ist der Vorstand ein zwingend vorgeschriebenes Organ des Vereins. Ohne einen Vorstand kann der Verein nicht handeln\, so dass es dem Vereinsvorstand obliegt\, die Verpflichtungen des Vereins in jeglicher Hinsicht wahrzunehmen. \nIm Rahmen des Online-Workshops werden die rechtlichen Aspekte der Vorstandstätigkeit von der Bestellung bis zur Abberufung ausführlich dargestellt. Hier werden auch erforderliche Satzungsregelungen und Tipps zur Gestaltung von Geschäftsordnungen für den Vorstand gegeben. \nBreiter Raum wird auch den Teilnehmerfragen eingeräumt. Im Rahmen der Veranstaltung wird auch ein Überblick über die Haftungsrisiken des Vereinsvorstandes sowie Haftungsvermeidungsstrategien gegeben. \nDatum: Dienstag\, 21.November 2023Uhrzeit: 18-20:30 UhrOrt: Online via ZoomReferent: Michael Röcken \nDie Teilnahme ist kostenfrei. Um Anmeldung bei der Freiwilligenagentur wird gebeten.
URL:https://niedersachsen.stadtlandnews.com/event/workshop-vereinsrecht/
LOCATION:online via ZOOM
ATTACH;FMTTYPE=image/png:https://niedersachsen.stadtlandnews.com/wp-content/uploads/sites/6/2023/04/FWA_ohne-Hintergrund.png
ORGANIZER;CN="Freiwilligengentur 'Ehrensache' Varel":MAILTO:buettner@agenda-varel.de
END:VEVENT
END:VCALENDAR