BEGIN:VCALENDAR
VERSION:2.0
PRODID:-//Niedersächsische LandNews - ECPv6.15.20//NONSGML v1.0//EN
CALSCALE:GREGORIAN
METHOD:PUBLISH
X-WR-CALNAME:Niedersächsische LandNews
X-ORIGINAL-URL:https://niedersachsen.stadtlandnews.com
X-WR-CALDESC:Veranstaltungen für Niedersächsische LandNews
REFRESH-INTERVAL;VALUE=DURATION:PT1H
X-Robots-Tag:noindex
X-PUBLISHED-TTL:PT1H
BEGIN:VTIMEZONE
TZID:Europe/Berlin
BEGIN:DAYLIGHT
TZOFFSETFROM:+0100
TZOFFSETTO:+0200
TZNAME:CEST
DTSTART:20230326T010000
END:DAYLIGHT
BEGIN:STANDARD
TZOFFSETFROM:+0200
TZOFFSETTO:+0100
TZNAME:CET
DTSTART:20231029T010000
END:STANDARD
BEGIN:DAYLIGHT
TZOFFSETFROM:+0100
TZOFFSETTO:+0200
TZNAME:CEST
DTSTART:20240331T010000
END:DAYLIGHT
BEGIN:STANDARD
TZOFFSETFROM:+0200
TZOFFSETTO:+0100
TZNAME:CET
DTSTART:20241027T010000
END:STANDARD
BEGIN:DAYLIGHT
TZOFFSETFROM:+0100
TZOFFSETTO:+0200
TZNAME:CEST
DTSTART:20250330T010000
END:DAYLIGHT
BEGIN:STANDARD
TZOFFSETFROM:+0200
TZOFFSETTO:+0100
TZNAME:CET
DTSTART:20251026T010000
END:STANDARD
END:VTIMEZONE
BEGIN:VEVENT
DTSTART;TZID=Europe/Berlin:20240105T100000
DTEND;TZID=Europe/Berlin:20240105T190000
DTSTAMP:20260420T015459
CREATED:20231222T181226Z
LAST-MODIFIED:20231222T181226Z
UID:37649-1704448800-1704481200@niedersachsen.stadtlandnews.com
SUMMARY:Museums-FREI-tag
DESCRIPTION:Freitag\, den 5. Januar heißt es im Museum Friedland wieder: Eintritt frei. \nJeden ersten Freitag im Monat öffnet das Museum seine Türen für alle Besucherinnen und Besucher bei kostenfreiem Eintritt. Neben der Dauerausstellung “Fluchtpunkt Friedland” gibt es im Augenblick auch die Sonderausstellung “Dengek me heye” mit Bildern und Zeichnungen yezidischer Künstler:innen zu besichtigen. \n Eine verlängerte Öffnungszeit bis 19 Uhr und eine kostenlose öffentliche Führung um 17 Uhr runden den Museums-FREI-tag ab. \nDie öffentlichen Führungen richten sich an Einzelpersonen oder Familien\, die ins Museum kommen und die Ausstellung kennenlernen wollen.
URL:https://niedersachsen.stadtlandnews.com/event/museums-frei-tag-2/
LOCATION:Museum Friedland\, Bahnhofstr. 2\, Friedland\, Niedersachsen\, 37133\, Deutschland
ATTACH;FMTTYPE=image/png:https://niedersachsen.stadtlandnews.com/wp-content/uploads/sites/6/2023/08/Kopie-von-Museums-Frei-brave-Facebook-Beitrag-Querformat-940-×-600-px1.png
ORGANIZER;CN="Museum Friedland":MAILTO:besuch@museum-friedland.de
END:VEVENT
END:VCALENDAR