BEGIN:VCALENDAR
VERSION:2.0
PRODID:-//Niedersächsische LandNews - ECPv6.15.20//NONSGML v1.0//EN
CALSCALE:GREGORIAN
METHOD:PUBLISH
X-ORIGINAL-URL:https://niedersachsen.stadtlandnews.com
X-WR-CALDESC:Veranstaltungen für Niedersächsische LandNews
REFRESH-INTERVAL;VALUE=DURATION:PT1H
X-Robots-Tag:noindex
X-PUBLISHED-TTL:PT1H
BEGIN:VTIMEZONE
TZID:Europe/Berlin
BEGIN:DAYLIGHT
TZOFFSETFROM:+0100
TZOFFSETTO:+0200
TZNAME:CEST
DTSTART:20220327T010000
END:DAYLIGHT
BEGIN:STANDARD
TZOFFSETFROM:+0200
TZOFFSETTO:+0100
TZNAME:CET
DTSTART:20221030T010000
END:STANDARD
BEGIN:DAYLIGHT
TZOFFSETFROM:+0100
TZOFFSETTO:+0200
TZNAME:CEST
DTSTART:20230326T010000
END:DAYLIGHT
BEGIN:STANDARD
TZOFFSETFROM:+0200
TZOFFSETTO:+0100
TZNAME:CET
DTSTART:20231029T010000
END:STANDARD
BEGIN:DAYLIGHT
TZOFFSETFROM:+0100
TZOFFSETTO:+0200
TZNAME:CEST
DTSTART:20240331T010000
END:DAYLIGHT
BEGIN:STANDARD
TZOFFSETFROM:+0200
TZOFFSETTO:+0100
TZNAME:CET
DTSTART:20241027T010000
END:STANDARD
END:VTIMEZONE
BEGIN:VEVENT
DTSTART;TZID=Europe/Berlin:20230520T180000
DTEND;TZID=Europe/Berlin:20230520T233000
DTSTAMP:20260420T133828
CREATED:20230424T103246Z
LAST-MODIFIED:20230424T103246Z
UID:27751-1684605600-1684625400@niedersachsen.stadtlandnews.com
SUMMARY:Berge\, Bier und Blasmusik im Haus des Gastes (Neuhaus im Solling)
DESCRIPTION:
URL:https://niedersachsen.stadtlandnews.com/event/berge-bier-und-blasmusik-im-haus-des-gastes-neuhaus-im-solling-2/
LOCATION:Haus des Gastes\, Neuhaus im Solling\, Lindenstraße 8\, Neuhaus im Solling\, Holzminden\, Niedersachsen\, 37603\, Deutschland
ATTACH;FMTTYPE=image/jpeg:https://niedersachsen.stadtlandnews.com/wp-content/uploads/sites/6/2023/04/WhatsApp-Image-2023-04-20-at-21.17.22.jpeg
ORGANIZER;CN="Touristik Information Hochsolling":MAILTO:info@hochsolling.de
END:VEVENT
END:VCALENDAR