BEGIN:VCALENDAR
VERSION:2.0
PRODID:-//Niedersächsische LandNews - ECPv6.15.20//NONSGML v1.0//EN
CALSCALE:GREGORIAN
METHOD:PUBLISH
X-ORIGINAL-URL:https://niedersachsen.stadtlandnews.com
X-WR-CALDESC:Veranstaltungen für Niedersächsische LandNews
REFRESH-INTERVAL;VALUE=DURATION:PT1H
X-Robots-Tag:noindex
X-PUBLISHED-TTL:PT1H
BEGIN:VTIMEZONE
TZID:Europe/Berlin
BEGIN:DAYLIGHT
TZOFFSETFROM:+0100
TZOFFSETTO:+0200
TZNAME:CEST
DTSTART:20230326T010000
END:DAYLIGHT
BEGIN:STANDARD
TZOFFSETFROM:+0200
TZOFFSETTO:+0100
TZNAME:CET
DTSTART:20231029T010000
END:STANDARD
BEGIN:DAYLIGHT
TZOFFSETFROM:+0100
TZOFFSETTO:+0200
TZNAME:CEST
DTSTART:20240331T010000
END:DAYLIGHT
BEGIN:STANDARD
TZOFFSETFROM:+0200
TZOFFSETTO:+0100
TZNAME:CET
DTSTART:20241027T010000
END:STANDARD
BEGIN:DAYLIGHT
TZOFFSETFROM:+0100
TZOFFSETTO:+0200
TZNAME:CEST
DTSTART:20250330T010000
END:DAYLIGHT
BEGIN:STANDARD
TZOFFSETFROM:+0200
TZOFFSETTO:+0100
TZNAME:CET
DTSTART:20251026T010000
END:STANDARD
END:VTIMEZONE
BEGIN:VEVENT
DTSTART;TZID=Europe/Berlin:20240111T193000
DTEND;TZID=Europe/Berlin:20240111T213000
DTSTAMP:20260420T060634
CREATED:20231222T181300Z
LAST-MODIFIED:20231222T181300Z
UID:37652-1705001400-1705008600@niedersachsen.stadtlandnews.com
SUMMARY:HAO ARE YOU
DESCRIPTION:Am 11. Januar lädt das Museum Friedland zu einem Filmabend mit anschließendem Gespräch ein. \nFast 50 Jahre ist es her\, dass die Familie von Regisseur Dieu Hao Do auf der Flucht vor dem kommunistischen Regime Vietnam verlassen musste. Für die meisten Familienmitglieder war es eine dramatische Reise über das Südchinesische Meer als Boatpeople. Heute gibt es nur noch wenig Kontakt zwischen den verschiedenen Teilen der Familie\, die auf drei Kontinenten verteilt lebt. In seinem preisgekrönten\, sehr persönlichen Dokumentarfilm blickt Dieu Ha Do nicht nur darauf\, was die Traumata von Flucht\, Verfolgung und Gewalt mit den Menschen machen\, sondern auch darauf\, wie sich diese Erfahrungen auf die Nachfolgegeneration auswirken. \nAn den Film scließt sich ein Gespräch mit dem Regisseur und Filmemacher Dieu Hao Do an. \nAuf der Seite des Kinos können Plätze reserviert werden. \nDie Veranstaltung ist Teil einer gemeinsamen Veranstaltungsreihe des Museums Friedland\, der Stiftung Flucht\, Vertreibung\, Versöhnung (Berlin) und der Dokumentationsstätte Gnadenkirche Tidofeld zur Aufnahme der Boatpeople. Sie wird gefördert von der Bundesbeauftragten für Kultur und Medien im Rahmen des Verbundprojekts „Was uns verbindet. Erfahrungen von Zwangsmigration gestern und heute„.
URL:https://niedersachsen.stadtlandnews.com/event/hao-are-you/
LOCATION:Lumière\, Geismar Landstraße 19\, Göttingen\, 37083
ATTACH;FMTTYPE=image/jpeg:https://niedersachsen.stadtlandnews.com/wp-content/uploads/sites/6/2023/12/Hao_are_you_press_6©Florian_Mag-scaled-e1703166320469.jpg
END:VEVENT
END:VCALENDAR