BEGIN:VCALENDAR
VERSION:2.0
PRODID:-//Niedersächsische LandNews - ECPv6.15.20//NONSGML v1.0//EN
CALSCALE:GREGORIAN
METHOD:PUBLISH
X-ORIGINAL-URL:https://niedersachsen.stadtlandnews.com
X-WR-CALDESC:Veranstaltungen für Niedersächsische LandNews
REFRESH-INTERVAL;VALUE=DURATION:PT1H
X-Robots-Tag:noindex
X-PUBLISHED-TTL:PT1H
BEGIN:VTIMEZONE
TZID:Europe/Berlin
BEGIN:DAYLIGHT
TZOFFSETFROM:+0100
TZOFFSETTO:+0200
TZNAME:CEST
DTSTART:20230326T010000
END:DAYLIGHT
BEGIN:STANDARD
TZOFFSETFROM:+0200
TZOFFSETTO:+0100
TZNAME:CET
DTSTART:20231029T010000
END:STANDARD
BEGIN:DAYLIGHT
TZOFFSETFROM:+0100
TZOFFSETTO:+0200
TZNAME:CEST
DTSTART:20240331T010000
END:DAYLIGHT
BEGIN:STANDARD
TZOFFSETFROM:+0200
TZOFFSETTO:+0100
TZNAME:CET
DTSTART:20241027T010000
END:STANDARD
BEGIN:DAYLIGHT
TZOFFSETFROM:+0100
TZOFFSETTO:+0200
TZNAME:CEST
DTSTART:20250330T010000
END:DAYLIGHT
BEGIN:STANDARD
TZOFFSETFROM:+0200
TZOFFSETTO:+0100
TZNAME:CET
DTSTART:20251026T010000
END:STANDARD
END:VTIMEZONE
BEGIN:VEVENT
DTSTART;TZID=Europe/Berlin:20240301T190000
DTEND;TZID=Europe/Berlin:20240301T200000
DTSTAMP:20260420T052012
CREATED:20240226T081643Z
LAST-MODIFIED:20240226T081643Z
UID:39320-1709319600-1709323200@niedersachsen.stadtlandnews.com
SUMMARY:Abendgottesdienst mit Jugendband und Buffet
DESCRIPTION:Freitag\, 1. März\, um 19 Uhr Beginn in der Kirche anschließend Buffet im Gemeindehaus   – Herzliche Einladung \n   In diesem Jahr kommt der Ablauf des internationalen Gottesdienstes mit Liedvorschlägen aus Palästina. Die Jugendband sorgt für musikalische Begleitung und trägt ein arabisches Lied vor. Alle anderen Texte wurden aus dem Englischen übersetzt und die Lieder können gut mitgesungen werden. \nZum Gottesdienst gehören Fotos\, Informationen zu Land und Leuten\, sowie aktuelle Berichte aus dem Nahen Osten. Im Mittelpunkt steht das Gebet um Frieden. \nNach dem Gottesdienst gibt es wieder ein Buffet im Gemeindehaus mit leckeren Spezialitäten. \n 
URL:https://niedersachsen.stadtlandnews.com/event/abendgottesdienst-mit-jugendband-und-buffet/
LOCATION:Kirche Rhade\, Hauptstraße 12\, Rhade\, Niedersachsen\, 27404\, Deutschland
ATTACH;FMTTYPE=image/png:https://niedersachsen.stadtlandnews.com/wp-content/uploads/sites/6/2024/02/Postkarte.png
END:VEVENT
END:VCALENDAR