BEGIN:VCALENDAR
VERSION:2.0
PRODID:-//Niedersächsische LandNews - ECPv6.15.20//NONSGML v1.0//EN
CALSCALE:GREGORIAN
METHOD:PUBLISH
X-WR-CALNAME:Niedersächsische LandNews
X-ORIGINAL-URL:https://niedersachsen.stadtlandnews.com
X-WR-CALDESC:Veranstaltungen für Niedersächsische LandNews
REFRESH-INTERVAL;VALUE=DURATION:PT1H
X-Robots-Tag:noindex
X-PUBLISHED-TTL:PT1H
BEGIN:VTIMEZONE
TZID:Europe/Berlin
BEGIN:DAYLIGHT
TZOFFSETFROM:+0100
TZOFFSETTO:+0200
TZNAME:CEST
DTSTART:20220327T010000
END:DAYLIGHT
BEGIN:STANDARD
TZOFFSETFROM:+0200
TZOFFSETTO:+0100
TZNAME:CET
DTSTART:20221030T010000
END:STANDARD
BEGIN:DAYLIGHT
TZOFFSETFROM:+0100
TZOFFSETTO:+0200
TZNAME:CEST
DTSTART:20230326T010000
END:DAYLIGHT
BEGIN:STANDARD
TZOFFSETFROM:+0200
TZOFFSETTO:+0100
TZNAME:CET
DTSTART:20231029T010000
END:STANDARD
BEGIN:DAYLIGHT
TZOFFSETFROM:+0100
TZOFFSETTO:+0200
TZNAME:CEST
DTSTART:20240331T010000
END:DAYLIGHT
BEGIN:STANDARD
TZOFFSETFROM:+0200
TZOFFSETTO:+0100
TZNAME:CET
DTSTART:20241027T010000
END:STANDARD
END:VTIMEZONE
BEGIN:VEVENT
DTSTART;TZID=Europe/Berlin:20231010T150000
DTEND;TZID=Europe/Berlin:20231010T180000
DTSTAMP:20260420T013251
CREATED:20230921T132749Z
LAST-MODIFIED:20231006T131924Z
UID:34669-1696950000-1696960800@niedersachsen.stadtlandnews.com
SUMMARY:Repair Café Achim
DESCRIPTION:Schon wieder was kaputt?\nKaffeemaschine\, Kamera\, Föhn\, Uhr\, Computer\, Handy\, Radio\, Mixer\,\nNähmaschine\, Staubsauger\, Spielzeug\, Hose oder Lieblingsgegenstand\nkaputt? \n– Keine Sorge! –\nWir vom Repair Café Achim\nbekommen das schon wieder hin!\nEhrenamtliche Mitarbeiter des Repair Cafés Achim reparieren mit Ihnen zusammen in entspannter Atmosphäre bei nettem Klönschnack mit Kaffee und Kuchen. \nDas Angebot ist kostenlos. Über eine kleine Spende würden wir uns freuen. \n 
URL:https://niedersachsen.stadtlandnews.com/event/repair-cafe-achim-3/
LOCATION:Niedersachsen
ATTACH;FMTTYPE=image/jpeg:https://niedersachsen.stadtlandnews.com/wp-content/uploads/sites/6/2023/10/1-repair-cafe-logo-DorfFunk-16-9-1280.jpg
ORGANIZER;CN="Repair Caf%C3%A9 Achim":MAILTO:info@repaircafe-achim.de
END:VEVENT
BEGIN:VEVENT
DTSTART;TZID=Europe/Berlin:20231017T150000
DTEND;TZID=Europe/Berlin:20231017T180000
DTSTAMP:20260420T013251
CREATED:20231006T124525Z
LAST-MODIFIED:20231006T124525Z
UID:35142-1697554800-1697565600@niedersachsen.stadtlandnews.com
SUMMARY:Repair Café Achim
DESCRIPTION:Schon wieder was kaputt?\nKaffeemaschine\, Kamera\, Föhn\, Uhr\, Computer\, Handy\, Radio\, Mixer\,\nNähmaschine\, Staubsauger\, Spielzeug\, Hose oder Lieblingsgegenstand\nkaputt? \n– Keine Sorge! –\nWir vom Repair Café Achim\nbekommen das schon wieder hin!\nEhrenamtliche Mitarbeiter des Repair Cafés Achim reparieren mit Ihnen zusammen in entspannter Atmosphäre bei nettem Klönschnack mit Kaffee und Kuchen. \nDas Angebot ist kostenlos. Über eine kleine Spende würden wir uns freuen.
URL:https://niedersachsen.stadtlandnews.com/event/repair-cafe-achim-4/
LOCATION:Niedersachsen
ATTACH;FMTTYPE=image/jpeg:https://niedersachsen.stadtlandnews.com/wp-content/uploads/sites/6/2023/10/1-repair-cafe-logo-DorfFunk-16-9-1280.jpg
ORGANIZER;CN="Repair Caf%C3%A9 Achim":MAILTO:info@repaircafe-achim.de
END:VEVENT
BEGIN:VEVENT
DTSTART;TZID=Europe/Berlin:20231024T150000
DTEND;TZID=Europe/Berlin:20231024T180000
DTSTAMP:20260420T013251
CREATED:20231017T061610Z
LAST-MODIFIED:20231017T061610Z
UID:35380-1698159600-1698170400@niedersachsen.stadtlandnews.com
SUMMARY:Repair Café Achim
DESCRIPTION:Schon wieder was kaputt?\nKaffeemaschine\, Kamera\, Föhn\, Uhr\, Computer\, Handy\, Radio\, Mixer\,\nNähmaschine\, Staubsauger\, Spielzeug\, Hose oder Lieblingsgegenstand\nkaputt? \n– Keine Sorge! –\nWir vom Repair Café Achim\nbekommen das schon wieder hin!\nEhrenamtliche Mitarbeiter des Repair Cafés Achim reparieren mit Ihnen zusammen in entspannter Atmosphäre bei nettem Klönschnack mit Kaffee und Kuchen. \nDas Angebot ist kostenlos. Über eine kleine Spende würden wir uns freuen.
URL:https://niedersachsen.stadtlandnews.com/event/repair-cafe-achim-5/
LOCATION:Niedersachsen
ATTACH;FMTTYPE=image/jpeg:https://niedersachsen.stadtlandnews.com/wp-content/uploads/sites/6/2023/10/1-repair-cafe-logo-DorfFunk-16-9-1280.jpg
ORGANIZER;CN="Repair Caf%C3%A9 Achim":MAILTO:info@repaircafe-achim.de
END:VEVENT
END:VCALENDAR