BEGIN:VCALENDAR
VERSION:2.0
PRODID:-//Niedersächsische LandNews - ECPv6.15.20//NONSGML v1.0//EN
CALSCALE:GREGORIAN
METHOD:PUBLISH
X-WR-CALNAME:Niedersächsische LandNews
X-ORIGINAL-URL:https://niedersachsen.stadtlandnews.com
X-WR-CALDESC:Veranstaltungen für Niedersächsische LandNews
REFRESH-INTERVAL;VALUE=DURATION:PT1H
X-Robots-Tag:noindex
X-PUBLISHED-TTL:PT1H
BEGIN:VTIMEZONE
TZID:Europe/Berlin
BEGIN:DAYLIGHT
TZOFFSETFROM:+0100
TZOFFSETTO:+0200
TZNAME:CEST
DTSTART:20220327T010000
END:DAYLIGHT
BEGIN:STANDARD
TZOFFSETFROM:+0200
TZOFFSETTO:+0100
TZNAME:CET
DTSTART:20221030T010000
END:STANDARD
BEGIN:DAYLIGHT
TZOFFSETFROM:+0100
TZOFFSETTO:+0200
TZNAME:CEST
DTSTART:20230326T010000
END:DAYLIGHT
BEGIN:STANDARD
TZOFFSETFROM:+0200
TZOFFSETTO:+0100
TZNAME:CET
DTSTART:20231029T010000
END:STANDARD
BEGIN:DAYLIGHT
TZOFFSETFROM:+0100
TZOFFSETTO:+0200
TZNAME:CEST
DTSTART:20240331T010000
END:DAYLIGHT
BEGIN:STANDARD
TZOFFSETFROM:+0200
TZOFFSETTO:+0100
TZNAME:CET
DTSTART:20241027T010000
END:STANDARD
END:VTIMEZONE
BEGIN:VEVENT
DTSTART;TZID=Europe/Berlin:20230910T110000
DTEND;TZID=Europe/Berlin:20230910T170000
DTSTAMP:20260420T133523
CREATED:20230907T091304Z
LAST-MODIFIED:20230907T091304Z
UID:34062-1694343600-1694365200@niedersachsen.stadtlandnews.com
SUMMARY:Tag des offenen Denkmals - Kulturspuren in Rhade
DESCRIPTION:In der Bogenstraße 4 steht das „Apmanns Hus – Baumann Siens“. Das im Jahr 1718 errichtete Bauernhaus ist das älteste erhaltene Gebäude in Rhade. \nDer Eigentümer Hans-Hermann Bohling öffnet es gemäß der Zevener Zeitung am Sonntag von 11:00 bis 17:00 Uhr für Besucher. Er zeigt Kulturspuren und erläutert u.a. den Bestand des historischen Gemäuers.
URL:https://niedersachsen.stadtlandnews.com/event/tag-des-offenen-denkmals-kulturspuren-in-rhade/
ATTACH;FMTTYPE=image/jpeg:https://niedersachsen.stadtlandnews.com/wp-content/uploads/sites/6/2023/09/IMG_6101-1-scaled.jpeg
END:VEVENT
END:VCALENDAR