BEGIN:VCALENDAR
VERSION:2.0
PRODID:-//Niedersächsische LandNews - ECPv6.15.20//NONSGML v1.0//EN
CALSCALE:GREGORIAN
METHOD:PUBLISH
X-ORIGINAL-URL:https://niedersachsen.stadtlandnews.com
X-WR-CALDESC:Veranstaltungen für Niedersächsische LandNews
REFRESH-INTERVAL;VALUE=DURATION:PT1H
X-Robots-Tag:noindex
X-PUBLISHED-TTL:PT1H
BEGIN:VTIMEZONE
TZID:Europe/Berlin
BEGIN:DAYLIGHT
TZOFFSETFROM:+0100
TZOFFSETTO:+0200
TZNAME:CEST
DTSTART:20220327T010000
END:DAYLIGHT
BEGIN:STANDARD
TZOFFSETFROM:+0200
TZOFFSETTO:+0100
TZNAME:CET
DTSTART:20221030T010000
END:STANDARD
BEGIN:DAYLIGHT
TZOFFSETFROM:+0100
TZOFFSETTO:+0200
TZNAME:CEST
DTSTART:20230326T010000
END:DAYLIGHT
BEGIN:STANDARD
TZOFFSETFROM:+0200
TZOFFSETTO:+0100
TZNAME:CET
DTSTART:20231029T010000
END:STANDARD
BEGIN:DAYLIGHT
TZOFFSETFROM:+0100
TZOFFSETTO:+0200
TZNAME:CEST
DTSTART:20240331T010000
END:DAYLIGHT
BEGIN:STANDARD
TZOFFSETFROM:+0200
TZOFFSETTO:+0100
TZNAME:CET
DTSTART:20241027T010000
END:STANDARD
END:VTIMEZONE
BEGIN:VEVENT
DTSTART;TZID=Europe/Berlin:20230812T110000
DTEND;TZID=Europe/Berlin:20230812T120000
DTSTAMP:20260420T093050
CREATED:20230725T114147Z
LAST-MODIFIED:20230725T114147Z
UID:32719-1691838000-1691841600@niedersachsen.stadtlandnews.com
SUMMARY:Straßenkonzert: Jann Poppen am 12. August in Vareler Innenstadt
DESCRIPTION:Bekannter Bar- und Jazzpianist spielt am 12. August in Vareler Fußgängerzone \nAm 12. August geht es weiter mit der Straßenkonzert-Reihe in der Vareler Fußgängerzone. Es spielt der Bar- und Jazzpianist Jann Poppen um 11 Uhr zwischen Modehaus Schnittger und der Krabbenpulerin. In Norddeutschland war Poppen u.a. beim ZDF-Fernsehgottesdienst in Oldenburg 2022 und 2023 zu sehen. \nDie Straßenkonzert-Reihe ist ein Projekt von Jens Kastner\, welches mit Unterstützung der Agenda Varel organisiert wird. Ziel ist\, die Attraktivität der Fußgängerzone durch kleine Kulturevents zu erhöhen. \nDieses Jahr konnten die Stadt Varel\, der Landkreis Friesland sowie die Vareler Werbegemeinschaft als Sponsoren gewonnen werden.
URL:https://niedersachsen.stadtlandnews.com/event/strassenkonzert-jann-poppen-am-12-august-in-vareler-innenstadt/
LOCATION:Fußgängerzone Varel\, Krabbenpulerin\, Ecke Obernstraße/ Hindenburgstraße (vor dem Textilgeschäft Schnittger)\, Varel\, 26316
ATTACH;FMTTYPE=image/jpeg:https://niedersachsen.stadtlandnews.com/wp-content/uploads/sites/6/2023/07/Jann-Poppen_quer-scaled.jpeg
ORGANIZER;CN="Agenda Varel":MAILTO:info@agenda-varel.de
END:VEVENT
END:VCALENDAR