BEGIN:VCALENDAR
VERSION:2.0
PRODID:-//Niedersächsische LandNews - ECPv6.15.20//NONSGML v1.0//EN
CALSCALE:GREGORIAN
METHOD:PUBLISH
X-ORIGINAL-URL:https://niedersachsen.stadtlandnews.com
X-WR-CALDESC:Veranstaltungen für Niedersächsische LandNews
REFRESH-INTERVAL;VALUE=DURATION:PT1H
X-Robots-Tag:noindex
X-PUBLISHED-TTL:PT1H
BEGIN:VTIMEZONE
TZID:Europe/Berlin
BEGIN:DAYLIGHT
TZOFFSETFROM:+0100
TZOFFSETTO:+0200
TZNAME:CEST
DTSTART:20230326T010000
END:DAYLIGHT
BEGIN:STANDARD
TZOFFSETFROM:+0200
TZOFFSETTO:+0100
TZNAME:CET
DTSTART:20231029T010000
END:STANDARD
BEGIN:DAYLIGHT
TZOFFSETFROM:+0100
TZOFFSETTO:+0200
TZNAME:CEST
DTSTART:20240331T010000
END:DAYLIGHT
BEGIN:STANDARD
TZOFFSETFROM:+0200
TZOFFSETTO:+0100
TZNAME:CET
DTSTART:20241027T010000
END:STANDARD
BEGIN:DAYLIGHT
TZOFFSETFROM:+0100
TZOFFSETTO:+0200
TZNAME:CEST
DTSTART:20250330T010000
END:DAYLIGHT
BEGIN:STANDARD
TZOFFSETFROM:+0200
TZOFFSETTO:+0100
TZNAME:CET
DTSTART:20251026T010000
END:STANDARD
END:VTIMEZONE
BEGIN:VEVENT
DTSTART;TZID=Europe/Berlin:20240306T183000
DTEND;TZID=Europe/Berlin:20240306T213000
DTSTAMP:20260419T200813
CREATED:20240216T082839Z
LAST-MODIFIED:20240216T082839Z
UID:39172-1709749800-1709760600@niedersachsen.stadtlandnews.com
SUMMARY:Erfolgsfaktoren im Dorfmarketing
DESCRIPTION:Einladung zum \nVortrag mit Diskussion \nMittwoch\, 6. März 2024\, Bürgersaal im Rathaus Fredenbeck \nEinlass 18.00 Uhr\, Beginn 18.30 Uhr \n  \nViele Dörfer und Vereine stehen heute vor großen Herausforderungen und die ehrenamtliche Arbeit scheint nicht mehr selbstverständlich. Offensichtlich braucht es neue Wege der Zusammenarbeit. \nErik Balzer hat in seiner Masterarbeit zum Thema „Dorfmarketing“ folgende Themen mit der Befragung von 16 erfolgreichen Dorfinitiativen in Norddeutschland untersucht: \n\nWas ist Dorfmarketing?\nWie können Neubürger besser erreicht werden?\nWas braucht es um die Dorfgemeinschaft insgesamt zu fördern?\nWas sind effektive Kommunikationskanäle auf dem Land?\nWas sind die Potenziale digitaler Kommunikation und wie lassen sich diese\n\nehrenamtlich umsetzen? \nUm seine Erkenntnisse vorzustellen und über neue Wege des Ehrenamts zu diskutieren laden Erik Balzer und die Samtgemeinde Fredenbeck Ehrenamtliche aus Politik\, Vereinen und Organisationen\, Dorfaktive und Interessierte ganz herzlich ein. \nWir freuen uns auf einen inspirierenden Abend. Für eine bessere Planung ist eine Anmeldung erwünscht bis zum 28. Februar bei Petra Herrmann unter ph*******@********ck.de oder 04149 91-102.
URL:https://niedersachsen.stadtlandnews.com/event/erfolgsfaktoren-im-dorfmarketing/
LOCATION:Rathaus Fredenbeck\, Schwingestraße 1\, Fredenbeck\, Niedersachsen\, 21717
ATTACH;FMTTYPE=image/png:https://niedersachsen.stadtlandnews.com/wp-content/uploads/sites/6/2024/02/Dorfmarketing-1.png
ORGANIZER;CN="Samtgemeinderat Fredenbeck":MAILTO:info@fredenbeck.de
END:VEVENT
BEGIN:VEVENT
DTSTART;TZID=Europe/Berlin:20240308T143000
DTEND;TZID=Europe/Berlin:20240308T153000
DTSTAMP:20260419T200813
CREATED:20240229T125221Z
LAST-MODIFIED:20240229T125221Z
UID:39452-1709908200-1709911800@niedersachsen.stadtlandnews.com
SUMMARY:Frühjahrsputz in Varel - Mit der Agenda Varel
DESCRIPTION:Gemeinsam wollen wir am 08.03.2024 ab 14.30 Uhr starten. Wir treffen uns am Agenda Büro und starten von dort aus den Frühjahrsputz 2024. Du/Sie möchtest/n bei uns mitmachen? Einfach dazukommen\, ohne Anmeldung! \nDie Gemeinschaftsaktion der Landkreise Friesland\, Wittmund und der Stadt Wilhelmshaven als Frühjahrsputz wird in diesem Jahr zum 25. Mal stattfinden. \nEs haben sich wieder neben der überragenden Teilnahme der Schulen und Kindergärten auch diverse Vereine\, Dorfgemeinschaften\, Kleingruppen gemeldet\, die gerne an deren Boßel-\,Wander-\, Fahrradstrecken oder Lieblingsplätzen einfach mal ‚klar Schiff‘ machen möchten. Hierbei geht es nicht darum anderen den Dreck hinterherzuräumen\, sondern ‚klar Schiff‘ für die die kommende Sommersaison zu machen. Vielleicht bringt die Aktion auch den Einen oder Anderen dazu sein Verhalten zu überdenken\, wenn so viele Leute mitmachen. \nAls Sammelstellen gelten alle öffentlichen Grundstücke (Parks\, Straßenränder usw.).‘ Mehr Informationen zur Aktion im ganzen Landkreis finden Sie auch HIER
URL:https://niedersachsen.stadtlandnews.com/event/fruehjahrsputz-in-varel-mit-der-agenda-varel/
LOCATION:Agenda Varel / Freiwilligenagentur „Ehrensache“\, Schloßstr. 2\, Varel\, Niedersachsen\, 26316\, Deutschland
ATTACH;FMTTYPE=image/png:https://niedersachsen.stadtlandnews.com/wp-content/uploads/sites/6/2024/02/logo_fruejahrsputz_2024_ausschnitt.png
ORGANIZER;CN="Agenda Varel":MAILTO:info@agenda-varel.de
END:VEVENT
BEGIN:VEVENT
DTSTART;TZID=Europe/Berlin:20240312T190000
DTEND;TZID=Europe/Berlin:20240312T200000
DTSTAMP:20260419T200813
CREATED:20240228T144838Z
LAST-MODIFIED:20240228T144838Z
UID:39423-1710270000-1710273600@niedersachsen.stadtlandnews.com
SUMMARY: Infoabend Ferienpass – Entwicklung von Ferienpassangeboten 2024
DESCRIPTION:Die Freiwilligenagentur „Ehrensache“ und die Stadtjugendpflege WEBEREI laden zu einem Infoabend zur Entwicklung von Angeboten für das Ferienpassprogramm 2024 ein. \nAuch in diesem Jahr wird die Stadt Varel in den Sommerferien vom 24. Juni bis 04. August ein Ferienpassangebot für die Kinder organisieren. Damit sollen ihnen tolle Freizeiterlebnisse ermöglicht werden\, die den Sommer besonders machen und die Kinder vielleicht sogar ein neues Hobby entdecken lassen. Der Ferienpass lebt von den vielfältigen Angeboten der Vareler Vereine\, aber auch Unternehmen und Privatpersonen. Diese sind dazu aufgerufen\, Aktionen und Veranstaltungen anzubieten. \nDas ist zum einen eine großartige Chance\, sich für die Kinder und Jugendlichen Varels zu engagieren und diesen eine schöne Zeit zu gestalten\, aber auch eine gute Gelegenheit\, um den eigenen Verein bekannter zu machen\, die Vereinsaktivitäten zu zeigen und neue Mitglieder zu gewinnen. \nFür alle\, die diese Gelegenheit 2024 nutzen möchten\, aber vielleicht noch unsicher sind\, was mögliche Angebote sein können oder konkrete Fragen haben\, gibt es eine Infoveranstaltung am 12.03.24 von 19 bis 20 Uhr im AWO Raum der Weberei Varel. Wir veranstalten den Infoabend gemeinsam mit der Agenda Varel. Daher bitten wir um eine Anmeldung über die WEBEREI oder die Freiwilligenagentur
URL:https://niedersachsen.stadtlandnews.com/event/infoabend-ferienpass-entwicklung-von-ferienpassangeboten-2024/
ATTACH;FMTTYPE=image/jpeg:https://niedersachsen.stadtlandnews.com/wp-content/uploads/sites/6/2024/02/1.jpg
ORGANIZER;CN="Stadtjugenpflege Varel / Freiwilligenagentur 'Ehrensache'":MAILTO:buettner@agenda-varel.de
END:VEVENT
END:VCALENDAR