BEGIN:VCALENDAR
VERSION:2.0
PRODID:-//Niedersächsische LandNews - ECPv6.15.20//NONSGML v1.0//EN
CALSCALE:GREGORIAN
METHOD:PUBLISH
X-ORIGINAL-URL:https://niedersachsen.stadtlandnews.com
X-WR-CALDESC:Veranstaltungen für Niedersächsische LandNews
REFRESH-INTERVAL;VALUE=DURATION:PT1H
X-Robots-Tag:noindex
X-PUBLISHED-TTL:PT1H
BEGIN:VTIMEZONE
TZID:Europe/Berlin
BEGIN:DAYLIGHT
TZOFFSETFROM:+0100
TZOFFSETTO:+0200
TZNAME:CEST
DTSTART:20220327T010000
END:DAYLIGHT
BEGIN:STANDARD
TZOFFSETFROM:+0200
TZOFFSETTO:+0100
TZNAME:CET
DTSTART:20221030T010000
END:STANDARD
BEGIN:DAYLIGHT
TZOFFSETFROM:+0100
TZOFFSETTO:+0200
TZNAME:CEST
DTSTART:20230326T010000
END:DAYLIGHT
BEGIN:STANDARD
TZOFFSETFROM:+0200
TZOFFSETTO:+0100
TZNAME:CET
DTSTART:20231029T010000
END:STANDARD
BEGIN:DAYLIGHT
TZOFFSETFROM:+0100
TZOFFSETTO:+0200
TZNAME:CEST
DTSTART:20240331T010000
END:DAYLIGHT
BEGIN:STANDARD
TZOFFSETFROM:+0200
TZOFFSETTO:+0100
TZNAME:CET
DTSTART:20241027T010000
END:STANDARD
END:VTIMEZONE
BEGIN:VEVENT
DTSTART;TZID=Europe/Berlin:20230808T090000
DTEND;TZID=Europe/Berlin:20230808T130000
DTSTAMP:20260420T074419
CREATED:20230801T133652Z
LAST-MODIFIED:20230801T133652Z
UID:32864-1691485200-1691499600@niedersachsen.stadtlandnews.com
SUMMARY:Papier schöpfen in der Mühle Liesebach
DESCRIPTION:Ferienprogramm der Samtgemeinde Nord-Elm \nWir zeigen\, wie früher mit Hilfe von Wasserkraft Korn gemahlen und Papier hergestellt wurde. Die Kinder werden mit mittelalterlicher Technik Büttenpapier herstellen und aus handgeschöpftem Papier Bilder gestalten und mit verschiedenen Materialien basteln. \nKostenbeitrag: 3 € pro Teilnehmer \nFür Kinder ab 6 Jahre \nBitte unempfindliche Kleidung\, ggf. Regensachen mitbringen. \nAusführende: Gabriele Schröder und Ursula Rosen \nAnmeldung: ve********@*******************lm.de \nBitte bei Anmeldung Telefonnummer angeben\, unter der die Erziehungsberechtigten im Notfall erreichbar sind!
URL:https://niedersachsen.stadtlandnews.com/event/papier-schoepfen-in-der-muehle-liesebach/
LOCATION:Mühle Liesebach\, Arme Reihe 67\, Räbke\, Niedersachsen\, 38375\, Deutschland
ATTACH;FMTTYPE=image/jpeg:https://niedersachsen.stadtlandnews.com/wp-content/uploads/sites/6/2023/08/Screenshot_2023-07-29-22-34-56-396_com.android.chrome-edit.jpg
END:VEVENT
END:VCALENDAR