BEGIN:VCALENDAR
VERSION:2.0
PRODID:-//Niedersächsische LandNews - ECPv6.15.20//NONSGML v1.0//EN
CALSCALE:GREGORIAN
METHOD:PUBLISH
X-ORIGINAL-URL:https://niedersachsen.stadtlandnews.com
X-WR-CALDESC:Veranstaltungen für Niedersächsische LandNews
REFRESH-INTERVAL;VALUE=DURATION:PT1H
X-Robots-Tag:noindex
X-PUBLISHED-TTL:PT1H
BEGIN:VTIMEZONE
TZID:Europe/Berlin
BEGIN:DAYLIGHT
TZOFFSETFROM:+0100
TZOFFSETTO:+0200
TZNAME:CEST
DTSTART:20220327T010000
END:DAYLIGHT
BEGIN:STANDARD
TZOFFSETFROM:+0200
TZOFFSETTO:+0100
TZNAME:CET
DTSTART:20221030T010000
END:STANDARD
BEGIN:DAYLIGHT
TZOFFSETFROM:+0100
TZOFFSETTO:+0200
TZNAME:CEST
DTSTART:20230326T010000
END:DAYLIGHT
BEGIN:STANDARD
TZOFFSETFROM:+0200
TZOFFSETTO:+0100
TZNAME:CET
DTSTART:20231029T010000
END:STANDARD
BEGIN:DAYLIGHT
TZOFFSETFROM:+0100
TZOFFSETTO:+0200
TZNAME:CEST
DTSTART:20240331T010000
END:DAYLIGHT
BEGIN:STANDARD
TZOFFSETFROM:+0200
TZOFFSETTO:+0100
TZNAME:CET
DTSTART:20241027T010000
END:STANDARD
END:VTIMEZONE
BEGIN:VEVENT
DTSTART;TZID=Europe/Berlin:20230903T100000
DTEND;TZID=Europe/Berlin:20230903T170000
DTSTAMP:20260420T035128
CREATED:20230825T050019Z
LAST-MODIFIED:20230825T050019Z
UID:33647-1693735200-1693760400@niedersachsen.stadtlandnews.com
SUMMARY:Flohmarkt in Rhade
DESCRIPTION:Der Landfrauenverein Rhade organisiert einen Flohmarkt am 3.9.2023. Der Flohmarkt findet in der Nähe der Sporthalle  und dem angrenzenden Straßen statt. \nWer verkaufen möchte\, kann sich an das Team der Landfrauen wenden\, um weitere Infos zu erhalten.
URL:https://niedersachsen.stadtlandnews.com/event/flohmarkt-in-rhade/
LOCATION:Am Sportplatz und angrenzende Strassen\, Am Sportplatz\, Rhade\, 27404
END:VEVENT
END:VCALENDAR