BEGIN:VCALENDAR
VERSION:2.0
PRODID:-//Niedersächsische LandNews - ECPv6.15.20//NONSGML v1.0//EN
CALSCALE:GREGORIAN
METHOD:PUBLISH
X-ORIGINAL-URL:https://niedersachsen.stadtlandnews.com
X-WR-CALDESC:Veranstaltungen für Niedersächsische LandNews
REFRESH-INTERVAL;VALUE=DURATION:PT1H
X-Robots-Tag:noindex
X-PUBLISHED-TTL:PT1H
BEGIN:VTIMEZONE
TZID:Europe/Berlin
BEGIN:DAYLIGHT
TZOFFSETFROM:+0100
TZOFFSETTO:+0200
TZNAME:CEST
DTSTART:20220327T010000
END:DAYLIGHT
BEGIN:STANDARD
TZOFFSETFROM:+0200
TZOFFSETTO:+0100
TZNAME:CET
DTSTART:20221030T010000
END:STANDARD
BEGIN:DAYLIGHT
TZOFFSETFROM:+0100
TZOFFSETTO:+0200
TZNAME:CEST
DTSTART:20230326T010000
END:DAYLIGHT
BEGIN:STANDARD
TZOFFSETFROM:+0200
TZOFFSETTO:+0100
TZNAME:CET
DTSTART:20231029T010000
END:STANDARD
BEGIN:DAYLIGHT
TZOFFSETFROM:+0100
TZOFFSETTO:+0200
TZNAME:CEST
DTSTART:20240331T010000
END:DAYLIGHT
BEGIN:STANDARD
TZOFFSETFROM:+0200
TZOFFSETTO:+0100
TZNAME:CET
DTSTART:20241027T010000
END:STANDARD
END:VTIMEZONE
BEGIN:VEVENT
DTSTART;TZID=Europe/Berlin:20230401T090000
DTEND;TZID=Europe/Berlin:20230401T110000
DTSTAMP:20260420T192133
CREATED:20230316T105750Z
LAST-MODIFIED:20230316T105750Z
UID:25352-1680339600-1680346800@niedersachsen.stadtlandnews.com
SUMMARY:Frauenfrühstück im Gemeindehaus
DESCRIPTION:Das Frauenfrühstücks-Team lädt am 1. April um 9 Uhr wieder ins Gemeindehaus ein: \nKeine Chance der beleidigten Leberwurst – vom souveränen Umgang mit Kränkungen\nSo lautet das Thema des spannenden Vortrags von Heike Kling. Wie immer gibt es dazu ein reichhaltiges und leckeres Frühstück und nette Gespräche. Die Kosten betragen 7 € pro Teilnehmerin. \nDamit das Team planen kann\, melden Sie sich bitte unter einer der folgenden Rufnummern: \nPfarramt: 05085 – 7153\nSusanne Eich: 05085 – 1621\nSabine Köhne: 05085 – 1497\nKirsten Treichel: 05136 – 81584 \nWir freuen uns auf Sie!
URL:https://niedersachsen.stadtlandnews.com/event/frauenfruehstueck-im-gemeindehaus/
LOCATION:Niedersachsen
ATTACH;FMTTYPE=image/jpeg:https://niedersachsen.stadtlandnews.com/wp-content/uploads/sites/6/2023/03/Korb_mit_Broetchen.jpg
END:VEVENT
END:VCALENDAR