BEGIN:VCALENDAR
VERSION:2.0
PRODID:-//Niedersächsische LandNews - ECPv6.15.20//NONSGML v1.0//EN
CALSCALE:GREGORIAN
METHOD:PUBLISH
X-WR-CALNAME:Niedersächsische LandNews
X-ORIGINAL-URL:https://niedersachsen.stadtlandnews.com
X-WR-CALDESC:Veranstaltungen für Niedersächsische LandNews
REFRESH-INTERVAL;VALUE=DURATION:PT1H
X-Robots-Tag:noindex
X-PUBLISHED-TTL:PT1H
BEGIN:VTIMEZONE
TZID:Europe/Berlin
BEGIN:DAYLIGHT
TZOFFSETFROM:+0100
TZOFFSETTO:+0200
TZNAME:CEST
DTSTART:20230326T010000
END:DAYLIGHT
BEGIN:STANDARD
TZOFFSETFROM:+0200
TZOFFSETTO:+0100
TZNAME:CET
DTSTART:20231029T010000
END:STANDARD
BEGIN:DAYLIGHT
TZOFFSETFROM:+0100
TZOFFSETTO:+0200
TZNAME:CEST
DTSTART:20240331T010000
END:DAYLIGHT
BEGIN:STANDARD
TZOFFSETFROM:+0200
TZOFFSETTO:+0100
TZNAME:CET
DTSTART:20241027T010000
END:STANDARD
BEGIN:DAYLIGHT
TZOFFSETFROM:+0100
TZOFFSETTO:+0200
TZNAME:CEST
DTSTART:20250330T010000
END:DAYLIGHT
BEGIN:STANDARD
TZOFFSETFROM:+0200
TZOFFSETTO:+0100
TZNAME:CET
DTSTART:20251026T010000
END:STANDARD
END:VTIMEZONE
BEGIN:VEVENT
DTSTART;TZID=Europe/Berlin:20240218T130000
DTEND;TZID=Europe/Berlin:20240218T170000
DTSTAMP:20260420T053239
CREATED:20240125T083254Z
LAST-MODIFIED:20240125T083254Z
UID:38386-1708261200-1708275600@niedersachsen.stadtlandnews.com
SUMMARY:Kinderkarneval in Schwinge
DESCRIPTION:Jubiläum\, Tag der offenen Tür\, Ernteball\, Osterfeuer……. Wir haben 2024 viel vor.\n…. aber zum Anfang des Jahres etwas worauf wir sehr stolz sind und lange darauf gewartet haben….\nWeit über 10 Jahre ist es her und dieses Jahr wird es endlich wieder einen Kinderkarneval geben und das in „Alter“ Location…\nViele Leute in Schwinge waren damals Cowboy und Prinzessin auf dem Saal bei „Jägers Rast“.\nNun gibt es diese Erinnerung\, gemischt mit Gefühlen und dem Anblick der eigenen Kinder. \nAm Sonntag\, 18.02.2024 ab 13.00 Uhr erwarten wir viele verkleidete Kinder und bemalte Eltern.
URL:https://niedersachsen.stadtlandnews.com/event/kinderkarneval-in-schwinge/
LOCATION:Jägers Rast\, Burgstraße 19\, Schwinge\, Niedersachsen\, 21717\, Deutschland
END:VEVENT
BEGIN:VEVENT
DTSTART;TZID=Europe/Berlin:20240220T193000
DTEND;TZID=Europe/Berlin:20240220T213000
DTSTAMP:20260420T053239
CREATED:20240212T083810Z
LAST-MODIFIED:20240212T083810Z
UID:39020-1708457400-1708464600@niedersachsen.stadtlandnews.com
SUMMARY:Sitzung des Gemeinderates Fredenbeck
DESCRIPTION:Am Dienstag\, dem 20.02.2024 um 19:30 Uhr kommt der Rat der Gemeinde Fredenbeck zu einer Sitzung zusammen. \nThemen unter anderen \n\nDuales Studium in der Jugendpflege\nÜberarbeitung der Förderrichtlinie der Gemeinde Fredenbeck\nAntrag des Reitverein Fredenbeck e. V. zur Sanierung des Springabreiteplatzes\nAntrag des Schützenverein Fredenbeck e. V. zum Umbau des Luftgewehrstandes\nHerstellung einer Straßen- und Fahrradweg-Ausleuchtung zwischen Fredenbeck und Schwinge\nSchließung des Weges vom Baugebiet „Steinkamp“ über den Sportplatz in Schwinge\nAufstellung des Bebauungsplanes „Fredenbeck Wiesen“\nAufstellung des Bebauungsplanes „Biogasanlage Dinghorn II“\nAufstellung des Bebauungsplanes „Solarpark Kuhreith“\nÄnderung des Bebauungsplanes Nr. 9 „Am Wischhofsdamm“\nNeue Satzung über die Erhebung von Vergnügungssteuer in der Gemeinde Fredenbeck\nHaushaltssatzung und Haushaltsplan für das Haushaltsjahr 2024\n\n 
URL:https://niedersachsen.stadtlandnews.com/event/sitzung-des-gemeinderates-fredenbeck/
LOCATION:Rathaus Fredenbeck\, Schwingestraße 1\, Fredenbeck\, Niedersachsen\, 21717
END:VEVENT
END:VCALENDAR