BEGIN:VCALENDAR
VERSION:2.0
PRODID:-//Niedersächsische LandNews - ECPv6.15.20//NONSGML v1.0//EN
CALSCALE:GREGORIAN
METHOD:PUBLISH
X-WR-CALNAME:Niedersächsische LandNews
X-ORIGINAL-URL:https://niedersachsen.stadtlandnews.com
X-WR-CALDESC:Veranstaltungen für Niedersächsische LandNews
REFRESH-INTERVAL;VALUE=DURATION:PT1H
X-Robots-Tag:noindex
X-PUBLISHED-TTL:PT1H
BEGIN:VTIMEZONE
TZID:Europe/Berlin
BEGIN:DAYLIGHT
TZOFFSETFROM:+0100
TZOFFSETTO:+0200
TZNAME:CEST
DTSTART:20220327T010000
END:DAYLIGHT
BEGIN:STANDARD
TZOFFSETFROM:+0200
TZOFFSETTO:+0100
TZNAME:CET
DTSTART:20221030T010000
END:STANDARD
BEGIN:DAYLIGHT
TZOFFSETFROM:+0100
TZOFFSETTO:+0200
TZNAME:CEST
DTSTART:20230326T010000
END:DAYLIGHT
BEGIN:STANDARD
TZOFFSETFROM:+0200
TZOFFSETTO:+0100
TZNAME:CET
DTSTART:20231029T010000
END:STANDARD
BEGIN:DAYLIGHT
TZOFFSETFROM:+0100
TZOFFSETTO:+0200
TZNAME:CEST
DTSTART:20240331T010000
END:DAYLIGHT
BEGIN:STANDARD
TZOFFSETFROM:+0200
TZOFFSETTO:+0100
TZNAME:CET
DTSTART:20241027T010000
END:STANDARD
END:VTIMEZONE
BEGIN:VEVENT
DTSTART;TZID=Europe/Berlin:20230908T160000
DTEND;TZID=Europe/Berlin:20230908T180000
DTSTAMP:20260420T063125
CREATED:20230705T114418Z
LAST-MODIFIED:20230705T114418Z
UID:32086-1694188800-1694196000@niedersachsen.stadtlandnews.com
SUMMARY:Workshop zu Engagementstrategie des Bundes
DESCRIPTION:Seitdem beim Deutschen Engagementtag Ende 2022 der Startschuss für die Engagementstrategie des Bundes gefallen ist\, haben bereits zahlreiche Engagierte und Ehrenamtliche ihre Ideen zur Zukunft des Engagements eingebracht. Sei auch du dabei\, wenn die Deutsche Stiftung für Engagement und Ehrenamt (DSEE) Ideen für die Engagementstrategie des Bundes sammelt. Bis Ende September 2023 gibt es verschiedene Möglichkeiten\, sich zu beteiligen. Eine davon ist dieser Workshop: \nDiskutiere vor Ort in Varel mit Engagierten\, Ehrenamtlichen und denen\, die sie unterstützen. Die Freiwilligenagentur ‚Ehrensache‘ bietet am 8. September einen Workshop an\, bei dem Ideen\, Ziele und Wünsche für die Engagementstrategie des Bundes gesammelt werden. Die Freiwilligenagentur leitet die Ergebnisse dann gebündelt an die DSEE weiter\, damit diese mit einfließen können. \nWann? Freitag\, 8. September 2023 // 16-18 UhrWo? AWO Raum in der WEBEREI\, Oldenburger Str. 21 in Varel \nDie Teilnahme ist kostenfrei. Eine Anmeldung bei der Freiwilligenagentur ist bereits jetzt möglich.
URL:https://niedersachsen.stadtlandnews.com/event/workshop-zu-engagementstrategie-des-bundes/
ATTACH;FMTTYPE=image/jpeg:https://niedersachsen.stadtlandnews.com/wp-content/uploads/sites/6/2023/07/Hauptmotiv-1200x675-1.jpg
ORGANIZER;CN="Freiwilligengentur 'Ehrensache' Varel":MAILTO:buettner@agenda-varel.de
END:VEVENT
END:VCALENDAR