BEGIN:VCALENDAR
VERSION:2.0
PRODID:-//Niedersächsische LandNews - ECPv6.15.20//NONSGML v1.0//EN
CALSCALE:GREGORIAN
METHOD:PUBLISH
X-WR-CALNAME:Niedersächsische LandNews
X-ORIGINAL-URL:https://niedersachsen.stadtlandnews.com
X-WR-CALDESC:Veranstaltungen für Niedersächsische LandNews
REFRESH-INTERVAL;VALUE=DURATION:PT1H
X-Robots-Tag:noindex
X-PUBLISHED-TTL:PT1H
BEGIN:VTIMEZONE
TZID:Europe/Berlin
BEGIN:DAYLIGHT
TZOFFSETFROM:+0100
TZOFFSETTO:+0200
TZNAME:CEST
DTSTART:20230326T010000
END:DAYLIGHT
BEGIN:STANDARD
TZOFFSETFROM:+0200
TZOFFSETTO:+0100
TZNAME:CET
DTSTART:20231029T010000
END:STANDARD
BEGIN:DAYLIGHT
TZOFFSETFROM:+0100
TZOFFSETTO:+0200
TZNAME:CEST
DTSTART:20240331T010000
END:DAYLIGHT
BEGIN:STANDARD
TZOFFSETFROM:+0200
TZOFFSETTO:+0100
TZNAME:CET
DTSTART:20241027T010000
END:STANDARD
BEGIN:DAYLIGHT
TZOFFSETFROM:+0100
TZOFFSETTO:+0200
TZNAME:CEST
DTSTART:20250330T010000
END:DAYLIGHT
BEGIN:STANDARD
TZOFFSETFROM:+0200
TZOFFSETTO:+0100
TZNAME:CET
DTSTART:20251026T010000
END:STANDARD
END:VTIMEZONE
BEGIN:VEVENT
DTSTART;TZID=Europe/Berlin:20240301T183000
DTEND;TZID=Europe/Berlin:20240301T203000
DTSTAMP:20260419T185922
CREATED:20240228T144729Z
LAST-MODIFIED:20240228T144729Z
UID:39414-1709317800-1709325000@niedersachsen.stadtlandnews.com
SUMMARY:Polnische Lebenszeichen
DESCRIPTION:Sonderaussstellung Displaced Persons in Südniedersachsen\nZwischen 1949 und 1952 waren in Südniedersachsen\, auch im Lager Friedland\, sogenannte Displaced Persons (DPs) untergebracht. Sie lebten in der Folge des Zweiten Weltkriegs außerhalb ihres Herkunftslandes und konnten gar nicht mehr oder zumindest nicht ohne Hilfe zurückkehren oder sich in einem anderen Land neu ansiedeln. Es waren hauptsächlich ehemalige Kriegsgefangene\, Zwangsarbeiter:innen\, Flüchtlinge und befreite KZ-Häftlinge.\nEine Studierendengruppe der Uni Göttingen hat das DP-Lager in Friedland erforscht. Die Geschichten der v.a. polnischen DPs werden in einer kleinen Sonderausstellung im Foyer des Museums Friedland vorgestellt. Die Eröffnung findet am Freitag\, den 1.3.\, um 18:30 Uhr mit einer Präsentation der Ergebnisse statt. \n 
URL:https://niedersachsen.stadtlandnews.com/event/polnische-lebenszeichen/
LOCATION:Museum Friedland\, Bahnhofstr. 2\, Friedland\, Niedersachsen\, 37133\, Deutschland
ATTACH;FMTTYPE=image/png:https://niedersachsen.stadtlandnews.com/wp-content/uploads/sites/6/2024/02/Nissenhuette-1_0009.png
ORGANIZER;CN="Museum Friedland":MAILTO:besuch@museum-friedland.de
END:VEVENT
BEGIN:VEVENT
DTSTART;TZID=Europe/Berlin:20240317T153000
DTEND;TZID=Europe/Berlin:20240317T170000
DTSTAMP:20260419T185922
CREATED:20240313T102220Z
LAST-MODIFIED:20240313T102220Z
UID:39945-1710689400-1710694800@niedersachsen.stadtlandnews.com
SUMMARY:Führung Grenzdurchgangslager
DESCRIPTION:Was hat es mit der Friedlandglocke auf sich und wo befindet sich die evangelische Lagerkapelle – an jedem dritten Sonntag im Monat bietet das Museum Friedland einen geführten Rundgang über das Gelände des Grenzdurchgangslagers Friedland an. Die Führung startet um 15:30 Uhr im Foyer des Museums und dauert ca. 60 Minuten. Eine Anmeldung ist nicht erforderlich. Der Preis für die Führung liegt bei 2 € für Erwachsene. \nDie öffentlichen Führungen richten sich an Einzelpersonen oder Familien\, die ins Museum kommen und die Ausstellung kennenlernen wollen. Eine vorherige Anmeldung ist nicht nötig. Bei interessierten Gruppen wird um eine Voranmeldung gebeten. \n 
URL:https://niedersachsen.stadtlandnews.com/event/fuehrung-grenzdurchgangslager-2/
LOCATION:Museum Friedland\, Bahnhofstr. 2\, Friedland\, Niedersachsen\, 37133\, Deutschland
ATTACH;FMTTYPE=image/jpeg:https://niedersachsen.stadtlandnews.com/wp-content/uploads/sites/6/2023/08/25_GDL_Nissenhuette_Presse_Beuermann.jpg
ORGANIZER;CN="Museum Friedland":MAILTO:besuch@museum-friedland.de
END:VEVENT
END:VCALENDAR