BEGIN:VCALENDAR
VERSION:2.0
PRODID:-//Niedersächsische LandNews - ECPv6.15.20//NONSGML v1.0//EN
CALSCALE:GREGORIAN
METHOD:PUBLISH
X-WR-CALNAME:Niedersächsische LandNews
X-ORIGINAL-URL:https://niedersachsen.stadtlandnews.com
X-WR-CALDESC:Veranstaltungen für Niedersächsische LandNews
REFRESH-INTERVAL;VALUE=DURATION:PT1H
X-Robots-Tag:noindex
X-PUBLISHED-TTL:PT1H
BEGIN:VTIMEZONE
TZID:Europe/Berlin
BEGIN:DAYLIGHT
TZOFFSETFROM:+0100
TZOFFSETTO:+0200
TZNAME:CEST
DTSTART:20230326T010000
END:DAYLIGHT
BEGIN:STANDARD
TZOFFSETFROM:+0200
TZOFFSETTO:+0100
TZNAME:CET
DTSTART:20231029T010000
END:STANDARD
BEGIN:DAYLIGHT
TZOFFSETFROM:+0100
TZOFFSETTO:+0200
TZNAME:CEST
DTSTART:20240331T010000
END:DAYLIGHT
BEGIN:STANDARD
TZOFFSETFROM:+0200
TZOFFSETTO:+0100
TZNAME:CET
DTSTART:20241027T010000
END:STANDARD
BEGIN:DAYLIGHT
TZOFFSETFROM:+0100
TZOFFSETTO:+0200
TZNAME:CEST
DTSTART:20250330T010000
END:DAYLIGHT
BEGIN:STANDARD
TZOFFSETFROM:+0200
TZOFFSETTO:+0100
TZNAME:CET
DTSTART:20251026T010000
END:STANDARD
END:VTIMEZONE
BEGIN:VEVENT
DTSTART;TZID=Europe/Berlin:20240124T193000
DTEND;TZID=Europe/Berlin:20240124T220000
DTSTAMP:20260420T053346
CREATED:20240122T154155Z
LAST-MODIFIED:20240122T154155Z
UID:38285-1706124600-1706133600@niedersachsen.stadtlandnews.com
SUMMARY:Verbunddorfentwicklung "MeGa Geest Mitte" in der Gemeinde Brest.
DESCRIPTION:Die Gemeinde Brest ist zusammen mit der Gemeinde Kutenholz in der Verbunddorfentwicklung „MeGa Geest Mitte.\nDer ursprüngliche Förderzeitraum bis zum 31. Dezember 2023 wurde vom Amt für regionale Landesentwicklung auf Antrag der Gemeinden bis zum 31. Dezember 2027 verlängert.\nIn den Ortschaften sind zu Beginn der Verbunddorfentwicklung Arbeitskreise gebildet worden\, die sich mit der Entwicklung ihrer Ortschaft beschäftigt haben und es wurden von ihnen öffentliche und private Projekte angeschoben und umgesetzt.\nFür neue Ideen und Projekte werden aber gerne neue Mitglieder in die Arbeitskreise aufgenommen. Wir haben noch viel vor – schließlich lautet das Leitbild der Dorfregion „Wir wollen lebenswerte und lebendige Dörfer und keine Schlafdörfer“… und dafür wird die Dorfregion vier weitere Jahre gefördert.\nAus diesem Grund bietet die Gemeinde Brest ihren Bürgern einen Informationsabend an. Dieser findet am 24. Januar 2024 um 19:30 Uhr im Dorfgemeinschaftshaus Reith statt (siehe Einladung der Gemeinde Brest). \nHier findet ihr die Broschüre „ZUKUNFT DORF“ des niedersächsische Landwirtschaftsministerium als Inspirations- und Informationsquelle für lebenswerte Dörfer. \n 
URL:https://niedersachsen.stadtlandnews.com/event/verbunddorfentwicklung-mega-geest-mitte-in-der-gemeinde-brest/
LOCATION:Dorfgemeinschaftshaus Reith\, Reith 4\, Brest\, Niedersachsen\, 21698\, Deutschland
ATTACH;FMTTYPE=image/png:https://niedersachsen.stadtlandnews.com/wp-content/uploads/sites/6/2024/01/Bei_Info.png
END:VEVENT
END:VCALENDAR