BEGIN:VCALENDAR
VERSION:2.0
PRODID:-//Niedersächsische LandNews - ECPv6.15.20//NONSGML v1.0//EN
CALSCALE:GREGORIAN
METHOD:PUBLISH
X-WR-CALNAME:Niedersächsische LandNews
X-ORIGINAL-URL:https://niedersachsen.stadtlandnews.com
X-WR-CALDESC:Veranstaltungen für Niedersächsische LandNews
REFRESH-INTERVAL;VALUE=DURATION:PT1H
X-Robots-Tag:noindex
X-PUBLISHED-TTL:PT1H
BEGIN:VTIMEZONE
TZID:Europe/Berlin
BEGIN:DAYLIGHT
TZOFFSETFROM:+0100
TZOFFSETTO:+0200
TZNAME:CEST
DTSTART:20220327T010000
END:DAYLIGHT
BEGIN:STANDARD
TZOFFSETFROM:+0200
TZOFFSETTO:+0100
TZNAME:CET
DTSTART:20221030T010000
END:STANDARD
BEGIN:DAYLIGHT
TZOFFSETFROM:+0100
TZOFFSETTO:+0200
TZNAME:CEST
DTSTART:20230326T010000
END:DAYLIGHT
BEGIN:STANDARD
TZOFFSETFROM:+0200
TZOFFSETTO:+0100
TZNAME:CET
DTSTART:20231029T010000
END:STANDARD
BEGIN:DAYLIGHT
TZOFFSETFROM:+0100
TZOFFSETTO:+0200
TZNAME:CEST
DTSTART:20240331T010000
END:DAYLIGHT
BEGIN:STANDARD
TZOFFSETFROM:+0200
TZOFFSETTO:+0100
TZNAME:CET
DTSTART:20241027T010000
END:STANDARD
END:VTIMEZONE
BEGIN:VEVENT
DTSTART;TZID=Europe/Berlin:20230420T183000
DTEND;TZID=Europe/Berlin:20230420T203000
DTSTAMP:20260420T140614
CREATED:20230416T162338Z
LAST-MODIFIED:20230416T162338Z
UID:27040-1682015400-1682022600@niedersachsen.stadtlandnews.com
SUMMARY:Sitzung des Gemeinderates
DESCRIPTION:Tagesordnung:\nI. Öffentlicher Teil\n1. Eröffnung der Sitzung\, Feststellung der ordnungsgemäßen Ladung und der Beschlussfähigkeit\n2. Feststellung der Tagesordnung\n3. Genehmigung des Protokolls über die Sitzung vom 19.12.2022 – öffentlicher Teil\n4. Bericht des Bürgermeisters über wichtige Angelegenheiten\n5. Bekanntgabe überplanmäßiger Aufwendungen\n6. Antrag des Bürgermeisters Dr. Marco Mohrmann auf Verabschiedung aus dem Ehrenbe-\namtenverhältnis als Bürgermeister\n7. Wahl einer/eines neuen Bürgermeisterin/Bürgermeisters\n8. Umbildung des Verwaltungsausschusses\n9. Umbildung der Ausschüsse\n10. Wahl der Vertreter bei der „Kommunalen Netzbeteiligung Nordwest“\n11. Haushaltssatzung und Haushaltsplan 2023\n12. Investitionsprogramm 2022 bis 2026\n13. Vergabe von Lieferungen und Leistungen\n14. Anträge und Anfragen\n15. Einwohnerfragestunde\n16. Schließung des öffentlichen Teils der Sitzung
URL:https://niedersachsen.stadtlandnews.com/event/sitzung-des-gemeinderates/
LOCATION:Grundschule Rhade\, Am Sportplatz 2\, Rhade\, Niedersachsen\, 27404\, Deutschland
ATTACH;FMTTYPE=image/png:https://niedersachsen.stadtlandnews.com/wp-content/uploads/sites/6/2023/04/070322_Logo_Rhade-02.png
END:VEVENT
END:VCALENDAR