BEGIN:VCALENDAR
VERSION:2.0
PRODID:-//Niedersächsische LandNews - ECPv6.15.20//NONSGML v1.0//EN
CALSCALE:GREGORIAN
METHOD:PUBLISH
X-WR-CALNAME:Niedersächsische LandNews
X-ORIGINAL-URL:https://niedersachsen.stadtlandnews.com
X-WR-CALDESC:Veranstaltungen für Niedersächsische LandNews
REFRESH-INTERVAL;VALUE=DURATION:PT1H
X-Robots-Tag:noindex
X-PUBLISHED-TTL:PT1H
BEGIN:VTIMEZONE
TZID:Europe/Berlin
BEGIN:DAYLIGHT
TZOFFSETFROM:+0100
TZOFFSETTO:+0200
TZNAME:CEST
DTSTART:20220327T010000
END:DAYLIGHT
BEGIN:STANDARD
TZOFFSETFROM:+0200
TZOFFSETTO:+0100
TZNAME:CET
DTSTART:20221030T010000
END:STANDARD
BEGIN:DAYLIGHT
TZOFFSETFROM:+0100
TZOFFSETTO:+0200
TZNAME:CEST
DTSTART:20230326T010000
END:DAYLIGHT
BEGIN:STANDARD
TZOFFSETFROM:+0200
TZOFFSETTO:+0100
TZNAME:CET
DTSTART:20231029T010000
END:STANDARD
BEGIN:DAYLIGHT
TZOFFSETFROM:+0100
TZOFFSETTO:+0200
TZNAME:CEST
DTSTART:20240331T010000
END:DAYLIGHT
BEGIN:STANDARD
TZOFFSETFROM:+0200
TZOFFSETTO:+0100
TZNAME:CET
DTSTART:20241027T010000
END:STANDARD
END:VTIMEZONE
BEGIN:VEVENT
DTSTART;TZID=Europe/Berlin:20230205T180000
DTEND;TZID=Europe/Berlin:20230205T190000
DTSTAMP:20260420T203827
CREATED:20230127T124849Z
LAST-MODIFIED:20230127T124849Z
UID:23010-1675620000-1675623600@niedersachsen.stadtlandnews.com
SUMMARY:Besonderer Abendgottesdienst in Otze
DESCRIPTION:Am 5. Februar beschäftigt sich das Team des Besonderen Abendgottesdienstes mit der Jahreslosung „Du bist ein Gott\, der mich sieht“ (1. Mose 16\, 13). \nBitte beachten Sie\, dass der Gottesdienst um 18 Uhr diesmal in der Kapelle in Otze stattfindet! \nFür die Besucher aus Ehlershausen und Ramlingen bieten wir ab 17.30 Uhr einen Fahrdienst nach Otze an. Wer diesen in Anspruch nehmen möchte\, meldet sich bitte bis zum 31.01.2023 im Pfarrbüro\, Tel. 05085/7153 oder per Email buero@kirche-ehlershausen.de.
URL:https://niedersachsen.stadtlandnews.com/event/besonderer-abendgottesdienst-in-otze/
LOCATION:Otzer Kapelle\, Kapellenweg 17\, Burgdorf\, 31303\, Deutschland
ATTACH;FMTTYPE=image/jpeg:https://niedersachsen.stadtlandnews.com/wp-content/uploads/sites/6/2023/01/agd_20230205.jpg
END:VEVENT
END:VCALENDAR