BEGIN:VCALENDAR
VERSION:2.0
PRODID:-//Niedersächsische LandNews - ECPv6.15.20//NONSGML v1.0//EN
CALSCALE:GREGORIAN
METHOD:PUBLISH
X-ORIGINAL-URL:https://niedersachsen.stadtlandnews.com
X-WR-CALDESC:Veranstaltungen für Niedersächsische LandNews
REFRESH-INTERVAL;VALUE=DURATION:PT1H
X-Robots-Tag:noindex
X-PUBLISHED-TTL:PT1H
BEGIN:VTIMEZONE
TZID:Europe/Berlin
BEGIN:DAYLIGHT
TZOFFSETFROM:+0100
TZOFFSETTO:+0200
TZNAME:CEST
DTSTART:20220327T010000
END:DAYLIGHT
BEGIN:STANDARD
TZOFFSETFROM:+0200
TZOFFSETTO:+0100
TZNAME:CET
DTSTART:20221030T010000
END:STANDARD
BEGIN:DAYLIGHT
TZOFFSETFROM:+0100
TZOFFSETTO:+0200
TZNAME:CEST
DTSTART:20230326T010000
END:DAYLIGHT
BEGIN:STANDARD
TZOFFSETFROM:+0200
TZOFFSETTO:+0100
TZNAME:CET
DTSTART:20231029T010000
END:STANDARD
BEGIN:DAYLIGHT
TZOFFSETFROM:+0100
TZOFFSETTO:+0200
TZNAME:CEST
DTSTART:20240331T010000
END:DAYLIGHT
BEGIN:STANDARD
TZOFFSETFROM:+0200
TZOFFSETTO:+0100
TZNAME:CET
DTSTART:20241027T010000
END:STANDARD
END:VTIMEZONE
BEGIN:VEVENT
DTSTART;TZID=Europe/Berlin:20231106T170000
DTEND;TZID=Europe/Berlin:20231106T190000
DTSTAMP:20260420T071035
CREATED:20231017T061615Z
LAST-MODIFIED:20231019T083343Z
UID:35393-1699290000-1699297200@niedersachsen.stadtlandnews.com
SUMMARY:HAUSEIGENTÜMERINNEN UND HAUSEIGENTÜMER "Clever heizen!"- Online-Vortrag und Gruppenberatung
DESCRIPTION:Aufgrund der rasant gestiegenen Energiepreise fragen sich viele Hauseigentümerinnen und Hauseigentümer derzeit\, wie sie unabhängiger von Öl und Gas werden können. Wie kann die eigene Heizung fit für die Zukunft gemacht werden und wie kann auf erneuerbare Energieträger umgestellt werden? Welche Maßnahmen können schon jetzt umgesetzt werden und welche sind langfristig notwendig? Private Hauseigentümer sollten sich dazu rechtzeitig informieren. Das Angebot „clever heizen!“ bietet in diesem Kontext Hilfestellung mit einem Online-Vortrag und anschließender Gruppenberatung \nFachleute informieren \nEin Energieberater der Verbraucherzentrale vermittelt in dem Online-Vortrag zunächst Basiswissen rund um das Thema Heizung. Nach dem Vortrag können die Teilnehmenden in kleineren Gruppen ihre Fragen live an weitere Experten richten. Dabei kann es beispielsweise um technische und wirtschaftliche Aspekte\, Hinweise zur Optimierung\, zum Heizungstausch oder zu Fördermöglichkeiten gehen. Auch Fragen\, die sich auf die besonderen Gegebenheiten im eigenen Haus beziehen\, können an die Experten und Expertinnen gestellt werden. \nHintergrund \nDie Kampagne „clever heizen!“ ist ein Gemeinschaftsprojekt der Verbraucherzentrale Niedersachsen\, der Klimaschutz- und Energieagentur Niedersachsen und den regionalen Partnern.
URL:https://niedersachsen.stadtlandnews.com/event/hauseigentuemerinnen-und-hauseigentuemer-clever-heizen-online-vortrag-und-gruppenberatung/
LOCATION:Online
END:VEVENT
END:VCALENDAR