BEGIN:VCALENDAR
VERSION:2.0
PRODID:-//Niedersächsische LandNews - ECPv6.15.20//NONSGML v1.0//EN
CALSCALE:GREGORIAN
METHOD:PUBLISH
X-WR-CALNAME:Niedersächsische LandNews
X-ORIGINAL-URL:https://niedersachsen.stadtlandnews.com
X-WR-CALDESC:Veranstaltungen für Niedersächsische LandNews
REFRESH-INTERVAL;VALUE=DURATION:PT1H
X-Robots-Tag:noindex
X-PUBLISHED-TTL:PT1H
BEGIN:VTIMEZONE
TZID:Europe/Berlin
BEGIN:DAYLIGHT
TZOFFSETFROM:+0100
TZOFFSETTO:+0200
TZNAME:CEST
DTSTART:20220327T010000
END:DAYLIGHT
BEGIN:STANDARD
TZOFFSETFROM:+0200
TZOFFSETTO:+0100
TZNAME:CET
DTSTART:20221030T010000
END:STANDARD
BEGIN:DAYLIGHT
TZOFFSETFROM:+0100
TZOFFSETTO:+0200
TZNAME:CEST
DTSTART:20230326T010000
END:DAYLIGHT
BEGIN:STANDARD
TZOFFSETFROM:+0200
TZOFFSETTO:+0100
TZNAME:CET
DTSTART:20231029T010000
END:STANDARD
BEGIN:DAYLIGHT
TZOFFSETFROM:+0100
TZOFFSETTO:+0200
TZNAME:CEST
DTSTART:20240331T010000
END:DAYLIGHT
BEGIN:STANDARD
TZOFFSETFROM:+0200
TZOFFSETTO:+0100
TZNAME:CET
DTSTART:20241027T010000
END:STANDARD
END:VTIMEZONE
BEGIN:VEVENT
DTSTART;TZID=Europe/Berlin:20231006T153000
DTEND;TZID=Europe/Berlin:20231006T180000
DTSTAMP:20260420T013403
CREATED:20230530T071753Z
LAST-MODIFIED:20230929T120518Z
UID:30026-1696606200-1696615200@niedersachsen.stadtlandnews.com
SUMMARY:Ü-Kirche für Kinder: "6"
DESCRIPTION:Der Herbst ist da! \nHallo Leute\, am Freitag\, 6.10. um 15.30 Uhr ist es wieder soweit! Nach einer Sommerpause ist wieder Ü-Kirche\, die KinderKirche für Kinder und ihre Familien in der Martin-Luther-Kirchengemeinde. \nEs gibt nach dem Sommer sooo viel zu entdecken: Was hat wohl die Zahl Sechs mit Gott zu tun? Wir wollen zusammen spielen\, basteln und gemeinsam essen. Lasst Euch also überraschen. \nAm 6.10. trifft sich das Huhn Hedwig mit Euch im Gemeindehaus in Ehlershausen (Ramlinger Str. 25). Um 15.30 Uhr geht es los. Enden werden wir gegen 18 Uhr mit einem gemeinsamen Abendessen. \nKommt also gerne vorbei!\nEure Hedwig und das Ü-Kirchen-Team
URL:https://niedersachsen.stadtlandnews.com/event/ue-kirche-fuer-kinder-6/
LOCATION:Niedersachsen
ATTACH;FMTTYPE=image/jpeg:https://niedersachsen.stadtlandnews.com/wp-content/uploads/sites/6/2023/01/Hedwig.jpg
END:VEVENT
END:VCALENDAR