BEGIN:VCALENDAR
VERSION:2.0
PRODID:-//Niedersächsische LandNews - ECPv6.15.20//NONSGML v1.0//EN
CALSCALE:GREGORIAN
METHOD:PUBLISH
X-WR-CALNAME:Niedersächsische LandNews
X-ORIGINAL-URL:https://niedersachsen.stadtlandnews.com
X-WR-CALDESC:Veranstaltungen für Niedersächsische LandNews
REFRESH-INTERVAL;VALUE=DURATION:PT1H
X-Robots-Tag:noindex
X-PUBLISHED-TTL:PT1H
BEGIN:VTIMEZONE
TZID:Europe/Berlin
BEGIN:DAYLIGHT
TZOFFSETFROM:+0100
TZOFFSETTO:+0200
TZNAME:CEST
DTSTART:20220327T010000
END:DAYLIGHT
BEGIN:STANDARD
TZOFFSETFROM:+0200
TZOFFSETTO:+0100
TZNAME:CET
DTSTART:20221030T010000
END:STANDARD
BEGIN:DAYLIGHT
TZOFFSETFROM:+0100
TZOFFSETTO:+0200
TZNAME:CEST
DTSTART:20230326T010000
END:DAYLIGHT
BEGIN:STANDARD
TZOFFSETFROM:+0200
TZOFFSETTO:+0100
TZNAME:CET
DTSTART:20231029T010000
END:STANDARD
BEGIN:DAYLIGHT
TZOFFSETFROM:+0100
TZOFFSETTO:+0200
TZNAME:CEST
DTSTART:20240331T010000
END:DAYLIGHT
BEGIN:STANDARD
TZOFFSETFROM:+0200
TZOFFSETTO:+0100
TZNAME:CET
DTSTART:20241027T010000
END:STANDARD
END:VTIMEZONE
BEGIN:VEVENT
DTSTART;TZID=Europe/Berlin:20230914T193000
DTEND;TZID=Europe/Berlin:20230914T210000
DTSTAMP:20260420T092450
CREATED:20230825T045748Z
LAST-MODIFIED:20230825T045748Z
UID:33632-1694719800-1694725200@niedersachsen.stadtlandnews.com
SUMMARY:Schlesiens Wilder Westen
DESCRIPTION:Film & Gespräch \nAm 14. September lädt das Museum Friedland gemeinsam mit der Deutsch-Polnischen Gesellschaft Göttingen zu einem Filmabend in das Göttinger Kino Méliès ein. Der Film „Schlesiens Wilder Westen“ von Ute Badura erkundet die Geschichte des Dorfes Kopaniec am Rande des Riesengebirges mithilfe der Erinnerungen seiner früheren und heutigen Einwohner:innen. Zwischen dem Früher und dem Heute liegt die Vertreibung. Aus dem Ort wurden die deutschen Bewohner:innen ab dem Sommer 1946 vertrieben. Zeitgleich wurden Vertriebene aus dem Ostpolen der Vorkriegszeit hier angesiedelt. \nIn ihrem stillen und eindringlichen Film lässt Ute Badura frühere und gegenwärtige Bewohner:innen die Geschichte ihres Ortes aus ganz unterschiedlichen Perspektiven erzählen. Dabei wird auch die Frage der Heimat thematisiert. \nAn die Vorführung schließt sich ein Gespräch mit der Filmemacherin Ute Badura an. Plätze können vorab auf der Seite des Kinos reserviert werden. Der Eintritt ist frei.
URL:https://niedersachsen.stadtlandnews.com/event/schlesiens-wilder-westen/
LOCATION:Méliès\, Bürgerstraße 13\, Göttingen\, Niedersachsen\, 37073\, Deutschland
ATTACH;FMTTYPE=image/jpeg:https://niedersachsen.stadtlandnews.com/wp-content/uploads/sites/6/2023/08/Montage.jpg
ORGANIZER;CN="Museum Friedland":MAILTO:besuch@museum-friedland.de
END:VEVENT
END:VCALENDAR