BEGIN:VCALENDAR
VERSION:2.0
PRODID:-//Niedersächsische LandNews - ECPv6.15.20//NONSGML v1.0//EN
CALSCALE:GREGORIAN
METHOD:PUBLISH
X-ORIGINAL-URL:https://niedersachsen.stadtlandnews.com
X-WR-CALDESC:Veranstaltungen für Niedersächsische LandNews
REFRESH-INTERVAL;VALUE=DURATION:PT1H
X-Robots-Tag:noindex
X-PUBLISHED-TTL:PT1H
BEGIN:VTIMEZONE
TZID:Europe/Berlin
BEGIN:DAYLIGHT
TZOFFSETFROM:+0100
TZOFFSETTO:+0200
TZNAME:CEST
DTSTART:20230326T010000
END:DAYLIGHT
BEGIN:STANDARD
TZOFFSETFROM:+0200
TZOFFSETTO:+0100
TZNAME:CET
DTSTART:20231029T010000
END:STANDARD
BEGIN:DAYLIGHT
TZOFFSETFROM:+0100
TZOFFSETTO:+0200
TZNAME:CEST
DTSTART:20240331T010000
END:DAYLIGHT
BEGIN:STANDARD
TZOFFSETFROM:+0200
TZOFFSETTO:+0100
TZNAME:CET
DTSTART:20241027T010000
END:STANDARD
BEGIN:DAYLIGHT
TZOFFSETFROM:+0100
TZOFFSETTO:+0200
TZNAME:CEST
DTSTART:20250330T010000
END:DAYLIGHT
BEGIN:STANDARD
TZOFFSETFROM:+0200
TZOFFSETTO:+0100
TZNAME:CET
DTSTART:20251026T010000
END:STANDARD
END:VTIMEZONE
BEGIN:VEVENT
DTSTART;TZID=Europe/Berlin:20240425T193000
DTEND;TZID=Europe/Berlin:20240425T213000
DTSTAMP:20260419T195204
CREATED:20240418T124748Z
LAST-MODIFIED:20240418T124748Z
UID:41301-1714073400-1714080600@niedersachsen.stadtlandnews.com
SUMMARY:Yezdian Voices - Our Sun Never Sets
DESCRIPTION:Filmvorführung & Gespräch \nAras\, Shireen und Ziyad haben den Völkermord an den Jesid:innen durch die Terrororganisation „Islamischer Staat“ 2014 überlebt. Ihre Familien\, ihre Heimat und ihre Zukunft wurden zerstört. Shireen lebt inzwischen wieder in Kurdistan\, während ihr Bruder Aras und Ziyad in Deutschland geblieben sind. Wie die drei ihre Vergangenheit nutzen\, um sich eine Zukunft aufzubauen\, davon erzählt und handelt dieser Film. „Yezidian Voices – Our Sun Never Sets“ begleitet die drei Jesid:innen dabei\, wenn sie über das Erlebte mit Mut\, Stärke und Selbstbewusstsein sprechen\, ihr Trauma verarbeiten und so gegen das Vergessen des Völkermords kämpfen. \n \nDer Film entstand 2023 als Abschlussarbeit der Masterklasse Fernsehjournalismus und Dokumentarfilm der Hochschule Hannover und erlebt in Göttingen seine Kinopremiere. Im Anschluss gibt es ein Gespräch mit den Filmemacher:innen. Die Veranstaltung ist eine Kooperation mit dem Museum Friedland und der Gesellschaft für bedrohte Völker\, Göttingen. \nDer Eintritt ist frei.
URL:https://niedersachsen.stadtlandnews.com/event/yezdian-voices-our-sun-never-sets/
LOCATION:Lumière\, Geismar Landstraße 19\, Göttingen\, 37083
ATTACH;FMTTYPE=image/jpeg:https://niedersachsen.stadtlandnews.com/wp-content/uploads/sites/6/2024/04/YESIDIAN_Voices_l.jpg
ORGANIZER;CN="Museum Friedland":MAILTO:besuch@museum-friedland.de
END:VEVENT
END:VCALENDAR