BEGIN:VCALENDAR
VERSION:2.0
PRODID:-//Niedersächsische LandNews - ECPv6.15.20//NONSGML v1.0//EN
CALSCALE:GREGORIAN
METHOD:PUBLISH
X-WR-CALNAME:Niedersächsische LandNews
X-ORIGINAL-URL:https://niedersachsen.stadtlandnews.com
X-WR-CALDESC:Veranstaltungen für Niedersächsische LandNews
REFRESH-INTERVAL;VALUE=DURATION:PT1H
X-Robots-Tag:noindex
X-PUBLISHED-TTL:PT1H
BEGIN:VTIMEZONE
TZID:Europe/Berlin
BEGIN:DAYLIGHT
TZOFFSETFROM:+0100
TZOFFSETTO:+0200
TZNAME:CEST
DTSTART:20220327T010000
END:DAYLIGHT
BEGIN:STANDARD
TZOFFSETFROM:+0200
TZOFFSETTO:+0100
TZNAME:CET
DTSTART:20221030T010000
END:STANDARD
BEGIN:DAYLIGHT
TZOFFSETFROM:+0100
TZOFFSETTO:+0200
TZNAME:CEST
DTSTART:20230326T010000
END:DAYLIGHT
BEGIN:STANDARD
TZOFFSETFROM:+0200
TZOFFSETTO:+0100
TZNAME:CET
DTSTART:20231029T010000
END:STANDARD
BEGIN:DAYLIGHT
TZOFFSETFROM:+0100
TZOFFSETTO:+0200
TZNAME:CEST
DTSTART:20240331T010000
END:DAYLIGHT
BEGIN:STANDARD
TZOFFSETFROM:+0200
TZOFFSETTO:+0100
TZNAME:CET
DTSTART:20241027T010000
END:STANDARD
END:VTIMEZONE
BEGIN:VEVENT
DTSTART;TZID=Europe/Berlin:20230707T190000
DTEND;TZID=Europe/Berlin:20230707T203000
DTSTAMP:20260420T172607
CREATED:20230605T084234Z
LAST-MODIFIED:20230605T084234Z
UID:30348-1688756400-1688761800@niedersachsen.stadtlandnews.com
SUMMARY:Konzert: Blechblasensemble "FüBrass"
DESCRIPTION:Ein echtes Highlight! Eines von zwei Konzerten in der Region Hannover findet in Ehlershausen statt. \n\nWir laden Sie herzlich zu einem ganz besonderen Konzert ein! Das Blechblasensemble FüBrass wird am 07.07.2023 um 19 Uhr in unserer Kirche auftreten. \nDas Ensemble wurde im Jahr 2009 von Studierenden des Fächerübergreifenden Bachelorstudiengangs (FüBa) der Hochschule für Musik\, Theater und Medien (HMTMH) gegründet und hat sich seitdem der kammermusikalischen Literatur für Blechbläser verschrieben. In diesem Semester präsentieren die Musikerinnen und Musiker Stücke von und für das \,\,Philip Jones Brass Ensemble“. \nDer Eintritt zu diesem Konzert ist frei. Wir freuen uns auf Ihren Besuch und über eine Spende für Projekte in unserer Gemeinde.
URL:https://niedersachsen.stadtlandnews.com/event/konzert-blechblasensemble-fuebrass/
ATTACH;FMTTYPE=image/jpeg:https://niedersachsen.stadtlandnews.com/wp-content/uploads/sites/6/2023/06/fuebrass-e1685953999762.jpg
END:VEVENT
END:VCALENDAR