BEGIN:VCALENDAR
VERSION:2.0
PRODID:-//Niedersächsische LandNews - ECPv6.15.20//NONSGML v1.0//EN
CALSCALE:GREGORIAN
METHOD:PUBLISH
X-WR-CALNAME:Niedersächsische LandNews
X-ORIGINAL-URL:https://niedersachsen.stadtlandnews.com
X-WR-CALDESC:Veranstaltungen für Niedersächsische LandNews
REFRESH-INTERVAL;VALUE=DURATION:PT1H
X-Robots-Tag:noindex
X-PUBLISHED-TTL:PT1H
BEGIN:VTIMEZONE
TZID:Europe/Berlin
BEGIN:DAYLIGHT
TZOFFSETFROM:+0100
TZOFFSETTO:+0200
TZNAME:CEST
DTSTART:20220327T010000
END:DAYLIGHT
BEGIN:STANDARD
TZOFFSETFROM:+0200
TZOFFSETTO:+0100
TZNAME:CET
DTSTART:20221030T010000
END:STANDARD
BEGIN:DAYLIGHT
TZOFFSETFROM:+0100
TZOFFSETTO:+0200
TZNAME:CEST
DTSTART:20230326T010000
END:DAYLIGHT
BEGIN:STANDARD
TZOFFSETFROM:+0200
TZOFFSETTO:+0100
TZNAME:CET
DTSTART:20231029T010000
END:STANDARD
BEGIN:DAYLIGHT
TZOFFSETFROM:+0100
TZOFFSETTO:+0200
TZNAME:CEST
DTSTART:20240331T010000
END:DAYLIGHT
BEGIN:STANDARD
TZOFFSETFROM:+0200
TZOFFSETTO:+0100
TZNAME:CET
DTSTART:20241027T010000
END:STANDARD
END:VTIMEZONE
BEGIN:VEVENT
DTSTART;TZID=Europe/Berlin:20231126T170000
DTEND;TZID=Europe/Berlin:20231126T183000
DTSTAMP:20260420T094148
CREATED:20231120T140837Z
LAST-MODIFIED:20231120T140837Z
UID:36660-1701018000-1701023400@niedersachsen.stadtlandnews.com
SUMMARY:Musik und Texte zum Ewigkeitssonntag
DESCRIPTION:Am 26. November ab 17 Uhr findet in der Martin-Luther-Kirche wieder das traditionelle Konzert zum Ewigkeitssonntag statt. \nEckart Altenmüller und Gerd Müller-Lorenz spielen stimmungsvolle Werke für Flöte und Klavier von der Barockzeit bis in die Moderne. Dazu gibt es Texte zum Nachdenken\, ausgesucht und gelesen von Beate Friesecke-Wzietek und Andrea Kamke. Der Eintritt ist frei\, um Spenden wird gebeten. \nWir freuen uns auf Euch!
URL:https://niedersachsen.stadtlandnews.com/event/musik-und-texte-zum-ewigkeitssonntag/
ATTACH;FMTTYPE=image/jpeg:https://niedersachsen.stadtlandnews.com/wp-content/uploads/sites/6/2023/11/sonnenuntergang.jpg
END:VEVENT
END:VCALENDAR