BEGIN:VCALENDAR
VERSION:2.0
PRODID:-//Niedersächsische LandNews - ECPv6.15.20//NONSGML v1.0//EN
CALSCALE:GREGORIAN
METHOD:PUBLISH
X-ORIGINAL-URL:https://niedersachsen.stadtlandnews.com
X-WR-CALDESC:Veranstaltungen für Niedersächsische LandNews
REFRESH-INTERVAL;VALUE=DURATION:PT1H
X-Robots-Tag:noindex
X-PUBLISHED-TTL:PT1H
BEGIN:VTIMEZONE
TZID:Europe/Berlin
BEGIN:DAYLIGHT
TZOFFSETFROM:+0100
TZOFFSETTO:+0200
TZNAME:CEST
DTSTART:20220327T010000
END:DAYLIGHT
BEGIN:STANDARD
TZOFFSETFROM:+0200
TZOFFSETTO:+0100
TZNAME:CET
DTSTART:20221030T010000
END:STANDARD
BEGIN:DAYLIGHT
TZOFFSETFROM:+0100
TZOFFSETTO:+0200
TZNAME:CEST
DTSTART:20230326T010000
END:DAYLIGHT
BEGIN:STANDARD
TZOFFSETFROM:+0200
TZOFFSETTO:+0100
TZNAME:CET
DTSTART:20231029T010000
END:STANDARD
BEGIN:DAYLIGHT
TZOFFSETFROM:+0100
TZOFFSETTO:+0200
TZNAME:CEST
DTSTART:20240331T010000
END:DAYLIGHT
BEGIN:STANDARD
TZOFFSETFROM:+0200
TZOFFSETTO:+0100
TZNAME:CET
DTSTART:20241027T010000
END:STANDARD
END:VTIMEZONE
BEGIN:VEVENT
DTSTART;TZID=Europe/Berlin:20230303T190000
DTEND;TZID=Europe/Berlin:20230303T210000
DTSTAMP:20260420T195244
CREATED:20230227T103751Z
LAST-MODIFIED:20230227T103751Z
UID:24478-1677870000-1677877200@niedersachsen.stadtlandnews.com
SUMMARY:Weltgebetstag in Rhade
DESCRIPTION:Die Frauen der St-Gallus-Kirchengemeinde Rhade laden zum Weltgebetstag ein mit anschließendem taiwanesischen Buffet.
URL:https://niedersachsen.stadtlandnews.com/event/weltgebetstag-in-rhade/
LOCATION:St.-Gallus Kirche Rhade\, Schulstrasse 2\, 27404 Rhade\, Niedersachsen\, 27404\, Deutschland
ATTACH;FMTTYPE=image/jpeg:https://niedersachsen.stadtlandnews.com/wp-content/uploads/sites/6/2023/02/9327A754-FE4B-4ED7-B980-C64C67ABEDCF.jpeg
END:VEVENT
BEGIN:VEVENT
DTSTART;TZID=Europe/Berlin:20230329T190000
DTEND;TZID=Europe/Berlin:20230329T203000
DTSTAMP:20260420T195244
CREATED:20230327T062635Z
LAST-MODIFIED:20230327T062635Z
UID:25907-1680116400-1680121800@niedersachsen.stadtlandnews.com
SUMMARY:Taizé Andacht
DESCRIPTION:Am Mittwochabend\, 29.3.2023 findet um 19:00 Uhr eine Taizéandacht im St-Gallus-Gemeindehaus statt.
URL:https://niedersachsen.stadtlandnews.com/event/taize-andacht/
LOCATION:Gemeindehaus Rhade\, Hauptstrasse 10\, Hauptstraße 10\, 27404 Rhade\, Niedersachsen\, 27404\, Deutschland
ATTACH;FMTTYPE=image/jpeg:https://niedersachsen.stadtlandnews.com/wp-content/uploads/sites/6/2023/03/40555614-3839-461A-A5AC-3BC2B0346F76.jpeg
END:VEVENT
END:VCALENDAR