BEGIN:VCALENDAR
VERSION:2.0
PRODID:-//Niedersächsische LandNews - ECPv6.15.20//NONSGML v1.0//EN
CALSCALE:GREGORIAN
METHOD:PUBLISH
X-WR-CALNAME:Niedersächsische LandNews
X-ORIGINAL-URL:https://niedersachsen.stadtlandnews.com
X-WR-CALDESC:Veranstaltungen für Niedersächsische LandNews
REFRESH-INTERVAL;VALUE=DURATION:PT1H
X-Robots-Tag:noindex
X-PUBLISHED-TTL:PT1H
BEGIN:VTIMEZONE
TZID:Europe/Berlin
BEGIN:DAYLIGHT
TZOFFSETFROM:+0100
TZOFFSETTO:+0200
TZNAME:CEST
DTSTART:20220327T010000
END:DAYLIGHT
BEGIN:STANDARD
TZOFFSETFROM:+0200
TZOFFSETTO:+0100
TZNAME:CET
DTSTART:20221030T010000
END:STANDARD
BEGIN:DAYLIGHT
TZOFFSETFROM:+0100
TZOFFSETTO:+0200
TZNAME:CEST
DTSTART:20230326T010000
END:DAYLIGHT
BEGIN:STANDARD
TZOFFSETFROM:+0200
TZOFFSETTO:+0100
TZNAME:CET
DTSTART:20231029T010000
END:STANDARD
BEGIN:DAYLIGHT
TZOFFSETFROM:+0100
TZOFFSETTO:+0200
TZNAME:CEST
DTSTART:20240331T010000
END:DAYLIGHT
BEGIN:STANDARD
TZOFFSETFROM:+0200
TZOFFSETTO:+0100
TZNAME:CET
DTSTART:20241027T010000
END:STANDARD
END:VTIMEZONE
BEGIN:VEVENT
DTSTART;TZID=Europe/Berlin:20230311T180000
DTEND;TZID=Europe/Berlin:20230311T193000
DTSTAMP:20260420T174936
CREATED:20230109T105921Z
LAST-MODIFIED:20230109T105921Z
UID:22309-1678557600-1678563000@niedersachsen.stadtlandnews.com
SUMMARY:"Allegra und Herr K." in Ehlershausen
DESCRIPTION:Lutz König kommt am 11. März (18 Uhr) mit seinem neuen Frauenchor in die Martin-Luther-Kirche. Freuen Sie sich auf ein mitreißendes Konzerterlebnis! Der Eintritt ist frei\, Spenden sind willkommen. \nNach der Ankündigung Lutz Königs\, einen neuen Chor ins Leben zu rufen\, ließen die Reaktionen nicht lange auf sich warten. Mittlerweile sind es 50 ambitionierte Sängerinnen\, die sich zu einem glänzend aufeinander eingestimmten Vokalensemble entwickelt haben und ungewohnte musikalische Wege beschreiten. Die Sängerinnen und ihr Leiter bezeichnen ihr Projekt als „Alternative-Mystery-Chor“. Demnach enthält das bisher einstudierte Repertoire neben bekannten Rock-Oldies zahlreiche Songs\, die sich durch eine dunkle\, geheimnisvolle oder melancholische Klangfarbe auszeichnen. \nAuf dem von Lutz König vierstimmig arrangierten und von ihm am Klavier begleiteten Konzertprogramm stehen u.a. die Stücke „Shine On You Crazy Diamond“ (Pink Floyd)\, „Friday I‘m In Love“ (The Cure)\, „I Was Made For Loving You“ (Kiss)\, „Smells Like Teen Spirit“ (Nirvana)\, „With Or Without You“ (U2) und „The One I Love“ (R.E.M.).
URL:https://niedersachsen.stadtlandnews.com/event/allegra-und-herr-k-in-ehlershausen/
ATTACH;FMTTYPE=image/jpeg:https://niedersachsen.stadtlandnews.com/wp-content/uploads/sites/6/2023/01/9247-Allegra-Foto_aus_2022-Color-scaled.jpg
END:VEVENT
BEGIN:VEVENT
DTSTART;TZID=Europe/Berlin:20230325T180000
DTEND;TZID=Europe/Berlin:20230325T190000
DTSTAMP:20260420T174936
CREATED:20230227T081231Z
LAST-MODIFIED:20230227T081231Z
UID:24469-1679767200-1679770800@niedersachsen.stadtlandnews.com
SUMMARY:Orgelkonzert mit Rieke Könecke
DESCRIPTION:Zweimal musste das Konzert in den letzten zwei Jahren abgesagt werden\, aber jetzt ist es endlich soweit: Am Samstag\, 25. März um 18 Uhr spielt Rieke Könecke auf der Orgel in der Martin-Luther-Kirche. \nDas abwechlungsreiche Programm aus mehreren Jahrhunderten umfasst Werke von J.-S. Bach\, Edward Elgar\, Olivier Messiaen\, Jeanne Demessieux und weiteren Komponisten\, aber auch eigene Arrangements. \nDie junge Sievershausenerin studiert an der Musikhochschule Hannover mit Orgel als Nebenfach. Im Alter von 12 Jahren besuchte sie die Orgelschnuppertage im Kirchenkreis und entdeckte dabei ihre Faszination für die Königin der Instrumente. Sie nahm Unterricht bei Martin Burzeya in Burgdorf und erhielt ein Stipendium der Landeskirche für die Ausbildung zur D-Orgelprüfung\, die sie 2019 ablegte. Außerdem spielt sie Klavier und Tenorsaxofon\, liebt auch Jazz\, Pop und Rock und sucht stets nach Möglichkeiten\, dies auf all ihren Instrumenten auszuleben. So entstand die Idee zum „Queen-Medley“ für die Orgel\, das sie in Ehlershausen ebenfalls spielen wird \nDer Eintritt ist frei\, wir freuen uns über Spenden für Projekte in unserer Gemeinde.
URL:https://niedersachsen.stadtlandnews.com/event/orgelkonzert-mit-rieke-koenecke/
ATTACH;FMTTYPE=image/jpeg:https://niedersachsen.stadtlandnews.com/wp-content/uploads/sites/6/2023/01/rieke_koenecke.jpg
END:VEVENT
END:VCALENDAR