BEGIN:VCALENDAR
VERSION:2.0
PRODID:-//Niedersächsische LandNews - ECPv6.15.20//NONSGML v1.0//EN
CALSCALE:GREGORIAN
METHOD:PUBLISH
X-ORIGINAL-URL:https://niedersachsen.stadtlandnews.com
X-WR-CALDESC:Veranstaltungen für Niedersächsische LandNews
REFRESH-INTERVAL;VALUE=DURATION:PT1H
X-Robots-Tag:noindex
X-PUBLISHED-TTL:PT1H
BEGIN:VTIMEZONE
TZID:Europe/Berlin
BEGIN:DAYLIGHT
TZOFFSETFROM:+0100
TZOFFSETTO:+0200
TZNAME:CEST
DTSTART:20220327T010000
END:DAYLIGHT
BEGIN:STANDARD
TZOFFSETFROM:+0200
TZOFFSETTO:+0100
TZNAME:CET
DTSTART:20221030T010000
END:STANDARD
BEGIN:DAYLIGHT
TZOFFSETFROM:+0100
TZOFFSETTO:+0200
TZNAME:CEST
DTSTART:20230326T010000
END:DAYLIGHT
BEGIN:STANDARD
TZOFFSETFROM:+0200
TZOFFSETTO:+0100
TZNAME:CET
DTSTART:20231029T010000
END:STANDARD
BEGIN:DAYLIGHT
TZOFFSETFROM:+0100
TZOFFSETTO:+0200
TZNAME:CEST
DTSTART:20240331T010000
END:DAYLIGHT
BEGIN:STANDARD
TZOFFSETFROM:+0200
TZOFFSETTO:+0100
TZNAME:CET
DTSTART:20241027T010000
END:STANDARD
END:VTIMEZONE
BEGIN:VEVENT
DTSTART;TZID=Europe/Berlin:20230708T110000
DTEND;TZID=Europe/Berlin:20230708T120000
DTSTAMP:20260420T102956
CREATED:20230703T131901Z
LAST-MODIFIED:20230703T131901Z
UID:32091-1688814000-1688817600@niedersachsen.stadtlandnews.com
SUMMARY:Straßenkonzert mit Aynaz Nabahat
DESCRIPTION:Am 8. Juli geht es weiter mit der diesjährigen Straßenkonzertsaison in der Vareler Fußgängerzone. Spielen wird die Oldenburger Künstlerin Aynaz Nabahat auf dem Piano unter der Musikrichtung Klassik / Moderne Klassik / Pop. Das Straßenkonzert wird von 11 -12 Uhr vor dem Modehaus Schnittiger stattfinden. Als Organisatoren hoffen die Agenda Varel und Jens Kastner\, einen Beitrag zur kulturellen Belebung der Fußgängerzone zu leisten. Wie viele andere Fußgängerzonen leidet auch die Vareler Fußgängerzone am Trend zum Online-Shopping. Im letzten Jahr hat es fünf solche Straßenkonzerte in der Vareler Fußgängerzone gegeben. Dieses Jahr konnten die Stadt Varel und die Vareler Werbegemeinschaft als Sponsoren gewonnen werden. 
URL:https://niedersachsen.stadtlandnews.com/event/strassenkonzert-mit-aynaz-nabahat/
LOCATION:Fußgängerzone Varel\, Krabbenpulerin\, Ecke Obernstraße/ Hindenburgstraße (vor dem Textilgeschäft Schnittger)\, Varel\, 26316
ATTACH;FMTTYPE=image/jpeg:https://niedersachsen.stadtlandnews.com/wp-content/uploads/sites/6/2023/07/2023-07-08_Plakat-Nahabat-2_dorffunk.jpg
ORGANIZER;CN="Agenda Varel":MAILTO:info@agenda-varel.de
END:VEVENT
BEGIN:VEVENT
DTSTART;TZID=Europe/Berlin:20230715T110000
DTEND;TZID=Europe/Berlin:20230715T120000
DTSTAMP:20260420T102956
CREATED:20230703T125631Z
LAST-MODIFIED:20230703T125631Z
UID:32088-1689418800-1689422400@niedersachsen.stadtlandnews.com
SUMMARY:Straßenkonzert mit Yasemin und Deniz Berkenbusch
DESCRIPTION:Mit Musik den Einkaufstag ‚versüßen‘ \n \nYasemin und Deniz Berkenbusch musizieren in Vareler Innenstadt \nEine außergewöhnliche Darbietung von ‚Straßenmusik‘ präsentiert die Agenda Varel am Samstag\, 15. Juli\, ab 11 Uhr in der Vareler Innenstadt. Mit einem weit gefächerten musikalischen Repertoire ist das Musiker-Duo Yasemin und Deniz Berkenbusch an der Ecke Obernstraße/ Hindenburgstraße (vor dem Textilgeschäft Schnittger) zu erleben. Dabei will das Geschwisterpaar die Gäste der Vareler Innenstadt mit Geigen-\, Cello- und solistischen Gesangsdarbietungen erfreuen. Klassik-\, Pop- und World Music stehen auf dem Programm der beiden jungen Musiker. „Wir wollen unsere Zuhörerinnen und Zuhörer in erster Linie gut unterhalten und haben dafür ein abwechslungsreiches und musikalisch vielseitiges Repertoire ausgewählt“\, meint Violinist Deniz Berkenbusch\, der nicht nur durch Deutschland-weite solistische Auftritte\, sondern auch durch Youtube-Film- Projekte wie etwa ‚Kinda wrong‘ oder ‚Manana‘ überregional bekannt ist. ‚Vor allem gute Laune‘ sollten die gemeinsamen Duett-Darbietungen vermitteln\, ergänzt Yasemin Berkenbusch\, die als Sängerin und Cellistin ebenfalls über die Landesgrenzen hinweg unterwegs ist\, aber auch als Studiokünstlerin eigene künstlerische Akzente setzt\, z.B. mit markanten modernen Songs\, deren Texte und Melodien sie selbst schreibt\, so etwa der Youtube-Musikfilm ‚I can’t‘. „Wir freuen uns selbst schon sehr auf dieses Projekt“\, verrät die junge Musikerin\, „schließlich ist es immer am schönsten\, in der Heimatstadt\, in der man so viele Menschen kennt\, aktiv zu sein“. „Schlicht gesagt wollen wir den Leuten mit unserer Musik den Einkaufstag in unserer schönen Vareler Innenstadt ein bisschen versüßen“\, resümiert Deniz Berkenbusch.
URL:https://niedersachsen.stadtlandnews.com/event/strassenkonzert-mit-yasemin-und-deniz-berkenbusch/
LOCATION:Fußgängerzone Varel\, Krabbenpulerin\, Ecke Obernstraße/ Hindenburgstraße (vor dem Textilgeschäft Schnittger)\, Varel\, 26316
ATTACH;FMTTYPE=image/jpeg:https://niedersachsen.stadtlandnews.com/wp-content/uploads/sites/6/2023/07/2023-07-15_Plakat-Berkenbusch_Dorffunk.jpg
ORGANIZER;CN="Agenda Varel":MAILTO:info@agenda-varel.de
END:VEVENT
BEGIN:VEVENT
DTSTART;TZID=Europe/Berlin:20230729T110000
DTEND;TZID=Europe/Berlin:20230729T120000
DTSTAMP:20260420T102956
CREATED:20230718T102800Z
LAST-MODIFIED:20230718T102800Z
UID:32531-1690628400-1690632000@niedersachsen.stadtlandnews.com
SUMMARY:Straßenkonzert "Hard to explain"
DESCRIPTION:Am Samstag\, dem 29.7.2023 geht es weiter mit der Straßenkonzert-Reihe in der Vareler Fußgängerzone. Es spielt das Quartett Hard to Explain um die Sängerin Lisa Higgen-Adamla. Beginn ist um 11 Uhr. Es wird dieses Mal nicht bei der Krabbenpulerin\, sondern vor dem Reformhaus in der Hindenburgstraße 2 gespielt. \nDie Straßenkonzert-Reihe ist ein Projekt von Jens Kastner\, welches mit Unterstützung der Agenda Varel organisiert wird. Ziel ist\, die Attraktivität der Fußgängerzone durch kleine Kulturevents zu erhalten. Dieses Jahr konnten die Stadt Varel\, der Landkreis Friesland sowie die Vareler Werbegemeinschaft als Sponsoren gewonnen werden.
URL:https://niedersachsen.stadtlandnews.com/event/strassenkonzert-hard-to-explain/
LOCATION:Fußgängerzone Varel\, Reformhaus Ebken\, Hindenburgstr. 2\, Varel\, Niedersachsen\, 26316\, Deutschland
ATTACH;FMTTYPE=image/png:https://niedersachsen.stadtlandnews.com/wp-content/uploads/sites/6/2023/07/Hard-to-explain_Plakat_quer.png
ORGANIZER;CN="Agenda Varel":MAILTO:info@agenda-varel.de
END:VEVENT
END:VCALENDAR