BEGIN:VCALENDAR
VERSION:2.0
PRODID:-//Niedersächsische LandNews - ECPv6.15.20//NONSGML v1.0//EN
CALSCALE:GREGORIAN
METHOD:PUBLISH
X-WR-CALNAME:Niedersächsische LandNews
X-ORIGINAL-URL:https://niedersachsen.stadtlandnews.com
X-WR-CALDESC:Veranstaltungen für Niedersächsische LandNews
REFRESH-INTERVAL;VALUE=DURATION:PT1H
X-Robots-Tag:noindex
X-PUBLISHED-TTL:PT1H
BEGIN:VTIMEZONE
TZID:Europe/Berlin
BEGIN:DAYLIGHT
TZOFFSETFROM:+0100
TZOFFSETTO:+0200
TZNAME:CEST
DTSTART:20250330T010000
END:DAYLIGHT
BEGIN:STANDARD
TZOFFSETFROM:+0200
TZOFFSETTO:+0100
TZNAME:CET
DTSTART:20251026T010000
END:STANDARD
BEGIN:DAYLIGHT
TZOFFSETFROM:+0100
TZOFFSETTO:+0200
TZNAME:CEST
DTSTART:20260329T010000
END:DAYLIGHT
BEGIN:STANDARD
TZOFFSETFROM:+0200
TZOFFSETTO:+0100
TZNAME:CET
DTSTART:20261025T010000
END:STANDARD
BEGIN:DAYLIGHT
TZOFFSETFROM:+0100
TZOFFSETTO:+0200
TZNAME:CEST
DTSTART:20270328T010000
END:DAYLIGHT
BEGIN:STANDARD
TZOFFSETFROM:+0200
TZOFFSETTO:+0100
TZNAME:CET
DTSTART:20271031T010000
END:STANDARD
END:VTIMEZONE
BEGIN:VEVENT
DTSTART;TZID=Europe/Berlin:20260830T120000
DTEND;TZID=Europe/Berlin:20260830T163000
DTSTAMP:20260422T063654
CREATED:20260418T075244Z
LAST-MODIFIED:20260420T200729Z
UID:64495-1788091200-1788107400@niedersachsen.stadtlandnews.com
SUMMARY:69. KreisKinderSportFest
DESCRIPTION:des KSB Rotenburg auf dem Sportgelände des MTV Wilstedt am 30.08.2026: Turnen\, Torwand\, Vierkampf\, Laserschießen\, Fußball‑Dart\, Koordination\, lustige Staffeln\, HoppelBürste u.v.m. Anmeldung für Rhader Kinder z.B. über den TSV Rhade. \n2026-Ausschreibung KiSpFe-Wilstedt
URL:https://niedersachsen.stadtlandnews.com/event/69-kreiskindersportfest/
LOCATION:Sportplatz Wilstedt\, An der Reitbahn 3\, Wilstedt\, 27412
CATEGORIES:Sport,Veranstaltungen
ATTACH;FMTTYPE=image/png:https://niedersachsen.stadtlandnews.com/wp-content/uploads/sites/6/2026/04/2026-KinderSportFest-Plakat-Wilstedt-Klein.png
ORGANIZER;CN="KSB Rotenburg":MAILTO:h.rosenbrock@ksb-rotenburg.de
END:VEVENT
END:VCALENDAR