BEGIN:VCALENDAR
VERSION:2.0
PRODID:-//Niedersächsische LandNews - ECPv6.15.20//NONSGML v1.0//EN
CALSCALE:GREGORIAN
METHOD:PUBLISH
X-WR-CALNAME:Niedersächsische LandNews
X-ORIGINAL-URL:https://niedersachsen.stadtlandnews.com
X-WR-CALDESC:Veranstaltungen für Niedersächsische LandNews
REFRESH-INTERVAL;VALUE=DURATION:PT1H
X-Robots-Tag:noindex
X-PUBLISHED-TTL:PT1H
BEGIN:VTIMEZONE
TZID:Europe/Berlin
BEGIN:DAYLIGHT
TZOFFSETFROM:+0100
TZOFFSETTO:+0200
TZNAME:CEST
DTSTART:20230326T010000
END:DAYLIGHT
BEGIN:STANDARD
TZOFFSETFROM:+0200
TZOFFSETTO:+0100
TZNAME:CET
DTSTART:20231029T010000
END:STANDARD
BEGIN:DAYLIGHT
TZOFFSETFROM:+0100
TZOFFSETTO:+0200
TZNAME:CEST
DTSTART:20240331T010000
END:DAYLIGHT
BEGIN:STANDARD
TZOFFSETFROM:+0200
TZOFFSETTO:+0100
TZNAME:CET
DTSTART:20241027T010000
END:STANDARD
BEGIN:DAYLIGHT
TZOFFSETFROM:+0100
TZOFFSETTO:+0200
TZNAME:CEST
DTSTART:20250330T010000
END:DAYLIGHT
BEGIN:STANDARD
TZOFFSETFROM:+0200
TZOFFSETTO:+0100
TZNAME:CET
DTSTART:20251026T010000
END:STANDARD
END:VTIMEZONE
BEGIN:VEVENT
DTSTART;TZID=Europe/Berlin:20240307T190000
DTEND;TZID=Europe/Berlin:20240307T210000
DTSTAMP:20260420T020856
CREATED:20240304T092320Z
LAST-MODIFIED:20240304T092358Z
UID:39583-1709838000-1709845200@niedersachsen.stadtlandnews.com
SUMMARY:Körperliche Veränderungen im Alter  „Mit 66 Jahren – fängt das Leben erst an“.
DESCRIPTION:Auf sehr humorvolle Art möchte Dr. Heiko William mit seiner Frau dieses Thema uns nahebringen. \nIhnen liegt dabei nicht nur unsere Gesundheit\, sondern auch unsere Seelen sowie unsere persönlicheEinstellung zum Altwerden am Herzen. \nThemen: \n• Wie kann ich meine 2. Lebenshälfte gestalten?\n• Ich habe endlich mehr Zeit für mich selbst und kann meine Hobbys ausleben.\n• Nun kann ich bewusster auf meine Ernährung und meine Bewegung achten.\nÜberlegungen zu diesem Thema: \n• Diesen unangenehmen Moment zwischen Kindergarten und Rente habe ich endlich hinter mir gelassen.\n• Ich brauche einen neuen Kopf\, der alte denkt zu viel.\n• Ich bin nicht erwachsen\, ich sehe nur so aus.\n• Irgendwie sind alle Leute in meinem Alter viel älter als ich.\nDer Kostenbeitrag für: Insalata di pollo – 14.50 Euro \nBlattsalate mit Gurken\, Karotten\, Zwiebeln\, Tomaten\, gebratenes Hähnchenbrustfilet und Schafskäse mit Hausdressing\, incl. Brot und Dip.
URL:https://niedersachsen.stadtlandnews.com/event/koerperliche-veraenderungen-im-alter-mit-66-jahren-faengt-das-leben-erst-an/
LOCATION:La Locanda\, Landstraße 33\, Ostereistedt\, Niedersachsen\, 27404\, Deutschland
ATTACH;FMTTYPE=image/jpeg:https://niedersachsen.stadtlandnews.com/wp-content/uploads/sites/6/2024/03/IMG_8134.jpeg
END:VEVENT
END:VCALENDAR