BEGIN:VCALENDAR
VERSION:2.0
PRODID:-//Niedersächsische LandNews - ECPv6.15.20//NONSGML v1.0//EN
CALSCALE:GREGORIAN
METHOD:PUBLISH
X-ORIGINAL-URL:https://niedersachsen.stadtlandnews.com
X-WR-CALDESC:Veranstaltungen für Niedersächsische LandNews
REFRESH-INTERVAL;VALUE=DURATION:PT1H
X-Robots-Tag:noindex
X-PUBLISHED-TTL:PT1H
BEGIN:VTIMEZONE
TZID:Europe/Berlin
BEGIN:DAYLIGHT
TZOFFSETFROM:+0100
TZOFFSETTO:+0200
TZNAME:CEST
DTSTART:20230326T010000
END:DAYLIGHT
BEGIN:STANDARD
TZOFFSETFROM:+0200
TZOFFSETTO:+0100
TZNAME:CET
DTSTART:20231029T010000
END:STANDARD
BEGIN:DAYLIGHT
TZOFFSETFROM:+0100
TZOFFSETTO:+0200
TZNAME:CEST
DTSTART:20240331T010000
END:DAYLIGHT
BEGIN:STANDARD
TZOFFSETFROM:+0200
TZOFFSETTO:+0100
TZNAME:CET
DTSTART:20241027T010000
END:STANDARD
BEGIN:DAYLIGHT
TZOFFSETFROM:+0100
TZOFFSETTO:+0200
TZNAME:CEST
DTSTART:20250330T010000
END:DAYLIGHT
BEGIN:STANDARD
TZOFFSETFROM:+0200
TZOFFSETTO:+0100
TZNAME:CET
DTSTART:20251026T010000
END:STANDARD
END:VTIMEZONE
BEGIN:VEVENT
DTSTART;TZID=Europe/Berlin:20240331T200000
DTEND;TZID=Europe/Berlin:20240331T233000
DTSTAMP:20260419T172154
CREATED:20240223T151748Z
LAST-MODIFIED:20240223T151748Z
UID:39307-1711915200-1711927800@niedersachsen.stadtlandnews.com
SUMMARY:Osterfeuer der Landjugend Rhade
DESCRIPTION:Am Ostersonntag veranstaltet die Landjugend Rhade das traditionelle Osterfeuer am Winterdamm. \nDie Landjugend verkauft wie gewohnt Getränke und Gegrilltes.
URL:https://niedersachsen.stadtlandnews.com/event/osterfeuer-der-landjugend-rhade/
LOCATION:Osterfeuerplatz hinter dem Grünschnittplatz\, Rhade\, 27404
ATTACH;FMTTYPE=image/jpeg:https://niedersachsen.stadtlandnews.com/wp-content/uploads/sites/6/2024/02/IMG_4882-scaled.jpeg
END:VEVENT
END:VCALENDAR