BEGIN:VCALENDAR
VERSION:2.0
PRODID:-//Niedersächsische LandNews - ECPv6.15.20//NONSGML v1.0//EN
CALSCALE:GREGORIAN
METHOD:PUBLISH
X-WR-CALNAME:Niedersächsische LandNews
X-ORIGINAL-URL:https://niedersachsen.stadtlandnews.com
X-WR-CALDESC:Veranstaltungen für Niedersächsische LandNews
REFRESH-INTERVAL;VALUE=DURATION:PT1H
X-Robots-Tag:noindex
X-PUBLISHED-TTL:PT1H
BEGIN:VTIMEZONE
TZID:Europe/Berlin
BEGIN:DAYLIGHT
TZOFFSETFROM:+0100
TZOFFSETTO:+0200
TZNAME:CEST
DTSTART:20230326T010000
END:DAYLIGHT
BEGIN:STANDARD
TZOFFSETFROM:+0200
TZOFFSETTO:+0100
TZNAME:CET
DTSTART:20231029T010000
END:STANDARD
BEGIN:DAYLIGHT
TZOFFSETFROM:+0100
TZOFFSETTO:+0200
TZNAME:CEST
DTSTART:20240331T010000
END:DAYLIGHT
BEGIN:STANDARD
TZOFFSETFROM:+0200
TZOFFSETTO:+0100
TZNAME:CET
DTSTART:20241027T010000
END:STANDARD
BEGIN:DAYLIGHT
TZOFFSETFROM:+0100
TZOFFSETTO:+0200
TZNAME:CEST
DTSTART:20250330T010000
END:DAYLIGHT
BEGIN:STANDARD
TZOFFSETFROM:+0200
TZOFFSETTO:+0100
TZNAME:CET
DTSTART:20251026T010000
END:STANDARD
END:VTIMEZONE
BEGIN:VEVENT
DTSTART;TZID=Europe/Berlin:20240406T090000
DTEND;TZID=Europe/Berlin:20240406T120000
DTSTAMP:20260419T195941
CREATED:20240325T091628Z
LAST-MODIFIED:20240325T091628Z
UID:40375-1712394000-1712404800@niedersachsen.stadtlandnews.com
SUMMARY:Bevor Gras drüber wächst - Landschaftsputz in Rhade
DESCRIPTION:Liebe Rhader Bürgerinnen und Bürger\, liebe Jugendliche und Kinder.\nEs ist wieder soweit! Wir möchten hiermit zum jährlichen „Landschaftsputz“\nan den Wegerändern/Radwegen in der Gemarkung Rhade einladen. \nDaher die Bitte um kurze Anmeldung bei H.-H. Bohling: 0152/22098037 oder man klickt hier Interesse an. \n[pdf-embedder url=“https://stadtlandnews.com/wp-content/uploads/sites/6/2024/03/Flurbereinigung-2024.pdf“ title=“Flurbereinigung 2024″]
URL:https://niedersachsen.stadtlandnews.com/event/bevor-gras-drueber-waechst-landschaftsputz-in-rhade/
LOCATION:Dorfladen Rhade\, Zevener Straße 2\, Rhade\, 27404
ATTACH;FMTTYPE=image/jpeg:https://niedersachsen.stadtlandnews.com/wp-content/uploads/sites/6/2024/03/IMG_8267-scaled.jpeg
END:VEVENT
END:VCALENDAR