BEGIN:VCALENDAR
VERSION:2.0
PRODID:-//Niedersächsische LandNews - ECPv6.15.20//NONSGML v1.0//EN
CALSCALE:GREGORIAN
METHOD:PUBLISH
X-WR-CALNAME:Niedersächsische LandNews
X-ORIGINAL-URL:https://niedersachsen.stadtlandnews.com
X-WR-CALDESC:Veranstaltungen für Niedersächsische LandNews
REFRESH-INTERVAL;VALUE=DURATION:PT1H
X-Robots-Tag:noindex
X-PUBLISHED-TTL:PT1H
BEGIN:VTIMEZONE
TZID:Europe/Berlin
BEGIN:DAYLIGHT
TZOFFSETFROM:+0100
TZOFFSETTO:+0200
TZNAME:CEST
DTSTART:20210328T010000
END:DAYLIGHT
BEGIN:STANDARD
TZOFFSETFROM:+0200
TZOFFSETTO:+0100
TZNAME:CET
DTSTART:20211031T010000
END:STANDARD
BEGIN:DAYLIGHT
TZOFFSETFROM:+0100
TZOFFSETTO:+0200
TZNAME:CEST
DTSTART:20220327T010000
END:DAYLIGHT
BEGIN:STANDARD
TZOFFSETFROM:+0200
TZOFFSETTO:+0100
TZNAME:CET
DTSTART:20221030T010000
END:STANDARD
BEGIN:DAYLIGHT
TZOFFSETFROM:+0100
TZOFFSETTO:+0200
TZNAME:CEST
DTSTART:20230326T010000
END:DAYLIGHT
BEGIN:STANDARD
TZOFFSETFROM:+0200
TZOFFSETTO:+0100
TZNAME:CET
DTSTART:20231029T010000
END:STANDARD
END:VTIMEZONE
BEGIN:VEVENT
DTSTART;TZID=Europe/Berlin:20221207T190000
DTEND;TZID=Europe/Berlin:20221207T210000
DTSTAMP:20260420T213923
CREATED:20221201T070916Z
LAST-MODIFIED:20221201T070916Z
UID:21469-1670439600-1670446800@niedersachsen.stadtlandnews.com
SUMMARY:Motivation im Ehrenamt
DESCRIPTION:Am 7.12.2022 von 19.00 bis 21.00 Uhr im Gemeindehaus\, Hauptstraße 10\, Rhade findet eine Veranstaltung statt zu der ich herzlich einlade: \nWie motiviere ich (neue) Ehrenamtliche?\n– Ein Kurz-Workshop für (zukünftige) Vorstandsmitglieder in Vereinen \nDie Aufgaben nehmen zu\, das freiwillige Engagement nimmt ab und nun soll ich auch noch Freiwillige motivieren?\nWie soll das gehen? Und woher nehme ich die Zeit dafür? \nIm freiwilligen Engagement blühen wir auf und leisten viel für unseren Verein. Doch ein Problem gibt es: uns fehlen Freiwillige und Ehrenamtliche. Wie können wir das ändern? Was können wir tun\, um andere für unsere Sache zu gewinnen? \nIch lade Sie ein zu einem kurzweiligen Abend\, an dem wir miteinander über Motivation und Engagement sprechen und einige Erkenntnisse sammeln wollen. \nReferentin: Sandra Pragmann\, Koordinierungsstelle für ehrenamtliche Arbeit beim Landkreis Rotenburg (Wümme) \nBitte bei Olaf Wendelken anmelden unter 01735745382 oder zukunft.rhade@web.de.
URL:https://niedersachsen.stadtlandnews.com/event/motivation-im-ehrenamt/
LOCATION:Gemeindehaus Rhade\, Hauptstrasse 10\, Hauptstraße 10\, 27404 Rhade\, Niedersachsen\, 27404\, Deutschland
ATTACH;FMTTYPE=image/png:https://niedersachsen.stadtlandnews.com/wp-content/uploads/sites/6/2022/12/A050CFF5-F8B6-4691-A74E-3B0ED1816BB3.png
END:VEVENT
END:VCALENDAR