BEGIN:VCALENDAR
VERSION:2.0
PRODID:-//Niedersächsische LandNews - ECPv6.15.20//NONSGML v1.0//EN
CALSCALE:GREGORIAN
METHOD:PUBLISH
X-ORIGINAL-URL:https://niedersachsen.stadtlandnews.com
X-WR-CALDESC:Veranstaltungen für Niedersächsische LandNews
REFRESH-INTERVAL;VALUE=DURATION:PT1H
X-Robots-Tag:noindex
X-PUBLISHED-TTL:PT1H
BEGIN:VTIMEZONE
TZID:Europe/Berlin
BEGIN:DAYLIGHT
TZOFFSETFROM:+0100
TZOFFSETTO:+0200
TZNAME:CEST
DTSTART:20220327T010000
END:DAYLIGHT
BEGIN:STANDARD
TZOFFSETFROM:+0200
TZOFFSETTO:+0100
TZNAME:CET
DTSTART:20221030T010000
END:STANDARD
BEGIN:DAYLIGHT
TZOFFSETFROM:+0100
TZOFFSETTO:+0200
TZNAME:CEST
DTSTART:20230326T010000
END:DAYLIGHT
BEGIN:STANDARD
TZOFFSETFROM:+0200
TZOFFSETTO:+0100
TZNAME:CET
DTSTART:20231029T010000
END:STANDARD
BEGIN:DAYLIGHT
TZOFFSETFROM:+0100
TZOFFSETTO:+0200
TZNAME:CEST
DTSTART:20240331T010000
END:DAYLIGHT
BEGIN:STANDARD
TZOFFSETFROM:+0200
TZOFFSETTO:+0100
TZNAME:CET
DTSTART:20241027T010000
END:STANDARD
END:VTIMEZONE
BEGIN:VEVENT
DTSTART;TZID=Europe/Berlin:20230908T193000
DTEND;TZID=Europe/Berlin:20230908T230000
DTSTAMP:20260420T075733
CREATED:20230807T045213Z
LAST-MODIFIED:20230807T045213Z
UID:32996-1694201400-1694214000@niedersachsen.stadtlandnews.com
SUMMARY:TrioManie in der Mühle Liesebach
DESCRIPTION:Ein Trio verbreitet manische Klänge!\nSeit 2015 organisiert der Räbker Förderverein Konzerte in der Mühle Liesebach. Musikalisch traten bisher „Saitenstiche“\, „Ballydesmond“\, „DaDaLaMa“ und „TrioManie“ auf. Der Zuspruch war bei jedem der Konzerte überwältigend. \nIn diesem Jahr hat „TrioManie“ zum dritten Mal zugesagt. Gerd Vibrans\, der Bandleader der „Funnys“\, ist den Räbker*innen aus zahlreichen Veranstaltungen früherer Jahre wohl bekannt. Er bildet mit der Sängerin Claudine Finke sowie dem Geiger Miko Mikulicz das Trio\, das sich 2017 gründete. \nDas Programm setzt sich u. a. zusammen aus Titeln von Adele\, Bruno Mars\, Caro Emerald\, Milow\, Nora Jones\, sowie Klassikern von Elvis\, Ray Charles und den Beatles. Sängerin Claudine moderiert die Songs mit kleinen launischen Kommentaren an und begleitet viele Titel mit der Gitarre oder mit diversen Percussion-Instrumenten. \nDurch die einzigartige Besetzung\, die einen hohen Wiedererkennungswert mit einem äuerst geringen technischen Aufwand verbindet\, wird die dargebotene Musik ganz bewusst auf das wirklich Wesentliche reduziert und mit Hingabe und viel Gefühl interpretiert. Jedem Song wird damit ein anderes Gesicht\, eine geänderte Farbe verliehen und so die Chance gegeben\, seinen eigenen Charme zu entwickeln – eine spannende Angelegenheit\, die mit individueller Ausdrucksstärke der Musiker gepaart ist. \nDer Eintritt an dem Abend ist frei. Es wird im Laufe des Abends um eine Spende zur Restaurierung des Gruppendenkmals Mühle Liesebach gebeten\, in dem es in den nächsten Monaten schwerpunktmäßig um die Präsentation Räbkes als Papiermacherdorf Niedersachsens gehen wird. \nFür das leibliche Wohl an dem Abend ist gesorgt. \nDer  Vorstand des Räbker Fördervereins Mühle Liesebach e. V. \n  \n 
URL:https://niedersachsen.stadtlandnews.com/event/triomanie-in-der-muehle-liesebach/
LOCATION:Mühle Liesebach\, Arme Reihe 67\, Räbke\, Niedersachsen\, 38375\, Deutschland
ATTACH;FMTTYPE=image/jpeg:https://niedersachsen.stadtlandnews.com/wp-content/uploads/sites/6/2023/08/Flyer-Konzert-TrioManie-8.-September-2023-Muehle-Liesebach-Raebke-2.jpg
END:VEVENT
END:VCALENDAR