BEGIN:VCALENDAR
VERSION:2.0
PRODID:-//Niedersächsische LandNews - ECPv6.15.20//NONSGML v1.0//EN
CALSCALE:GREGORIAN
METHOD:PUBLISH
X-WR-CALNAME:Niedersächsische LandNews
X-ORIGINAL-URL:https://niedersachsen.stadtlandnews.com
X-WR-CALDESC:Veranstaltungen für Niedersächsische LandNews
REFRESH-INTERVAL;VALUE=DURATION:PT1H
X-Robots-Tag:noindex
X-PUBLISHED-TTL:PT1H
BEGIN:VTIMEZONE
TZID:Europe/Berlin
BEGIN:DAYLIGHT
TZOFFSETFROM:+0100
TZOFFSETTO:+0200
TZNAME:CEST
DTSTART:20230326T010000
END:DAYLIGHT
BEGIN:STANDARD
TZOFFSETFROM:+0200
TZOFFSETTO:+0100
TZNAME:CET
DTSTART:20231029T010000
END:STANDARD
BEGIN:DAYLIGHT
TZOFFSETFROM:+0100
TZOFFSETTO:+0200
TZNAME:CEST
DTSTART:20240331T010000
END:DAYLIGHT
BEGIN:STANDARD
TZOFFSETFROM:+0200
TZOFFSETTO:+0100
TZNAME:CET
DTSTART:20241027T010000
END:STANDARD
BEGIN:DAYLIGHT
TZOFFSETFROM:+0100
TZOFFSETTO:+0200
TZNAME:CEST
DTSTART:20250330T010000
END:DAYLIGHT
BEGIN:STANDARD
TZOFFSETFROM:+0200
TZOFFSETTO:+0100
TZNAME:CET
DTSTART:20251026T010000
END:STANDARD
END:VTIMEZONE
BEGIN:VEVENT
DTSTART;TZID=Europe/Berlin:20240519T100000
DTEND;TZID=Europe/Berlin:20240519T180000
DTSTAMP:20260420T015022
CREATED:20240516T090756Z
LAST-MODIFIED:20240516T090756Z
UID:42164-1716112800-1716141600@niedersachsen.stadtlandnews.com
SUMMARY:Internationaler Museumstag in Friedland
DESCRIPTION:Am kommenden Sonntag lädt das Museum Friedland anlässlich des Internationalen Museumstages zu einem kostenfreien Besuch seiner Ausstellung ein. \nMit „Spot_it! Friedland in Bildern entdecken“ erwartet die Besucher:innen dabei ein besonderes Highlight: Die Wanderausstellung geht auf eine Serie von Malworkshops zurück\, die das Museum Friedland 2022 mit Kindern aus dem Grenzdurchgangslager und aus der Region Friedland durchgeführt hat. \nEinige der Bilder wurden zudem in den interaktiven App-Rundgang „Friedland in_motion“ eingebunden\, den Museumsgäste am Sonntag kostenlos mit dem eigenen Smartphone oder auf Leihgeräten zur Erkundung nutzen können \nKostenlose öffentliche Führungen: \n\n14 Uhr Führung durch die Dauerausstellung „Fluchtpunkt Friedland“ \n15:30 Uhr geführter Rundgang durch das Grenzdurchgangslager \n\nEine Anmeldung ist nicht erforderlich. \n 
URL:https://niedersachsen.stadtlandnews.com/event/internationaler-museumstag-in-friedland/
LOCATION:Museum Friedland\, Bahnhofstr. 2\, Friedland\, Niedersachsen\, 37133\, Deutschland
ATTACH;FMTTYPE=image/png:https://niedersachsen.stadtlandnews.com/wp-content/uploads/sites/6/2024/05/Museumstag-visu.png
ORGANIZER;CN="Museum Friedland":MAILTO:besuch@museum-friedland.de
END:VEVENT
END:VCALENDAR