BEGIN:VCALENDAR
VERSION:2.0
PRODID:-//Niedersächsische LandNews - ECPv6.15.20//NONSGML v1.0//EN
CALSCALE:GREGORIAN
METHOD:PUBLISH
X-ORIGINAL-URL:https://niedersachsen.stadtlandnews.com
X-WR-CALDESC:Veranstaltungen für Niedersächsische LandNews
REFRESH-INTERVAL;VALUE=DURATION:PT1H
X-Robots-Tag:noindex
X-PUBLISHED-TTL:PT1H
BEGIN:VTIMEZONE
TZID:Europe/Berlin
BEGIN:DAYLIGHT
TZOFFSETFROM:+0100
TZOFFSETTO:+0200
TZNAME:CEST
DTSTART:20230326T010000
END:DAYLIGHT
BEGIN:STANDARD
TZOFFSETFROM:+0200
TZOFFSETTO:+0100
TZNAME:CET
DTSTART:20231029T010000
END:STANDARD
BEGIN:DAYLIGHT
TZOFFSETFROM:+0100
TZOFFSETTO:+0200
TZNAME:CEST
DTSTART:20240331T010000
END:DAYLIGHT
BEGIN:STANDARD
TZOFFSETFROM:+0200
TZOFFSETTO:+0100
TZNAME:CET
DTSTART:20241027T010000
END:STANDARD
BEGIN:DAYLIGHT
TZOFFSETFROM:+0100
TZOFFSETTO:+0200
TZNAME:CEST
DTSTART:20250330T010000
END:DAYLIGHT
BEGIN:STANDARD
TZOFFSETFROM:+0200
TZOFFSETTO:+0100
TZNAME:CET
DTSTART:20251026T010000
END:STANDARD
END:VTIMEZONE
BEGIN:VEVENT
DTSTART;TZID=Europe/Berlin:20240629T113000
DTEND;TZID=Europe/Berlin:20240831T180000
DTSTAMP:20260419T200658
CREATED:20240627T184740Z
LAST-MODIFIED:20240627T184740Z
UID:43652-1719660600-1725127200@niedersachsen.stadtlandnews.com
SUMMARY:Sonderausstellung: JAZDA! WAY OF BECOMING
DESCRIPTION:Im Rahmen eines Jugendaustausches mit Projektphasen in Polen\, Frankreich und Deutschland haben sich Freiwilligendienstleistende und Studierende dieser drei Länder mit den Themen Identität(en)\, Migration(en) und Erinnerungskultur auseinandergesetzt. Im Mittelpunkt standen die Erfahrungen\, Perspektiven und Fragen der Teilnehmenden: Wie findet man den richtigen Weg im Leben und in\nder Welt? Lassen sich Grenzen überwinden? Was bedeutet Solidarität? \nAus dieser Arbeit ist eine Ausstellung entstanden\, die als Abschluss der letzten Projektphase am 29. Juni 2024 um 11:30 Uhr im Foyer des Museums Friedland eröffnet wird. Wir laden Sie herzlich ein\, dabei zu sein\, die künstlerische Darstellung der Projektergebnisse zu entdecken und mit den internationalen Teilnehmenden ins Gespräch zu kommen.
URL:https://niedersachsen.stadtlandnews.com/event/sonderausstellung-jazda-way-of-becoming/
LOCATION:Museum Friedland\, Bahnhofstr. 2\, Friedland\, Niedersachsen\, 37133\, Deutschland
ATTACH;FMTTYPE=image/jpeg:https://niedersachsen.stadtlandnews.com/wp-content/uploads/sites/6/2024/06/e9e62dd1-57af-4aea-ae56-27c95247b5fb-e1719495812433.jpg
ORGANIZER;CN="Museum Friedland":MAILTO:besuch@museum-friedland.de
END:VEVENT
END:VCALENDAR