BEGIN:VCALENDAR
VERSION:2.0
PRODID:-//Niedersächsische LandNews - ECPv6.15.20//NONSGML v1.0//EN
CALSCALE:GREGORIAN
METHOD:PUBLISH
X-WR-CALNAME:Niedersächsische LandNews
X-ORIGINAL-URL:https://niedersachsen.stadtlandnews.com
X-WR-CALDESC:Veranstaltungen für Niedersächsische LandNews
REFRESH-INTERVAL;VALUE=DURATION:PT1H
X-Robots-Tag:noindex
X-PUBLISHED-TTL:PT1H
BEGIN:VTIMEZONE
TZID:Europe/Berlin
BEGIN:DAYLIGHT
TZOFFSETFROM:+0100
TZOFFSETTO:+0200
TZNAME:CEST
DTSTART:20220327T010000
END:DAYLIGHT
BEGIN:STANDARD
TZOFFSETFROM:+0200
TZOFFSETTO:+0100
TZNAME:CET
DTSTART:20221030T010000
END:STANDARD
BEGIN:DAYLIGHT
TZOFFSETFROM:+0100
TZOFFSETTO:+0200
TZNAME:CEST
DTSTART:20230326T010000
END:DAYLIGHT
BEGIN:STANDARD
TZOFFSETFROM:+0200
TZOFFSETTO:+0100
TZNAME:CET
DTSTART:20231029T010000
END:STANDARD
BEGIN:DAYLIGHT
TZOFFSETFROM:+0100
TZOFFSETTO:+0200
TZNAME:CEST
DTSTART:20240331T010000
END:DAYLIGHT
BEGIN:STANDARD
TZOFFSETFROM:+0200
TZOFFSETTO:+0100
TZNAME:CET
DTSTART:20241027T010000
END:STANDARD
END:VTIMEZONE
BEGIN:VEVENT
DTSTART;TZID=Europe/Berlin:20231006T100000
DTEND;TZID=Europe/Berlin:20231006T190000
DTSTAMP:20260420T043246
CREATED:20231006T124438Z
LAST-MODIFIED:20231006T124438Z
UID:35081-1696586400-1696618800@niedersachsen.stadtlandnews.com
SUMMARY:Museums-FREI-tag in Friedland
DESCRIPTION:Diesen Freitag heißt es im Museum Friedland wieder: Eintritt frei. \nJeden ersten Freitag im Monat öffnet das Museum Friedland seine Türen für alle bei kostenfreiem Eintritt. Neben der Dauerausstellung „Fluchtpunkt Friedland“ gibt es im Augenblick auch die frisch eröffnete Sonderausstellung „Dengek me heye“ mit Bildern und Zeichnungen yezidischer Künstler:innen zu besichtigen. \n Eine verlängerte Öffnungszeit bis 19 Uhr und eine kostenlose öffentliche Führung um 17 Uhr runden den Museums-FREI-tag ab.
URL:https://niedersachsen.stadtlandnews.com/event/museums-frei-tag-in-friedland/
LOCATION:Museum Friedland\, Bahnhofstr. 2\, Friedland\, Niedersachsen\, 37133\, Deutschland
ATTACH;FMTTYPE=image/png:https://niedersachsen.stadtlandnews.com/wp-content/uploads/sites/6/2023/08/Kopie-von-Museums-Frei-brave-Facebook-Beitrag-Querformat-940-×-600-px1.png
ORGANIZER;CN="Museum Friedland":MAILTO:besuch@museum-friedland.de
END:VEVENT
BEGIN:VEVENT
DTSTART;TZID=Europe/Berlin:20231011T160000
DTEND;TZID=Europe/Berlin:20231011T170000
DTSTAMP:20260420T043246
CREATED:20231006T124553Z
LAST-MODIFIED:20231006T124553Z
UID:35149-1697040000-1697043600@niedersachsen.stadtlandnews.com
SUMMARY:Bibelfliesen-Bilder "Flucht und Vertreibung"
DESCRIPTION:Seit dem frühen 17. Jahrhundert wurden in den Niederlanden Fliesen mit biblischen Motiven hergestellt. Abbildungen von Flucht und Vertreibung sind hier immer wiederkehrende Motive – ein großes Menschheitsthema\, das bereits in der Bibel zentral ist. 16 dieser Motive versammelt die Wanderausstellung Bibelfliesen-Bilder »Flucht und Vertreibung« der Dokumentationsstätte Gnadenkirche Tidofeld und der Projektgruppe Kulturgut\, die bis Ende November in der St.-Norbert-Kirche in Friedland zu sehen ist\, Bibelfliesen auf zehn Aufstellern. \nAm 11. Oktober\, um 16 Uhr\, wird die Ausstellung in der Heimkehrerkirche St. Norbert eröffnet.
URL:https://niedersachsen.stadtlandnews.com/event/bibelfliesen-bilder-flucht-und-vertreibung/
LOCATION:Heimkehrerkirche St. Norbert\, St.-Norbert-Platz 2\, Friedland\, Niedersachsen\, 37133
ATTACH;FMTTYPE=image/jpeg:https://niedersachsen.stadtlandnews.com/wp-content/uploads/sites/6/2023/10/Bibelfliese-Aufsteller-5-p-scaled.jpg
ORGANIZER;CN="Museum Friedland":MAILTO:besuch@museum-friedland.de
END:VEVENT
BEGIN:VEVENT
DTSTART;TZID=Europe/Berlin:20231028T153000
DTEND;TZID=Europe/Berlin:20231028T170000
DTSTAMP:20260420T043246
CREATED:20231016T055144Z
LAST-MODIFIED:20231016T055144Z
UID:35331-1698507000-1698512400@niedersachsen.stadtlandnews.com
SUMMARY:Künstlerführung "Dengek me heye"
DESCRIPTION:Künstlerführung mit Ravo Ossman\nSie zeigen Menschen auf der Flucht\, traditionell yezidische Motive und Porträts von Geflüchteten – die Bilder der Sonderausstellung „Dengek me heye“ sind als eine Reaktion auf den Genozid an den Yeziden 2014 durch den sogenannten „Islamischen Staat“ entstanden. Bei einem geführten Rundgang wird der Künstler Ravo Ossman über seine Bilder sprechen – was sie zeigen und was ihn zum Malen bewegt hat. \n \nFür Fragen rund um die Geschichte und aktuelle Situation der Yezid:innen wird begleitend zum Rundgang auch die Gesellschaft für bedrohte Völker e.V. vertreten sein. \nDer Eintritt ist frei. Eine Anmeldung ist nicht erforderlich.
URL:https://niedersachsen.stadtlandnews.com/event/kuenstlerfuehrung-dengek-me-heye/
LOCATION:Museum Friedland\, Bahnhofstr. 2\, Friedland\, Niedersachsen\, 37133\, Deutschland
ATTACH;FMTTYPE=image/jpeg:https://niedersachsen.stadtlandnews.com/wp-content/uploads/sites/6/2023/10/Ravo.jpg
ORGANIZER;CN="Museum Friedland":MAILTO:besuch@museum-friedland.de
END:VEVENT
END:VCALENDAR