BEGIN:VCALENDAR
VERSION:2.0
PRODID:-//Niedersächsische LandNews - ECPv6.15.20//NONSGML v1.0//EN
CALSCALE:GREGORIAN
METHOD:PUBLISH
X-ORIGINAL-URL:https://niedersachsen.stadtlandnews.com
X-WR-CALDESC:Veranstaltungen für Niedersächsische LandNews
REFRESH-INTERVAL;VALUE=DURATION:PT1H
X-Robots-Tag:noindex
X-PUBLISHED-TTL:PT1H
BEGIN:VTIMEZONE
TZID:Europe/Berlin
BEGIN:DAYLIGHT
TZOFFSETFROM:+0100
TZOFFSETTO:+0200
TZNAME:CEST
DTSTART:20220327T010000
END:DAYLIGHT
BEGIN:STANDARD
TZOFFSETFROM:+0200
TZOFFSETTO:+0100
TZNAME:CET
DTSTART:20221030T010000
END:STANDARD
BEGIN:DAYLIGHT
TZOFFSETFROM:+0100
TZOFFSETTO:+0200
TZNAME:CEST
DTSTART:20230326T010000
END:DAYLIGHT
BEGIN:STANDARD
TZOFFSETFROM:+0200
TZOFFSETTO:+0100
TZNAME:CET
DTSTART:20231029T010000
END:STANDARD
BEGIN:DAYLIGHT
TZOFFSETFROM:+0100
TZOFFSETTO:+0200
TZNAME:CEST
DTSTART:20240331T010000
END:DAYLIGHT
BEGIN:STANDARD
TZOFFSETFROM:+0200
TZOFFSETTO:+0100
TZNAME:CET
DTSTART:20241027T010000
END:STANDARD
END:VTIMEZONE
BEGIN:VEVENT
DTSTART;TZID=Europe/Berlin:20231103T100000
DTEND;TZID=Europe/Berlin:20231103T190000
DTSTAMP:20260420T024536
CREATED:20231103T093807Z
LAST-MODIFIED:20231103T093807Z
UID:35802-1699005600-1699038000@niedersachsen.stadtlandnews.com
SUMMARY:Museums-FREI-tag in Friedland
DESCRIPTION:Diesen Freitag heißt es im Museum Friedland wieder: Eintritt frei. \nJeden ersten Freitag im Monat öffnet das Museum seine Türen für alle bei kostenfreiem Eintritt. Neben der Dauerausstellung “Fluchtpunkt Friedland” gibt es im Augenblick auch die Sonderausstellung “Dengek me heye” mit Bildern und Zeichnungen yezidischer Künstler:innen zu besichtigen. \n Eine verlängerte Öffnungszeit bis 19 Uhr und eine kostenlose öffentliche Führung um 17 Uhr runden den Museums-FREI-tag ab. \nDie öffentlichen Führungen richten sich an Einzelpersonen oder Familien\, die ins Museum kommen und die Ausstellung kennenlernen wollen.
URL:https://niedersachsen.stadtlandnews.com/event/museums-frei-tag-in-friedland-2/
LOCATION:Museum Friedland\, Bahnhofstr. 2\, Friedland\, Niedersachsen\, 37133\, Deutschland
ATTACH;FMTTYPE=image/png:https://niedersachsen.stadtlandnews.com/wp-content/uploads/sites/6/2023/08/Kopie-von-Museums-Frei-brave-Facebook-Beitrag-Querformat-940-×-600-px1.png
ORGANIZER;CN="Museum Friedland":MAILTO:besuch@museum-friedland.de
END:VEVENT
BEGIN:VEVENT
DTSTART;TZID=Europe/Berlin:20231125T180000
DTEND;TZID=Europe/Berlin:20231125T200000
DTSTAMP:20260420T024536
CREATED:20231121T151322Z
LAST-MODIFIED:20231121T151322Z
UID:36697-1700935200-1700942400@niedersachsen.stadtlandnews.com
SUMMARY:Lesung: Töchter der Sonne. Geflüchtete yezidische Frauen erzählen
DESCRIPTION:Rund 200.000 Yeziden leben in Deutschland\, vertrieben und immigriert aus ihren ursprünglichen Siedlungsgebieten im Nordirak\, wo sie seit Jahrhunderten unter Diskriminierung\, Verfolgung und Zwangskonvertierungen zum Islam leiden. In Deutschland findet sich die größte yezidische Diasporagemeinschaft weltweit. Jedoch ist hierzulande wenig über die Gruppe der Yeziden bekannt. \nIm Rahmen der Sonderausstellung „Dengek me heye – Wir haben eine Stimme“ findet am 25. November eine Lesung mit Sebra Xalti und Claudia Ruhs aus ihrem Buch „Töchter der Sonne“ statt. Das Buch enthält Schilderungen des alltäglichen Lebens und der Fluchterlebnisse yezidischer Frauen. Es möchte ein Band zwischen der yezidischen und der deutschen Kultur knüpfen. \nDer Eintritt ist frei. Eine Anmeldung ist nicht erforderlich.
URL:https://niedersachsen.stadtlandnews.com/event/lesung-toechter-der-sonne-gefluechtete-yezidische-frauen-erzaehlen/
LOCATION:Museum Friedland\, Bahnhofstr. 2\, Friedland\, Niedersachsen\, 37133\, Deutschland
ATTACH;FMTTYPE=image/jpeg:https://niedersachsen.stadtlandnews.com/wp-content/uploads/sites/6/2023/11/Cover_Toechter-der-Sonne-e1700573542302.jpg
ORGANIZER;CN="Museum Friedland":MAILTO:besuch@museum-friedland.de
END:VEVENT
END:VCALENDAR