BEGIN:VCALENDAR
VERSION:2.0
PRODID:-//Niedersächsische LandNews - ECPv6.15.20//NONSGML v1.0//EN
CALSCALE:GREGORIAN
METHOD:PUBLISH
X-ORIGINAL-URL:https://niedersachsen.stadtlandnews.com
X-WR-CALDESC:Veranstaltungen für Niedersächsische LandNews
REFRESH-INTERVAL;VALUE=DURATION:PT1H
X-Robots-Tag:noindex
X-PUBLISHED-TTL:PT1H
BEGIN:VTIMEZONE
TZID:Europe/Berlin
BEGIN:DAYLIGHT
TZOFFSETFROM:+0100
TZOFFSETTO:+0200
TZNAME:CEST
DTSTART:20220327T010000
END:DAYLIGHT
BEGIN:STANDARD
TZOFFSETFROM:+0200
TZOFFSETTO:+0100
TZNAME:CET
DTSTART:20221030T010000
END:STANDARD
BEGIN:DAYLIGHT
TZOFFSETFROM:+0100
TZOFFSETTO:+0200
TZNAME:CEST
DTSTART:20230326T010000
END:DAYLIGHT
BEGIN:STANDARD
TZOFFSETFROM:+0200
TZOFFSETTO:+0100
TZNAME:CET
DTSTART:20231029T010000
END:STANDARD
BEGIN:DAYLIGHT
TZOFFSETFROM:+0100
TZOFFSETTO:+0200
TZNAME:CEST
DTSTART:20240331T010000
END:DAYLIGHT
BEGIN:STANDARD
TZOFFSETFROM:+0200
TZOFFSETTO:+0100
TZNAME:CET
DTSTART:20241027T010000
END:STANDARD
END:VTIMEZONE
BEGIN:VEVENT
DTSTART;TZID=Europe/Berlin:20230716T170000
DTEND;TZID=Europe/Berlin:20230716T183000
DTSTAMP:20260420T154134
CREATED:20230711T074918Z
LAST-MODIFIED:20230711T074918Z
UID:32337-1689526800-1689532200@niedersachsen.stadtlandnews.com
SUMMARY:Konzert für Nichtverreiste
DESCRIPTION:Es gibt Musik\, die Geschichten erzählt. Es gibt Geschichten über Musik. Und zu manchen Komponisten gibt es interessante Geschichten oder Anekdoten zu berichten. \nDeswegen steht das diesjährige „Konzert für Nichtverreiste“ am Sonntag\, dem 16. Juli um 17 Uhr\, endlich wieder in der Ramlinger Kapelle unter dem Motto: „Musik-Geschichten“. \nAm Start ist wieder das bewährte Team aus Janne Klein (Klavier)\, Rika Uhle (Gesang) und Roland Baumgarte (Violoncello). Wie immer ist das Programm stilistisch breit gestreut. Es erklingen Werke von Schubert\, Debussy\, Fauré\, Piazzolla und anderen. Und natürlich wird das Publikum auch gelegentlich beschäftigt. \nDer Eintritt ist frei\, über eine Kollekte freuen sich die Darbietenden.
URL:https://niedersachsen.stadtlandnews.com/event/konzert-fuer-nichtverreiste/
ATTACH;FMTTYPE=image/jpeg:https://niedersachsen.stadtlandnews.com/wp-content/uploads/sites/6/2023/07/ramlinger_kapelle.jpg
END:VEVENT
END:VCALENDAR