BEGIN:VCALENDAR
VERSION:2.0
PRODID:-//Niedersächsische LandNews - ECPv6.15.20//NONSGML v1.0//EN
CALSCALE:GREGORIAN
METHOD:PUBLISH
X-WR-CALNAME:Niedersächsische LandNews
X-ORIGINAL-URL:https://niedersachsen.stadtlandnews.com
X-WR-CALDESC:Veranstaltungen für Niedersächsische LandNews
REFRESH-INTERVAL;VALUE=DURATION:PT1H
X-Robots-Tag:noindex
X-PUBLISHED-TTL:PT1H
BEGIN:VTIMEZONE
TZID:Europe/Berlin
BEGIN:DAYLIGHT
TZOFFSETFROM:+0100
TZOFFSETTO:+0200
TZNAME:CEST
DTSTART:20220327T010000
END:DAYLIGHT
BEGIN:STANDARD
TZOFFSETFROM:+0200
TZOFFSETTO:+0100
TZNAME:CET
DTSTART:20221030T010000
END:STANDARD
BEGIN:DAYLIGHT
TZOFFSETFROM:+0100
TZOFFSETTO:+0200
TZNAME:CEST
DTSTART:20230326T010000
END:DAYLIGHT
BEGIN:STANDARD
TZOFFSETFROM:+0200
TZOFFSETTO:+0100
TZNAME:CET
DTSTART:20231029T010000
END:STANDARD
BEGIN:DAYLIGHT
TZOFFSETFROM:+0100
TZOFFSETTO:+0200
TZNAME:CEST
DTSTART:20240331T010000
END:DAYLIGHT
BEGIN:STANDARD
TZOFFSETFROM:+0200
TZOFFSETTO:+0100
TZNAME:CET
DTSTART:20241027T010000
END:STANDARD
END:VTIMEZONE
BEGIN:VEVENT
DTSTART;TZID=Europe/Berlin:20231205T150000
DTEND;TZID=Europe/Berlin:20231205T180000
DTSTAMP:20260419T230725
CREATED:20231128T082635Z
LAST-MODIFIED:20231128T082635Z
UID:36902-1701788400-1701799200@niedersachsen.stadtlandnews.com
SUMMARY:Repair Café Achim
DESCRIPTION:Dampfradio\, Weltempfänger oder sonst was kaputt?\n– Keine Sorge! –\nWir vom Repair Café Achim\nbekommen das schon wieder hin!\nOb Kaffeemaschine\, Kamera\, Föhn\, Uhr\, Computer\, Handy\, Radio\, Mixer\,\nNähmaschine\, Staubsauger\, Spielzeug\, Hose oder Lieblingsgegenstand\n– wir reparieren fast alles – \nEhrenamtliche Mitarbeiter des Repair Cafés Achim reparieren mit Ihnen zusammen in entspannter Atmosphäre bei nettem Klönschnack mit Kaffee und Kuchen. \nDas Angebot ist kostenlos. Über eine kleine Spende würden wir uns freuen.
URL:https://niedersachsen.stadtlandnews.com/event/repair-cafe-achim-10/
LOCATION:Niedersachsen
ATTACH;FMTTYPE=image/jpeg:https://niedersachsen.stadtlandnews.com/wp-content/uploads/sites/6/2023/11/Reparatur-Kofferradio-DigDoerfer.jpg
ORGANIZER;CN="Repair Caf%C3%A9 Achim":MAILTO:info@repaircafe-achim.de
END:VEVENT
BEGIN:VEVENT
DTSTART;TZID=Europe/Berlin:20231212T150000
DTEND;TZID=Europe/Berlin:20231212T180000
DTSTAMP:20260419T230725
CREATED:20231204T093953Z
LAST-MODIFIED:20231204T093953Z
UID:37202-1702393200-1702404000@niedersachsen.stadtlandnews.com
SUMMARY:Repair Café Achim
DESCRIPTION:Lichterkette oder sonst was kaputt?\n– Keine Sorge! –\nWir vom Repair Café Achim\nbekommen das schon wieder hin!\nOb Kaffeemaschine\, Kamera\, Föhn\, Uhr\, Computer\, Handy\, Radio\, Mixer\,\nNähmaschine\, Staubsauger\, Spielzeug\, Hose oder Lieblingsgegenstand\n– wir reparieren fast alles – \nEhrenamtliche Mitarbeiter des Repair Cafés Achim reparieren mit Ihnen zusammen in entspannter Atmosphäre bei nettem Klönschnack mit Kaffee und Kuchen. \nDas Angebot ist kostenlos. Über eine kleine Spende würden wir uns freuen.
URL:https://niedersachsen.stadtlandnews.com/event/repair-cafe-achim-11/
LOCATION:Niedersachsen
ATTACH;FMTTYPE=image/jpeg:https://niedersachsen.stadtlandnews.com/wp-content/uploads/sites/6/2023/12/Lichterkette-Dig-Doerfer.jpg
ORGANIZER;CN="Repair Caf%C3%A9 Achim":MAILTO:info@repaircafe-achim.de
END:VEVENT
BEGIN:VEVENT
DTSTART;TZID=Europe/Berlin:20231219T150000
DTEND;TZID=Europe/Berlin:20231219T180000
DTSTAMP:20260419T230725
CREATED:20231212T105137Z
LAST-MODIFIED:20231212T105137Z
UID:37493-1702998000-1703008800@niedersachsen.stadtlandnews.com
SUMMARY:Repair Café Achim
DESCRIPTION:Kopf ab?  Oder sonst was kaputt?\n– Keine Sorge! –\nWir vom Repair Café Achim\nbekommen das schon wieder hin!\nOb Kaffeemaschine\, Kamera\, Föhn\, Uhr\, Computer\, Handy\, Radio\, Mixer\,\nNähmaschine\, Staubsauger\, Spielzeug\, Hose oder Lieblingsgegenstand\n– wir reparieren fast alles – \nEhrenamtliche Mitarbeiter des Repair Cafés Achim reparieren mit Ihnen zusammen in entspannter Atmosphäre bei nettem Klönschnack mit Kaffee und Kuchen. \nDas Angebot ist kostenlos. Über eine kleine Spende würden wir uns freuen.
URL:https://niedersachsen.stadtlandnews.com/event/repair-cafe-achim-12/
LOCATION:Niedersachsen
ATTACH;FMTTYPE=image/jpeg:https://niedersachsen.stadtlandnews.com/wp-content/uploads/sites/6/2023/12/Engel-Kopf-Ab-Dig-Doerfer.jpg
ORGANIZER;CN="Repair Caf%C3%A9 Achim":MAILTO:info@repaircafe-achim.de
END:VEVENT
END:VCALENDAR