BEGIN:VCALENDAR
VERSION:2.0
PRODID:-//Niedersächsische LandNews - ECPv6.15.20//NONSGML v1.0//EN
CALSCALE:GREGORIAN
METHOD:PUBLISH
X-WR-CALNAME:Niedersächsische LandNews
X-ORIGINAL-URL:https://niedersachsen.stadtlandnews.com
X-WR-CALDESC:Veranstaltungen für Niedersächsische LandNews
REFRESH-INTERVAL;VALUE=DURATION:PT1H
X-Robots-Tag:noindex
X-PUBLISHED-TTL:PT1H
BEGIN:VTIMEZONE
TZID:Europe/Berlin
BEGIN:DAYLIGHT
TZOFFSETFROM:+0100
TZOFFSETTO:+0200
TZNAME:CEST
DTSTART:20230326T010000
END:DAYLIGHT
BEGIN:STANDARD
TZOFFSETFROM:+0200
TZOFFSETTO:+0100
TZNAME:CET
DTSTART:20231029T010000
END:STANDARD
BEGIN:DAYLIGHT
TZOFFSETFROM:+0100
TZOFFSETTO:+0200
TZNAME:CEST
DTSTART:20240331T010000
END:DAYLIGHT
BEGIN:STANDARD
TZOFFSETFROM:+0200
TZOFFSETTO:+0100
TZNAME:CET
DTSTART:20241027T010000
END:STANDARD
BEGIN:DAYLIGHT
TZOFFSETFROM:+0100
TZOFFSETTO:+0200
TZNAME:CEST
DTSTART:20250330T010000
END:DAYLIGHT
BEGIN:STANDARD
TZOFFSETFROM:+0200
TZOFFSETTO:+0100
TZNAME:CET
DTSTART:20251026T010000
END:STANDARD
END:VTIMEZONE
BEGIN:VEVENT
DTSTART;TZID=Europe/Berlin:20240309T140000
DTEND;TZID=Europe/Berlin:20240309T170000
DTSTAMP:20260419T194817
CREATED:20240228T144906Z
LAST-MODIFIED:20240228T144906Z
UID:39430-1709992800-1710003600@niedersachsen.stadtlandnews.com
SUMMARY:Frühlingsmarkt: Schunterbunt und die Gemeinde laden ein!
DESCRIPTION:Schunterbunt lädt Groß und Klein herzlichst gern nach Räbke ein.\nLasst uns den Frühling hier begrüßen\, mit Torte uns die Zeit versüßen.\nNebst Kaffee und Kuchen\, Hobbykünstler uns besuchen. Ihre Arbeit uns zu präsentieren\, für den Frühling uns zu inspirieren.\nMit den Kindern – ist doch klar\, basteln wir ganz wunderbar; unter Anleitung ist’s gar nicht schwer\, kommt gern zur Bastelstube her.
URL:https://niedersachsen.stadtlandnews.com/event/fruehlingsmarkt-schunterbunt-und-die-gemeinde-laden-ein/
LOCATION:Jugend- und Gästehaus Räbke\, Am Sportplatz 2\, Räbke\, Niedersachsen\, 38375\, Deutschland
ATTACH;FMTTYPE=image/jpeg:https://niedersachsen.stadtlandnews.com/wp-content/uploads/sites/6/2024/02/IMG-20240221-WA0002-e1709117577391.jpg
END:VEVENT
END:VCALENDAR