BEGIN:VCALENDAR
VERSION:2.0
PRODID:-//Niedersächsische LandNews - ECPv6.15.20//NONSGML v1.0//EN
CALSCALE:GREGORIAN
METHOD:PUBLISH
X-ORIGINAL-URL:https://niedersachsen.stadtlandnews.com
X-WR-CALDESC:Veranstaltungen für Niedersächsische LandNews
REFRESH-INTERVAL;VALUE=DURATION:PT1H
X-Robots-Tag:noindex
X-PUBLISHED-TTL:PT1H
BEGIN:VTIMEZONE
TZID:Europe/Berlin
BEGIN:DAYLIGHT
TZOFFSETFROM:+0100
TZOFFSETTO:+0200
TZNAME:CEST
DTSTART:20230326T010000
END:DAYLIGHT
BEGIN:STANDARD
TZOFFSETFROM:+0200
TZOFFSETTO:+0100
TZNAME:CET
DTSTART:20231029T010000
END:STANDARD
BEGIN:DAYLIGHT
TZOFFSETFROM:+0100
TZOFFSETTO:+0200
TZNAME:CEST
DTSTART:20240331T010000
END:DAYLIGHT
BEGIN:STANDARD
TZOFFSETFROM:+0200
TZOFFSETTO:+0100
TZNAME:CET
DTSTART:20241027T010000
END:STANDARD
BEGIN:DAYLIGHT
TZOFFSETFROM:+0100
TZOFFSETTO:+0200
TZNAME:CEST
DTSTART:20250330T010000
END:DAYLIGHT
BEGIN:STANDARD
TZOFFSETFROM:+0200
TZOFFSETTO:+0100
TZNAME:CET
DTSTART:20251026T010000
END:STANDARD
END:VTIMEZONE
BEGIN:VEVENT
DTSTART;TZID=Europe/Berlin:20240215T190000
DTEND;TZID=Europe/Berlin:20240215T203000
DTSTAMP:20260420T004857
CREATED:20240213T090556Z
LAST-MODIFIED:20240213T090556Z
UID:39088-1708023600-1708029000@niedersachsen.stadtlandnews.com
SUMMARY:Vortrag zur Seenotrettung
DESCRIPTION:Am Donnerstag (15.2.) lädt das Museum Friedland um 19 Uhr zu einem Vortrag über die Seenotrettung im Mittelmeer ein. Till Rummenhohl erzählt über die Arbeit der Hilfsorganisation SOS Humanity. \nTill Rummenhohl ist Geschäftsführer und Head of Operation von SOS Humanity. In seinem Vortrag geht er auf den Alltag der Hilfsorganisation ein und darauf\, wie sich die Seenotrettung von 2015 bis heute verändert hat – weg vom humanitären Notfall hin zu einem hochpolitischen Thema. \nDie Fluchtroute über das Mittelmeer ist die tödlichste der Welt. Allein 2023 ertranken dort mehr als 3.000 Menschen bei dem Versuch Europa zu erreichen. Seit acht Jahren ist SOS Humanity als zivile Seenotrettungorganisation im Netzwerk des SOS Mediterranee-Verbundes im zentralen Mittelmehr im Einsatz. Rund 35.000 Menschen konnten seitdem in diesem Netzwerk gerettet werden. \nFoto: Max Cavallari
URL:https://niedersachsen.stadtlandnews.com/event/vortrag-zur-seenotrettung/
LOCATION:Museum Friedland\, Bahnhofstr. 2\, Friedland\, Niedersachsen\, 37133\, Deutschland
ATTACH;FMTTYPE=image/webp:https://niedersachsen.stadtlandnews.com/wp-content/uploads/sites/6/2024/02/20221024_Max_Cavallari_003-1.webp
ORGANIZER;CN="Museum Friedland":MAILTO:besuch@museum-friedland.de
END:VEVENT
END:VCALENDAR