BEGIN:VCALENDAR
VERSION:2.0
PRODID:-//Niedersächsische LandNews - ECPv6.15.20//NONSGML v1.0//EN
CALSCALE:GREGORIAN
METHOD:PUBLISH
X-ORIGINAL-URL:https://niedersachsen.stadtlandnews.com
X-WR-CALDESC:Veranstaltungen für Niedersächsische LandNews
REFRESH-INTERVAL;VALUE=DURATION:PT1H
X-Robots-Tag:noindex
X-PUBLISHED-TTL:PT1H
BEGIN:VTIMEZONE
TZID:Europe/Berlin
BEGIN:DAYLIGHT
TZOFFSETFROM:+0100
TZOFFSETTO:+0200
TZNAME:CEST
DTSTART:20220327T010000
END:DAYLIGHT
BEGIN:STANDARD
TZOFFSETFROM:+0200
TZOFFSETTO:+0100
TZNAME:CET
DTSTART:20221030T010000
END:STANDARD
BEGIN:DAYLIGHT
TZOFFSETFROM:+0100
TZOFFSETTO:+0200
TZNAME:CEST
DTSTART:20230326T010000
END:DAYLIGHT
BEGIN:STANDARD
TZOFFSETFROM:+0200
TZOFFSETTO:+0100
TZNAME:CET
DTSTART:20231029T010000
END:STANDARD
BEGIN:DAYLIGHT
TZOFFSETFROM:+0100
TZOFFSETTO:+0200
TZNAME:CEST
DTSTART:20240331T010000
END:DAYLIGHT
BEGIN:STANDARD
TZOFFSETFROM:+0200
TZOFFSETTO:+0100
TZNAME:CET
DTSTART:20241027T010000
END:STANDARD
END:VTIMEZONE
BEGIN:VEVENT
DTSTART;TZID=Europe/Berlin:20231020T134500
DTEND;TZID=Europe/Berlin:20231020T173000
DTSTAMP:20260420T075438
CREATED:20231012T071133Z
LAST-MODIFIED:20231012T071133Z
UID:35283-1697809500-1697823000@niedersachsen.stadtlandnews.com
SUMMARY:LEADER-Regionalmanagerin lädt zur Kennenlern-Wanderung am Vörder See
DESCRIPTION:Am Freitag 20.10. lädt die Regionalmanagerin der LEADER-Region Moorexpress-Stader Geest\, Nicola Kaatz\, alle Interessierten zu einer öffentlichen Kennenlern-Wanderung am Vörder See ein. \nWas ist „LEADER“? Wie wird aus einer Idee ein konkretes Projekt? Welche Vorhaben können gefördert werden? Und worauf ist bei einem Förderantrag zu achten? „Das Thema LEADER-Förderung ist komplex und erklärungsbedürftig. Vieles lässt sich in einem persönlichen Gespräch leichter klären als mit seitenweise Text in der Zeitung oder im Internet\,“ sagt Frau Kaatz. Darum möchte die Regionalmanagerin alle Interessierten zu einer Kennenlern-Wanderung einladen. An der frischen Luft und in ungezwungener Atmosphäre beantwortet sie alle Fragen rund um das Thema LEADER-Förderung. In eins-zu-eins Gesprächen können bereits konkrete Projektideen besprochen werden. Wer sich erstmal unverbindlich informieren oder auch einfach nur gerne mit anderen Menschen wandern möchte\, ist ebenfalls gerne gesehen. \nTreffpunkt ist beim Riesen-Ei am Parkplatz am Vörder See (Navi: Huddelberg 15\, Bremervörde). Start ist um 13:45 Uhr\, damit auch alle\, die mit der Bahn anreisen es zeitlich gut zum Treffpunkt schaffen. Gewandert wird eine verkürzte Variante des Nordpfad Vörder See-Osteland\, ca. 10\,3 km. Bei schlechtem Wetter kann die Strecke abgekürzt werden. Den Abschluss des Tages bildet eine gemeinsame Einkehr im „Haus am See“\, Speisen und Getränke auf Selbstzahlerbasis. \nUm Anmeldung bis 18.10. wird gebeten\, unter 04164 887175 oder ni**********@*******ld.de  \nKurzentschlossene sind aber auch herzlich willkommen! \nEckdaten: \nWann? Freitag\, 20.10.\, 13:45 Uhr\nWo? Ab Riesen-Ei am Vörder See (Huddelberg 15\, Bremervörde)\nWas? Verkürzte Wanderung des Nordpfad Vörder See-Osteland\nWie lange? 10\,3 km\, ca. 3 – 3\,5h\nWie viel? Teilnahme kostenlos; optional anschließende Einkehr auf Selbstzahlerbasis \nStrecke Kennenlern-Wanderung Vörder See
URL:https://niedersachsen.stadtlandnews.com/event/leader-regionalmanagerin-laedt-zur-kennenlern-wanderung-am-voerder-see/
LOCATION:Vörder See\, Huddelberg 15\, Bremervörde\, Niedersachsen\, 27432\, Deutschland
ATTACH;FMTTYPE=image/jpeg:https://niedersachsen.stadtlandnews.com/wp-content/uploads/sites/6/2023/10/Seemann-Voerder-See.jpg
ORGANIZER;CN="LEADER-Region Moorexpress-Stader Geest":MAILTO:nicola.kaatz@harsefeld.de
END:VEVENT
END:VCALENDAR