BEGIN:VCALENDAR
VERSION:2.0
PRODID:-//Niedersächsische LandNews - ECPv6.15.20//NONSGML v1.0//EN
CALSCALE:GREGORIAN
METHOD:PUBLISH
X-ORIGINAL-URL:https://niedersachsen.stadtlandnews.com
X-WR-CALDESC:Veranstaltungen für Niedersächsische LandNews
REFRESH-INTERVAL;VALUE=DURATION:PT1H
X-Robots-Tag:noindex
X-PUBLISHED-TTL:PT1H
BEGIN:VTIMEZONE
TZID:Europe/Berlin
BEGIN:DAYLIGHT
TZOFFSETFROM:+0100
TZOFFSETTO:+0200
TZNAME:CEST
DTSTART:20220327T010000
END:DAYLIGHT
BEGIN:STANDARD
TZOFFSETFROM:+0200
TZOFFSETTO:+0100
TZNAME:CET
DTSTART:20221030T010000
END:STANDARD
BEGIN:DAYLIGHT
TZOFFSETFROM:+0100
TZOFFSETTO:+0200
TZNAME:CEST
DTSTART:20230326T010000
END:DAYLIGHT
BEGIN:STANDARD
TZOFFSETFROM:+0200
TZOFFSETTO:+0100
TZNAME:CET
DTSTART:20231029T010000
END:STANDARD
BEGIN:DAYLIGHT
TZOFFSETFROM:+0100
TZOFFSETTO:+0200
TZNAME:CEST
DTSTART:20240331T010000
END:DAYLIGHT
BEGIN:STANDARD
TZOFFSETFROM:+0200
TZOFFSETTO:+0100
TZNAME:CET
DTSTART:20241027T010000
END:STANDARD
END:VTIMEZONE
BEGIN:VEVENT
DTSTART;TZID=Europe/Berlin:20230930T080000
DTEND;TZID=Europe/Berlin:20230930T160000
DTSTAMP:20260422T095713
CREATED:20230928T071225Z
LAST-MODIFIED:20230928T071225Z
UID:34903-1696060800-1696089600@niedersachsen.stadtlandnews.com
SUMMARY:Äpfel für die Stiftung
DESCRIPTION:Am 30.09. findet wieder unsere Apfelaktion statt. \nWer für den neuen Apfelsaft Äpfel spenden möchte\, kann seine Äpfel wieder an den bekannten Abgabestelle in die Kisten füllen. \nGlinstedt:               Feuerwehrhaus \n  Ostereistedt:         Mühle \n  Rhadereistedt:     Hinrich Poppe \n  Hanstedt:               Johannes Bohling  \n  Rhade:                    Gemeindehaus \nDie Äpfel werden am 30. September nach Heeslingen gebracht und in „Koenekes Hofladen“ in Augenschein genommen\, dort gewaschen und gepresst und heraus kommt naturtrüber Apfelsaft im 5 L Behältnis. \nAb Mitte Oktober gibt es den Apfelsaft bei HANSA LANDHANDEL in Ostereistedt zur üblichen Geschäftszeit von 7:30 bis 17:00 Uhr und im Rhader Gemeindehaus.
URL:https://niedersachsen.stadtlandnews.com/event/aepfel-fuer-die-stiftung/
ATTACH;FMTTYPE=image/jpeg:https://niedersachsen.stadtlandnews.com/wp-content/uploads/sites/6/2023/09/Apfelsaft.jpg
END:VEVENT
END:VCALENDAR