BEGIN:VCALENDAR
VERSION:2.0
PRODID:-//Niedersächsische LandNews - ECPv6.15.20//NONSGML v1.0//EN
CALSCALE:GREGORIAN
METHOD:PUBLISH
X-WR-CALNAME:Niedersächsische LandNews
X-ORIGINAL-URL:https://niedersachsen.stadtlandnews.com
X-WR-CALDESC:Veranstaltungen für Niedersächsische LandNews
REFRESH-INTERVAL;VALUE=DURATION:PT1H
X-Robots-Tag:noindex
X-PUBLISHED-TTL:PT1H
BEGIN:VTIMEZONE
TZID:Europe/Berlin
BEGIN:DAYLIGHT
TZOFFSETFROM:+0100
TZOFFSETTO:+0200
TZNAME:CEST
DTSTART:20220327T010000
END:DAYLIGHT
BEGIN:STANDARD
TZOFFSETFROM:+0200
TZOFFSETTO:+0100
TZNAME:CET
DTSTART:20221030T010000
END:STANDARD
BEGIN:DAYLIGHT
TZOFFSETFROM:+0100
TZOFFSETTO:+0200
TZNAME:CEST
DTSTART:20230326T010000
END:DAYLIGHT
BEGIN:STANDARD
TZOFFSETFROM:+0200
TZOFFSETTO:+0100
TZNAME:CET
DTSTART:20231029T010000
END:STANDARD
BEGIN:DAYLIGHT
TZOFFSETFROM:+0100
TZOFFSETTO:+0200
TZNAME:CEST
DTSTART:20240331T010000
END:DAYLIGHT
BEGIN:STANDARD
TZOFFSETFROM:+0200
TZOFFSETTO:+0100
TZNAME:CET
DTSTART:20241027T010000
END:STANDARD
END:VTIMEZONE
BEGIN:VEVENT
DTSTART;TZID=Europe/Berlin:20230701T190000
DTEND;TZID=Europe/Berlin:20230702T030000
DTSTAMP:20260420T082305
CREATED:20230619T051339Z
LAST-MODIFIED:20230619T051339Z
UID:31382-1688238000-1688266800@niedersachsen.stadtlandnews.com
SUMMARY:Jubiläumsball des TSV Rhade am 1.7.2023
DESCRIPTION:Der TSV Rhade lädt ein zum Jubiläumsball 100² im Festzelt auf dem Sportplatz. \nEs wird die Band EIGHTZERO aus Hamburg für uns spielen nachdem Grußworte ausgerichtet wurden.
URL:https://niedersachsen.stadtlandnews.com/event/jubilaeumsball-des-tsv-rhade-am-1-7-2023/
LOCATION:Sportplatz Rhade\, Am Sportplatz\, Rhade\, Niedersachsen\, 27404\, Deutschland
ORGANIZER;CN="TSV Rhade e.V.":MAILTO:post@tsv-rhade.de
END:VEVENT
BEGIN:VEVENT
DTSTART;TZID=Europe/Berlin:20230702T110000
DTEND;TZID=Europe/Berlin:20230702T180000
DTSTAMP:20260420T082305
CREATED:20230619T051442Z
LAST-MODIFIED:20230619T051442Z
UID:31387-1688295600-1688320800@niedersachsen.stadtlandnews.com
SUMMARY:Rhader Tag der Vereine
DESCRIPTION:Die Gemeinde Rhade lädt zusammen mit dem TSV Rhade und der Kirchengemeinde Rhade zum Tag der Vereine am 02.07.2023 \nNach einem öffenlichen Gottesdienst um 11 Uhr findet ab 12:15 eine Feierstunde als geschlossene Veranstaltung für Ehrenamtliche statt.\nAb 14 Uhr sind Alle eingeladen\, am Rhader Tag der Vereine teilzunehmen. \nDie Veranstaltung wird gefördert im Rahmen des Programms “Engagiertes Land” der Deutschen Stiftung für Ehrenamt und Engagement (www.d-s-e-e.de).
URL:https://niedersachsen.stadtlandnews.com/event/rhader-tag-der-vereine/
LOCATION:Sportplatz Rhade\, Am Sportplatz\, Rhade\, Niedersachsen\, 27404\, Deutschland
ORGANIZER;CN="TSV Rhade e.V.":MAILTO:post@tsv-rhade.de
END:VEVENT
END:VCALENDAR