BEGIN:VCALENDAR
VERSION:2.0
PRODID:-//Niedersächsische LandNews - ECPv6.15.20//NONSGML v1.0//EN
CALSCALE:GREGORIAN
METHOD:PUBLISH
X-WR-CALNAME:Niedersächsische LandNews
X-ORIGINAL-URL:https://niedersachsen.stadtlandnews.com
X-WR-CALDESC:Veranstaltungen für Niedersächsische LandNews
REFRESH-INTERVAL;VALUE=DURATION:PT1H
X-Robots-Tag:noindex
X-PUBLISHED-TTL:PT1H
BEGIN:VTIMEZONE
TZID:Europe/Berlin
BEGIN:DAYLIGHT
TZOFFSETFROM:+0100
TZOFFSETTO:+0200
TZNAME:CEST
DTSTART:20220327T010000
END:DAYLIGHT
BEGIN:STANDARD
TZOFFSETFROM:+0200
TZOFFSETTO:+0100
TZNAME:CET
DTSTART:20221030T010000
END:STANDARD
BEGIN:DAYLIGHT
TZOFFSETFROM:+0100
TZOFFSETTO:+0200
TZNAME:CEST
DTSTART:20230326T010000
END:DAYLIGHT
BEGIN:STANDARD
TZOFFSETFROM:+0200
TZOFFSETTO:+0100
TZNAME:CET
DTSTART:20231029T010000
END:STANDARD
BEGIN:DAYLIGHT
TZOFFSETFROM:+0100
TZOFFSETTO:+0200
TZNAME:CEST
DTSTART:20240331T010000
END:DAYLIGHT
BEGIN:STANDARD
TZOFFSETFROM:+0200
TZOFFSETTO:+0100
TZNAME:CET
DTSTART:20241027T010000
END:STANDARD
END:VTIMEZONE
BEGIN:VEVENT
DTSTART;TZID=Europe/Berlin:20230311T100000
DTEND;TZID=Europe/Berlin:20230311T150000
DTSTAMP:20260420T205634
CREATED:20230206T080835Z
LAST-MODIFIED:20230206T080835Z
UID:23386-1678528800-1678546800@niedersachsen.stadtlandnews.com
SUMMARY:Zukunftswerkstatt Rhade und Rhadereistedt
DESCRIPTION:Im Rahmen des Projektes Engagiertes Land veranstaltet „Wir sind Rhade“ eine Zukunftswerkstatt am 11.3.2023 im Gemeindehaus der St.-Galluskirchengemeinde\, Schulstraße 2\, 27404 Rhade. \nFolgenden Ablauf ist geplant: \n10:00 Dörferbesichtigung\n11:00 Auswertung der Landinventur\n12:00 Mittagspause\n13:00 Status Quo Vereine und Institutionen\n14:00 Impulse für die Zukunft (Synergie\, Kooperation)\n15:00 Ende \nInteressierte können sich bei Olaf Wendelken\, Tel. 0173 57 45 382 anmelden oder weitere Informationen bekommen.
URL:https://niedersachsen.stadtlandnews.com/event/zukunftswerkstatt-rhade-und-rhadereistedt/
LOCATION:Gemeindehaus Rhade\, Hauptstrasse 10\, Hauptstraße 10\, 27404 Rhade\, Niedersachsen\, 27404\, Deutschland
ATTACH;FMTTYPE=image/png:https://niedersachsen.stadtlandnews.com/wp-content/uploads/sites/6/2022/12/A050CFF5-F8B6-4691-A74E-3B0ED1816BB3.png
END:VEVENT
END:VCALENDAR